BEGIN:VCALENDAR
VERSION:2.0
PRODID:-//Kloster Heilig Kreuz - ECPv6.0.11//NONSGML v1.0//EN
CALSCALE:GREGORIAN
METHOD:PUBLISH
X-ORIGINAL-URL:https://www.kloster-heilig-kreuz.de
X-WR-CALDESC:Veranstaltungen für Kloster Heilig Kreuz
REFRESH-INTERVAL;VALUE=DURATION:PT1H
X-Robots-Tag:noindex
X-PUBLISHED-TTL:PT1H
BEGIN:VTIMEZONE
TZID:Europe/Berlin
BEGIN:DAYLIGHT
TZOFFSETFROM:+0100
TZOFFSETTO:+0200
TZNAME:CEST
DTSTART:20230326T010000
END:DAYLIGHT
BEGIN:STANDARD
TZOFFSETFROM:+0200
TZOFFSETTO:+0100
TZNAME:CET
DTSTART:20231029T010000
END:STANDARD
END:VTIMEZONE
BEGIN:VEVENT
DTSTART;TZID=Europe/Berlin:20230507T100000
DTEND;TZID=Europe/Berlin:20230507T120000
DTSTAMP:20260423T133426
CREATED:20230418T093334Z
LAST-MODIFIED:20230418T093334Z
UID:2062-1683453600-1683460800@www.kloster-heilig-kreuz.de
SUMMARY:Kontemplation und Herzensgebet
DESCRIPTION:
URL:https://www.kloster-heilig-kreuz.de/veranstaltungen/kontemplation-und-herzensgebet/
LOCATION:Meditations- und Gottesdienstraum des Geistlichen Zentrums
END:VEVENT
BEGIN:VEVENT
DTSTART;TZID=Europe/Berlin:20230507T150000
DTEND;TZID=Europe/Berlin:20230507T170000
DTSTAMP:20260423T133426
CREATED:20230418T093449Z
LAST-MODIFIED:20230418T093449Z
UID:2064-1683471600-1683478800@www.kloster-heilig-kreuz.de
SUMMARY:Hl. Messe und Zusammenkunft der spanischsprachigen Gemeinde
DESCRIPTION:
URL:https://www.kloster-heilig-kreuz.de/veranstaltungen/hl-messe-und-zusammenkunft-der-spanischsprachigen-gemeinde/
END:VEVENT
BEGIN:VEVENT
DTSTART;TZID=Europe/Berlin:20230507T180000
DTEND;TZID=Europe/Berlin:20230507T190000
DTSTAMP:20260423T133426
CREATED:20230418T093248Z
LAST-MODIFIED:20230418T093248Z
UID:2060-1683482400-1683486000@www.kloster-heilig-kreuz.de
SUMMARY:Heilige Messe
DESCRIPTION:
URL:https://www.kloster-heilig-kreuz.de/veranstaltungen/heilige-messe-19/
LOCATION:Klosterkirche
END:VEVENT
END:VCALENDAR