BEGIN:VCALENDAR
VERSION:2.0
PRODID:-//Kloster Heilig Kreuz - ECPv6.0.11//NONSGML v1.0//EN
CALSCALE:GREGORIAN
METHOD:PUBLISH
X-ORIGINAL-URL:https://www.kloster-heilig-kreuz.de
X-WR-CALDESC:Veranstaltungen für Kloster Heilig Kreuz
REFRESH-INTERVAL;VALUE=DURATION:PT1H
X-Robots-Tag:noindex
X-PUBLISHED-TTL:PT1H
BEGIN:VTIMEZONE
TZID:Europe/Berlin
BEGIN:DAYLIGHT
TZOFFSETFROM:+0100
TZOFFSETTO:+0200
TZNAME:CEST
DTSTART:20230326T010000
END:DAYLIGHT
BEGIN:STANDARD
TZOFFSETFROM:+0200
TZOFFSETTO:+0100
TZNAME:CET
DTSTART:20231029T010000
END:STANDARD
END:VTIMEZONE
BEGIN:VEVENT
DTSTART;TZID=Europe/Berlin:20230512T083000
DTEND;TZID=Europe/Berlin:20230512T170000
DTSTAMP:20260421T173309
CREATED:20230421T065837Z
LAST-MODIFIED:20230421T065837Z
UID:2084-1683880200-1683910800@www.kloster-heilig-kreuz.de
SUMMARY:Fortbildung Behinderten- und Rehabilitationssportverband Saarland
DESCRIPTION:
URL:https://www.kloster-heilig-kreuz.de/veranstaltungen/fortbildung-behinderten-und-rehabilitationssportverband-saarland/
END:VEVENT
BEGIN:VEVENT
DTSTART;TZID=Europe/Berlin:20230512T153000
DTEND;TZID=Europe/Berlin:20230512T163000
DTSTAMP:20260421T173309
CREATED:20230421T065922Z
LAST-MODIFIED:20230421T065922Z
UID:2086-1683905400-1683909000@www.kloster-heilig-kreuz.de
SUMMARY:Besichtigung Hostienbäckerei
DESCRIPTION:
URL:https://www.kloster-heilig-kreuz.de/veranstaltungen/besichtigung-hostienbaeckerei-2/
END:VEVENT
BEGIN:VEVENT
DTSTART;TZID=Europe/Berlin:20230512T180000
DTEND;TZID=Europe/Berlin:20230512T190000
DTSTAMP:20260421T173309
CREATED:20230421T070006Z
LAST-MODIFIED:20230421T070006Z
UID:2088-1683914400-1683918000@www.kloster-heilig-kreuz.de
SUMMARY:Heilige Messe
DESCRIPTION:
URL:https://www.kloster-heilig-kreuz.de/veranstaltungen/heilige-messe-23/
LOCATION:Klosterkirche
END:VEVENT
BEGIN:VEVENT
DTSTART;TZID=Europe/Berlin:20230512T180000
DTEND;TZID=Europe/Berlin:20230512T190000
DTSTAMP:20260421T173309
CREATED:20230512T074016Z
LAST-MODIFIED:20230512T074016Z
UID:2341-1683914400-1683918000@www.kloster-heilig-kreuz.de
SUMMARY:Heilige Messe
DESCRIPTION:
URL:https://www.kloster-heilig-kreuz.de/veranstaltungen/heilige-messe-99/
LOCATION:Klosterkirche
END:VEVENT
END:VCALENDAR