BEGIN:VCALENDAR
VERSION:2.0
PRODID:-//Kloster Heilig Kreuz - ECPv6.0.11//NONSGML v1.0//EN
CALSCALE:GREGORIAN
METHOD:PUBLISH
X-WR-CALNAME:Kloster Heilig Kreuz
X-ORIGINAL-URL:https://www.kloster-heilig-kreuz.de
X-WR-CALDESC:Veranstaltungen für Kloster Heilig Kreuz
REFRESH-INTERVAL;VALUE=DURATION:PT1H
X-Robots-Tag:noindex
X-PUBLISHED-TTL:PT1H
BEGIN:VTIMEZONE
TZID:Europe/Berlin
BEGIN:DAYLIGHT
TZOFFSETFROM:+0100
TZOFFSETTO:+0200
TZNAME:CEST
DTSTART:20230326T010000
END:DAYLIGHT
BEGIN:STANDARD
TZOFFSETFROM:+0200
TZOFFSETTO:+0100
TZNAME:CET
DTSTART:20231029T010000
END:STANDARD
END:VTIMEZONE
BEGIN:VEVENT
DTSTART;TZID=Europe/Berlin:20230613T080000
DTEND;TZID=Europe/Berlin:20230613T170000
DTSTAMP:20260421T195736
CREATED:20230613T080451Z
LAST-MODIFIED:20230613T080451Z
UID:2535-1686643200-1686675600@www.kloster-heilig-kreuz.de
SUMMARY:Fortbildung des Behinderten- und Rehasportverbandes Saar
DESCRIPTION:
URL:https://www.kloster-heilig-kreuz.de/veranstaltungen/fortbildung-des-behinderten-und-rehasportverbandes-saar-3/
LOCATION:Großer Saal des Geistlichen Zentrums
END:VEVENT
BEGIN:VEVENT
DTSTART;TZID=Europe/Berlin:20230613T080000
DTEND;TZID=Europe/Berlin:20230613T170000
DTSTAMP:20260421T195736
CREATED:20230613T080601Z
LAST-MODIFIED:20230613T080601Z
UID:2539-1686643200-1686675600@www.kloster-heilig-kreuz.de
SUMMARY:Fortbildung des Behinderten- und Rehasportverbandes Saar
DESCRIPTION:
URL:https://www.kloster-heilig-kreuz.de/veranstaltungen/fortbildung-des-behinderten-und-rehasportverbandes-saar-4/
LOCATION:Großer Saal des Geistlichen Zentrums
END:VEVENT
BEGIN:VEVENT
DTSTART;TZID=Europe/Berlin:20230613T180000
DTEND;TZID=Europe/Berlin:20230613T190000
DTSTAMP:20260421T195736
CREATED:20230428T075159Z
LAST-MODIFIED:20230428T075159Z
UID:2193-1686679200-1686682800@www.kloster-heilig-kreuz.de
SUMMARY:Heilige Messe
DESCRIPTION:
URL:https://www.kloster-heilig-kreuz.de/veranstaltungen/heilige-messe-54/
LOCATION:Klosterkirche
END:VEVENT
END:VCALENDAR