BEGIN:VCALENDAR
VERSION:2.0
PRODID:-//Kloster Heilig Kreuz - ECPv6.0.11//NONSGML v1.0//EN
CALSCALE:GREGORIAN
METHOD:PUBLISH
X-WR-CALNAME:Kloster Heilig Kreuz
X-ORIGINAL-URL:https://www.kloster-heilig-kreuz.de
X-WR-CALDESC:Veranstaltungen für Kloster Heilig Kreuz
REFRESH-INTERVAL;VALUE=DURATION:PT1H
X-Robots-Tag:noindex
X-PUBLISHED-TTL:PT1H
BEGIN:VTIMEZONE
TZID:Europe/Berlin
BEGIN:DAYLIGHT
TZOFFSETFROM:+0100
TZOFFSETTO:+0200
TZNAME:CEST
DTSTART:20230326T010000
END:DAYLIGHT
BEGIN:STANDARD
TZOFFSETFROM:+0200
TZOFFSETTO:+0100
TZNAME:CET
DTSTART:20231029T010000
END:STANDARD
END:VTIMEZONE
BEGIN:VEVENT
DTSTART;TZID=Europe/Berlin:20230708T083000
DTEND;TZID=Europe/Berlin:20230708T170000
DTSTAMP:20260421T224454
CREATED:20230428T083233Z
LAST-MODIFIED:20230428T083233Z
UID:2261-1688805000-1688835600@www.kloster-heilig-kreuz.de
SUMMARY:Fortbildung Behinderten- und Rehabilitationssportverband Saarland
DESCRIPTION:
URL:https://www.kloster-heilig-kreuz.de/veranstaltungen/fortbildung-behinderten-und-rehabilitationssportverband-saarland-4/
LOCATION:Großer Saal des Geistlichen Zentrums
END:VEVENT
BEGIN:VEVENT
DTSTART;TZID=Europe/Berlin:20230708T180000
DTEND;TZID=Europe/Berlin:20230708T190000
DTSTAMP:20260421T224454
CREATED:20230428T083306Z
LAST-MODIFIED:20230428T083306Z
UID:2263-1688839200-1688842800@www.kloster-heilig-kreuz.de
SUMMARY:Heilige Messe
DESCRIPTION:
URL:https://www.kloster-heilig-kreuz.de/veranstaltungen/heilige-messe-77/
LOCATION:Klosterkirche
END:VEVENT
END:VCALENDAR