BEGIN:VCALENDAR
VERSION:2.0
PRODID:-//Kloster Heilig Kreuz - ECPv6.0.11//NONSGML v1.0//EN
CALSCALE:GREGORIAN
METHOD:PUBLISH
X-WR-CALNAME:Kloster Heilig Kreuz
X-ORIGINAL-URL:https://www.kloster-heilig-kreuz.de
X-WR-CALDESC:Veranstaltungen für Kloster Heilig Kreuz
REFRESH-INTERVAL;VALUE=DURATION:PT1H
X-Robots-Tag:noindex
X-PUBLISHED-TTL:PT1H
BEGIN:VTIMEZONE
TZID:Europe/Berlin
BEGIN:DAYLIGHT
TZOFFSETFROM:+0100
TZOFFSETTO:+0200
TZNAME:CEST
DTSTART:20230326T010000
END:DAYLIGHT
BEGIN:STANDARD
TZOFFSETFROM:+0200
TZOFFSETTO:+0100
TZNAME:CET
DTSTART:20231029T010000
END:STANDARD
END:VTIMEZONE
BEGIN:VEVENT
DTSTART;TZID=Europe/Berlin:20230726T080000
DTEND;TZID=Europe/Berlin:20230726T170000
DTSTAMP:20260421T195731
CREATED:20230512T073512Z
LAST-MODIFIED:20230512T073512Z
UID:2325-1690358400-1690390800@www.kloster-heilig-kreuz.de
SUMMARY:Fortbildung Behinderten- und Rehabilitationssportverband Saarland
DESCRIPTION:
URL:https://www.kloster-heilig-kreuz.de/veranstaltungen/fortbildung-behinderten-und-rehabilitationssportverband-saarland-7/
LOCATION:Großer Saal des Geistlichen Zentrums
END:VEVENT
BEGIN:VEVENT
DTSTART;TZID=Europe/Berlin:20230726T180000
DTEND;TZID=Europe/Berlin:20230726T190000
DTSTAMP:20260421T195731
CREATED:20230512T073436Z
LAST-MODIFIED:20230512T073436Z
UID:2323-1690394400-1690398000@www.kloster-heilig-kreuz.de
SUMMARY:Heilige Messe
DESCRIPTION:
URL:https://www.kloster-heilig-kreuz.de/veranstaltungen/heilige-messe-95/
LOCATION:Klosterkirche
END:VEVENT
END:VCALENDAR