BEGIN:VCALENDAR
VERSION:2.0
PRODID:-//Kloster Heilig Kreuz - ECPv6.0.11//NONSGML v1.0//EN
CALSCALE:GREGORIAN
METHOD:PUBLISH
X-ORIGINAL-URL:https://www.kloster-heilig-kreuz.de
X-WR-CALDESC:Veranstaltungen für Kloster Heilig Kreuz
REFRESH-INTERVAL;VALUE=DURATION:PT1H
X-Robots-Tag:noindex
X-PUBLISHED-TTL:PT1H
BEGIN:VTIMEZONE
TZID:Europe/Berlin
BEGIN:DAYLIGHT
TZOFFSETFROM:+0100
TZOFFSETTO:+0200
TZNAME:CEST
DTSTART:20230326T010000
END:DAYLIGHT
BEGIN:STANDARD
TZOFFSETFROM:+0200
TZOFFSETTO:+0100
TZNAME:CET
DTSTART:20231029T010000
END:STANDARD
END:VTIMEZONE
BEGIN:VEVENT
DTSTART;TZID=Europe/Berlin:20230903T100000
DTEND;TZID=Europe/Berlin:20230903T120000
DTSTAMP:20260421T223446
CREATED:20230516T084403Z
LAST-MODIFIED:20230516T084403Z
UID:2443-1693735200-1693742400@www.kloster-heilig-kreuz.de
SUMMARY:Kontemplation und Herzensgebet
DESCRIPTION:
URL:https://www.kloster-heilig-kreuz.de/veranstaltungen/kontemplation-und-herzensgebet-3/
LOCATION:Meditations- und Gottesdienstraum des Geistlichen Zentrums
END:VEVENT
BEGIN:VEVENT
DTSTART;TZID=Europe/Berlin:20230903T180000
DTEND;TZID=Europe/Berlin:20230903T190000
DTSTAMP:20260421T223446
CREATED:20230606T073838Z
LAST-MODIFIED:20230606T073838Z
UID:2467-1693764000-1693767600@www.kloster-heilig-kreuz.de
SUMMARY:Heilige Messe
DESCRIPTION:
URL:https://www.kloster-heilig-kreuz.de/veranstaltungen/heilige-messe-134/
LOCATION:Klosterkirche
END:VEVENT
END:VCALENDAR