BEGIN:VCALENDAR
VERSION:2.0
PRODID:-//Kloster Heilig Kreuz - ECPv6.0.11//NONSGML v1.0//EN
CALSCALE:GREGORIAN
METHOD:PUBLISH
X-ORIGINAL-URL:https://www.kloster-heilig-kreuz.de
X-WR-CALDESC:Veranstaltungen für Kloster Heilig Kreuz
REFRESH-INTERVAL;VALUE=DURATION:PT1H
X-Robots-Tag:noindex
X-PUBLISHED-TTL:PT1H
BEGIN:VTIMEZONE
TZID:Europe/Berlin
BEGIN:DAYLIGHT
TZOFFSETFROM:+0100
TZOFFSETTO:+0200
TZNAME:CEST
DTSTART:20230326T010000
END:DAYLIGHT
BEGIN:STANDARD
TZOFFSETFROM:+0200
TZOFFSETTO:+0100
TZNAME:CET
DTSTART:20231029T010000
END:STANDARD
END:VTIMEZONE
BEGIN:VEVENT
DTSTART;TZID=Europe/Berlin:20230913T180000
DTEND;TZID=Europe/Berlin:20230913T190000
DTSTAMP:20260422T025627
CREATED:20230606T092244Z
LAST-MODIFIED:20230606T092244Z
UID:2496-1694628000-1694631600@www.kloster-heilig-kreuz.de
SUMMARY:Heilige Messe
DESCRIPTION:
URL:https://www.kloster-heilig-kreuz.de/veranstaltungen/heilige-messe-143/
LOCATION:Klosterkirche
END:VEVENT
BEGIN:VEVENT
DTSTART;TZID=Europe/Berlin:20230913T190000
DTEND;TZID=Europe/Berlin:20230913T203000
DTSTAMP:20260422T025627
CREATED:20230606T092327Z
LAST-MODIFIED:20230606T092327Z
UID:2498-1694631600-1694637000@www.kloster-heilig-kreuz.de
SUMMARY:Geistliche Weggemeinschaft
DESCRIPTION:
URL:https://www.kloster-heilig-kreuz.de/veranstaltungen/geistliche-weggemeinschaft-8/
LOCATION:Meditations- und Gottesdienstraum des Geistlichen Zentrums
END:VEVENT
END:VCALENDAR