BEGIN:VCALENDAR
VERSION:2.0
PRODID:-//Kloster Heilig Kreuz - ECPv6.0.11//NONSGML v1.0//EN
CALSCALE:GREGORIAN
METHOD:PUBLISH
X-WR-CALNAME:Kloster Heilig Kreuz
X-ORIGINAL-URL:https://www.kloster-heilig-kreuz.de
X-WR-CALDESC:Veranstaltungen für Kloster Heilig Kreuz
REFRESH-INTERVAL;VALUE=DURATION:PT1H
X-Robots-Tag:noindex
X-PUBLISHED-TTL:PT1H
BEGIN:VTIMEZONE
TZID:Europe/Berlin
BEGIN:DAYLIGHT
TZOFFSETFROM:+0100
TZOFFSETTO:+0200
TZNAME:CEST
DTSTART:20230326T010000
END:DAYLIGHT
BEGIN:STANDARD
TZOFFSETFROM:+0200
TZOFFSETTO:+0100
TZNAME:CET
DTSTART:20231029T010000
END:STANDARD
END:VTIMEZONE
BEGIN:VEVENT
DTSTART;TZID=Europe/Berlin:20231007T093000
DTEND;TZID=Europe/Berlin:20231007T170000
DTSTAMP:20260422T080130
CREATED:20230613T082328Z
LAST-MODIFIED:20230613T082328Z
UID:2570-1696671000-1696698000@www.kloster-heilig-kreuz.de
SUMMARY:Einkehrtag Pfarrgemeinderat Quierschied
DESCRIPTION:
URL:https://www.kloster-heilig-kreuz.de/veranstaltungen/einkehrtag-pfarrgemeinderat-quierschied/
LOCATION:Großer Saal des Geistlichen Zentrums
END:VEVENT
BEGIN:VEVENT
DTSTART;TZID=Europe/Berlin:20231007T180000
DTEND;TZID=Europe/Berlin:20231007T190000
DTSTAMP:20260422T080130
CREATED:20230620T084329Z
LAST-MODIFIED:20230620T084329Z
UID:2576-1696701600-1696705200@www.kloster-heilig-kreuz.de
SUMMARY:Heilige Messe
DESCRIPTION:
URL:https://www.kloster-heilig-kreuz.de/veranstaltungen/heilige-messe-169/
LOCATION:Klosterkirche
END:VEVENT
END:VCALENDAR