BEGIN:VCALENDAR
VERSION:2.0
PRODID:-//Kloster Heilig Kreuz - ECPv6.0.11//NONSGML v1.0//EN
CALSCALE:GREGORIAN
METHOD:PUBLISH
X-WR-CALNAME:Kloster Heilig Kreuz
X-ORIGINAL-URL:https://www.kloster-heilig-kreuz.de
X-WR-CALDESC:Veranstaltungen für Kloster Heilig Kreuz
REFRESH-INTERVAL;VALUE=DURATION:PT1H
X-Robots-Tag:noindex
X-PUBLISHED-TTL:PT1H
BEGIN:VTIMEZONE
TZID:Europe/Berlin
BEGIN:DAYLIGHT
TZOFFSETFROM:+0100
TZOFFSETTO:+0200
TZNAME:CEST
DTSTART:20230326T010000
END:DAYLIGHT
BEGIN:STANDARD
TZOFFSETFROM:+0200
TZOFFSETTO:+0100
TZNAME:CET
DTSTART:20231029T010000
END:STANDARD
END:VTIMEZONE
BEGIN:VEVENT
DTSTART;TZID=Europe/Berlin:20231008T180000
DTEND;TZID=Europe/Berlin:20231008T190000
DTSTAMP:20260424T135332
CREATED:20230425T083706Z
LAST-MODIFIED:20230425T083706Z
UID:2156-1696788000-1696791600@www.kloster-heilig-kreuz.de
SUMMARY:Heilige Messe mit Bergleuten\, anschl. "Bergmannsfrühstück"
DESCRIPTION:
URL:https://www.kloster-heilig-kreuz.de/veranstaltungen/heilige-messe-mit-bergleuten-anschl-bergmannsfruehstueck/
END:VEVENT
BEGIN:VEVENT
DTSTART;TZID=Europe/Berlin:20231008T190000
DTEND;TZID=Europe/Berlin:20231008T200000
DTSTAMP:20260424T135332
CREATED:20230425T083555Z
LAST-MODIFIED:20230425T083555Z
UID:2154-1696791600-1696795200@www.kloster-heilig-kreuz.de
SUMMARY:Eröffnung der Fotoausstellung "Glaubens- und Lebenswelt der Bergleute\, Glück auf\, Glück auf den kreuzbraven Leut" von Fotografenmeisterin Marion Sänger
DESCRIPTION:
URL:https://www.kloster-heilig-kreuz.de/veranstaltungen/eroeffnung-der-fotoausstellung-glaubens-und-lebenswelt-der-bergleute-glueck-auf-glueck-auf-den-kreuzbraven-leut-von-fotografenmeisterin-marion-saenger/
END:VEVENT
END:VCALENDAR