BEGIN:VCALENDAR
VERSION:2.0
PRODID:-//Kloster Heilig Kreuz - ECPv6.0.11//NONSGML v1.0//EN
CALSCALE:GREGORIAN
METHOD:PUBLISH
X-ORIGINAL-URL:https://www.kloster-heilig-kreuz.de
X-WR-CALDESC:Veranstaltungen für Kloster Heilig Kreuz
REFRESH-INTERVAL;VALUE=DURATION:PT1H
X-Robots-Tag:noindex
X-PUBLISHED-TTL:PT1H
BEGIN:VTIMEZONE
TZID:Europe/Berlin
BEGIN:DAYLIGHT
TZOFFSETFROM:+0100
TZOFFSETTO:+0200
TZNAME:CEST
DTSTART:20230326T010000
END:DAYLIGHT
BEGIN:STANDARD
TZOFFSETFROM:+0200
TZOFFSETTO:+0100
TZNAME:CET
DTSTART:20231029T010000
END:STANDARD
END:VTIMEZONE
BEGIN:VEVENT
DTSTART;TZID=Europe/Berlin:20231009T090000
DTEND;TZID=Europe/Berlin:20231205T120000
DTSTAMP:20260422T064700
CREATED:20230912T095308Z
LAST-MODIFIED:20230912T095308Z
UID:2913-1696842000-1701777600@www.kloster-heilig-kreuz.de
SUMMARY:Fotoausstellung Glaubens- und Lebenswelt der Bergleute "
DESCRIPTION:
URL:https://www.kloster-heilig-kreuz.de/veranstaltungen/fotoausstellung-glaubens-und-lebenswelt-der-bergleute/
LOCATION:Großer Saal des Geistlichen Zentrums
END:VEVENT
BEGIN:VEVENT
DTSTART;TZID=Europe/Berlin:20231120T180000
DTEND;TZID=Europe/Berlin:20231120T190000
DTSTAMP:20260422T064700
CREATED:20230811T074942Z
LAST-MODIFIED:20230811T074942Z
UID:2780-1700503200-1700506800@www.kloster-heilig-kreuz.de
SUMMARY:Heilige Messe
DESCRIPTION:
URL:https://www.kloster-heilig-kreuz.de/veranstaltungen/heilige-messe-212/
LOCATION:Klosterkirche
END:VEVENT
BEGIN:VEVENT
DTSTART;TZID=Europe/Berlin:20231120T190000
DTEND;TZID=Europe/Berlin:20231120T203000
DTSTAMP:20260422T064700
CREATED:20231017T090855Z
LAST-MODIFIED:20231020T082654Z
UID:2939-1700506800-1700512200@www.kloster-heilig-kreuz.de
SUMMARY:"Gott will es" - Die Kreuzzüge - Vortragsreihe mit Prof. Dr. Joachim Conrad
DESCRIPTION:
URL:https://www.kloster-heilig-kreuz.de/veranstaltungen/vortrag-im-rahmen-der-zusammenarbeit-des-geistlichen-zentrums-mit-der-evangelischen-kirchengemeinde-koelln-mit-prof-dr-joachim-conrad-kreuzzuege/
LOCATION:Großer Saal des Geistlichen Zentrums
END:VEVENT
END:VCALENDAR