BEGIN:VCALENDAR
VERSION:2.0
PRODID:-//Kloster Heilig Kreuz - ECPv6.0.11//NONSGML v1.0//EN
CALSCALE:GREGORIAN
METHOD:PUBLISH
X-WR-CALNAME:Kloster Heilig Kreuz
X-ORIGINAL-URL:https://www.kloster-heilig-kreuz.de
X-WR-CALDESC:Veranstaltungen für Kloster Heilig Kreuz
REFRESH-INTERVAL;VALUE=DURATION:PT1H
X-Robots-Tag:noindex
X-PUBLISHED-TTL:PT1H
BEGIN:VTIMEZONE
TZID:Europe/Berlin
BEGIN:DAYLIGHT
TZOFFSETFROM:+0100
TZOFFSETTO:+0200
TZNAME:CEST
DTSTART:20230326T010000
END:DAYLIGHT
BEGIN:STANDARD
TZOFFSETFROM:+0200
TZOFFSETTO:+0100
TZNAME:CET
DTSTART:20231029T010000
END:STANDARD
END:VTIMEZONE
BEGIN:VEVENT
DTSTART;TZID=Europe/Berlin:20231009T090000
DTEND;TZID=Europe/Berlin:20231205T120000
DTSTAMP:20260424T131648
CREATED:20230912T095308Z
LAST-MODIFIED:20230912T095308Z
UID:2913-1696842000-1701777600@www.kloster-heilig-kreuz.de
SUMMARY:Fotoausstellung Glaubens- und Lebenswelt der Bergleute "
DESCRIPTION:
URL:https://www.kloster-heilig-kreuz.de/veranstaltungen/fotoausstellung-glaubens-und-lebenswelt-der-bergleute/
LOCATION:Großer Saal des Geistlichen Zentrums
END:VEVENT
BEGIN:VEVENT
DTSTART;TZID=Europe/Berlin:20231205T080000
DTEND;TZID=Europe/Berlin:20231205T170000
DTSTAMP:20260424T131648
CREATED:20230811T082407Z
LAST-MODIFIED:20230811T082407Z
UID:2831-1701763200-1701795600@www.kloster-heilig-kreuz.de
SUMMARY:Heilige Messe
DESCRIPTION:
URL:https://www.kloster-heilig-kreuz.de/veranstaltungen/heilige-messe-227/
LOCATION:Klosterkirche
END:VEVENT
BEGIN:VEVENT
DTSTART;TZID=Europe/Berlin:20231205T150000
DTEND;TZID=Europe/Berlin:20231205T180000
DTSTAMP:20260424T131648
CREATED:20230811T082326Z
LAST-MODIFIED:20230811T082326Z
UID:2829-1701788400-1701799200@www.kloster-heilig-kreuz.de
SUMMARY:Treffen spanischsprachige Mission
DESCRIPTION:
URL:https://www.kloster-heilig-kreuz.de/veranstaltungen/treffen-spanischsprachige-mission/
LOCATION:Großer Saal des Geistlichen Zentrums
END:VEVENT
END:VCALENDAR