BEGIN:VCALENDAR
VERSION:2.0
PRODID:-//Kloster Heilig Kreuz - ECPv6.0.11//NONSGML v1.0//EN
CALSCALE:GREGORIAN
METHOD:PUBLISH
X-WR-CALNAME:Kloster Heilig Kreuz
X-ORIGINAL-URL:https://www.kloster-heilig-kreuz.de
X-WR-CALDESC:Veranstaltungen für Kloster Heilig Kreuz
REFRESH-INTERVAL;VALUE=DURATION:PT1H
X-Robots-Tag:noindex
X-PUBLISHED-TTL:PT1H
BEGIN:VTIMEZONE
TZID:Europe/Berlin
BEGIN:DAYLIGHT
TZOFFSETFROM:+0100
TZOFFSETTO:+0200
TZNAME:CEST
DTSTART:20240331T010000
END:DAYLIGHT
BEGIN:STANDARD
TZOFFSETFROM:+0200
TZOFFSETTO:+0100
TZNAME:CET
DTSTART:20241027T010000
END:STANDARD
END:VTIMEZONE
BEGIN:VEVENT
DTSTART;TZID=Europe/Berlin:20240126T190000
DTEND;TZID=Europe/Berlin:20240126T203000
DTSTAMP:20260422T134137
CREATED:20231222T102152Z
LAST-MODIFIED:20231222T102152Z
UID:3057-1706295600-1706301000@www.kloster-heilig-kreuz.de
SUMMARY:"In deine Hände lege ich mein Leben" - Das tägliche Gebet der Kirche - Die Komplet (Prof. Marco Benini\, Trier)
DESCRIPTION:
URL:https://www.kloster-heilig-kreuz.de/veranstaltungen/in-deine-haende-lege-ich-mein-leben-das-taegliche-gebet-der-kirche-die-komplet-prof-marco-benini-trier/
LOCATION:Großer Saal des Geistlichen Zentrums
END:VEVENT
END:VCALENDAR