BEGIN:VCALENDAR
VERSION:2.0
PRODID:-//Kloster Heilig Kreuz - ECPv6.0.11//NONSGML v1.0//EN
CALSCALE:GREGORIAN
METHOD:PUBLISH
X-WR-CALNAME:Kloster Heilig Kreuz
X-ORIGINAL-URL:https://www.kloster-heilig-kreuz.de
X-WR-CALDESC:Veranstaltungen für Kloster Heilig Kreuz
REFRESH-INTERVAL;VALUE=DURATION:PT1H
X-Robots-Tag:noindex
X-PUBLISHED-TTL:PT1H
BEGIN:VTIMEZONE
TZID:Europe/Berlin
BEGIN:DAYLIGHT
TZOFFSETFROM:+0100
TZOFFSETTO:+0200
TZNAME:CEST
DTSTART:20240331T010000
END:DAYLIGHT
BEGIN:STANDARD
TZOFFSETFROM:+0200
TZOFFSETTO:+0100
TZNAME:CET
DTSTART:20241027T010000
END:STANDARD
END:VTIMEZONE
BEGIN:VEVENT
DTSTART;TZID=Europe/Berlin:20240224T080000
DTEND;TZID=Europe/Berlin:20240224T180000
DTSTAMP:20260422T175130
CREATED:20240202T093345Z
LAST-MODIFIED:20240202T093345Z
UID:3209-1708761600-1708797600@www.kloster-heilig-kreuz.de
SUMMARY:Fortbildung Behinderten- und Rehasportverband
DESCRIPTION:
URL:https://www.kloster-heilig-kreuz.de/veranstaltungen/fortbildung-behinderten-und-rehasportverband/
LOCATION:Großer Saal des Geistlichen Zentrums
END:VEVENT
BEGIN:VEVENT
DTSTART;TZID=Europe/Berlin:20240224T180000
DTEND;TZID=Europe/Berlin:20240224T190000
DTSTAMP:20260422T175130
CREATED:20240202T093159Z
LAST-MODIFIED:20240202T093159Z
UID:3205-1708797600-1708801200@www.kloster-heilig-kreuz.de
SUMMARY:Heilige Messe
DESCRIPTION:
URL:https://www.kloster-heilig-kreuz.de/veranstaltungen/heilige-messe-275/
LOCATION:Klosterkirche
END:VEVENT
BEGIN:VEVENT
DTSTART;TZID=Europe/Berlin:20240224T200000
DTEND;TZID=Europe/Berlin:20240224T210000
DTSTAMP:20260422T175130
CREATED:20240202T093308Z
LAST-MODIFIED:20240202T093308Z
UID:3207-1708804800-1708808400@www.kloster-heilig-kreuz.de
SUMMARY:EvenSong - Musikalisches Gebet zur Nacht
DESCRIPTION:
URL:https://www.kloster-heilig-kreuz.de/veranstaltungen/evensong-musikalisches-gebet-zur-nacht/
LOCATION:Klosterkirche
END:VEVENT
BEGIN:VEVENT
DTSTART;TZID=Europe/Berlin:20240224T200000
DTEND;TZID=Europe/Berlin:20240224T213000
DTSTAMP:20260422T175130
CREATED:20231222T102837Z
LAST-MODIFIED:20231222T102837Z
UID:3065-1708804800-1708810200@www.kloster-heilig-kreuz.de
SUMMARY:Evensong
DESCRIPTION:
URL:https://www.kloster-heilig-kreuz.de/veranstaltungen/evensong/
LOCATION:Klosterkirche
END:VEVENT
END:VCALENDAR