BEGIN:VCALENDAR
VERSION:2.0
PRODID:-//Kloster Heilig Kreuz - ECPv6.0.11//NONSGML v1.0//EN
CALSCALE:GREGORIAN
METHOD:PUBLISH
X-ORIGINAL-URL:https://www.kloster-heilig-kreuz.de
X-WR-CALDESC:Veranstaltungen für Kloster Heilig Kreuz
REFRESH-INTERVAL;VALUE=DURATION:PT1H
X-Robots-Tag:noindex
X-PUBLISHED-TTL:PT1H
BEGIN:VTIMEZONE
TZID:Europe/Berlin
BEGIN:DAYLIGHT
TZOFFSETFROM:+0100
TZOFFSETTO:+0200
TZNAME:CEST
DTSTART:20240331T010000
END:DAYLIGHT
BEGIN:STANDARD
TZOFFSETFROM:+0200
TZOFFSETTO:+0100
TZNAME:CET
DTSTART:20241027T010000
END:STANDARD
END:VTIMEZONE
BEGIN:VEVENT
DTSTART;TZID=Europe/Berlin:20240227T080000
DTEND;TZID=Europe/Berlin:20240227T180000
DTSTAMP:20260424T125453
CREATED:20240202T094422Z
LAST-MODIFIED:20240202T094422Z
UID:3222-1709020800-1709056800@www.kloster-heilig-kreuz.de
SUMMARY:Fortbildung Behinderten -und Rehasportverband Saarland
DESCRIPTION:
URL:https://www.kloster-heilig-kreuz.de/veranstaltungen/fortbildung-behinderten-und-rehasportverband-saarland-3/
LOCATION:Großer Saal des Geistlichen Zentrums
END:VEVENT
BEGIN:VEVENT
DTSTART;TZID=Europe/Berlin:20240227T180000
DTEND;TZID=Europe/Berlin:20240227T190000
DTSTAMP:20260424T125453
CREATED:20240202T094450Z
LAST-MODIFIED:20240202T094450Z
UID:3224-1709056800-1709060400@www.kloster-heilig-kreuz.de
SUMMARY:Heilige Messe
DESCRIPTION:
URL:https://www.kloster-heilig-kreuz.de/veranstaltungen/heilige-messe-278/
LOCATION:Klosterkirche
END:VEVENT
END:VCALENDAR