BEGIN:VCALENDAR
VERSION:2.0
PRODID:-//Kloster Heilig Kreuz - ECPv6.0.11//NONSGML v1.0//EN
CALSCALE:GREGORIAN
METHOD:PUBLISH
X-WR-CALNAME:Kloster Heilig Kreuz
X-ORIGINAL-URL:https://www.kloster-heilig-kreuz.de
X-WR-CALDESC:Veranstaltungen für Kloster Heilig Kreuz
REFRESH-INTERVAL;VALUE=DURATION:PT1H
X-Robots-Tag:noindex
X-PUBLISHED-TTL:PT1H
BEGIN:VTIMEZONE
TZID:Europe/Berlin
BEGIN:DAYLIGHT
TZOFFSETFROM:+0100
TZOFFSETTO:+0200
TZNAME:CEST
DTSTART:20240331T010000
END:DAYLIGHT
BEGIN:STANDARD
TZOFFSETFROM:+0200
TZOFFSETTO:+0100
TZNAME:CET
DTSTART:20241027T010000
END:STANDARD
END:VTIMEZONE
BEGIN:VEVENT
DTSTART;TZID=Europe/Berlin:20240407T150000
DTEND;TZID=Europe/Berlin:20240407T170000
DTSTAMP:20260423T001719
CREATED:20240326T090402Z
LAST-MODIFIED:20240326T090402Z
UID:3643-1712502000-1712509200@www.kloster-heilig-kreuz.de
SUMMARY:Andacht zur Göttlichen Barmherzigkeit mit eucharistischer Aussetzung\, anschließend Beichtgelegenheit
DESCRIPTION:
URL:https://www.kloster-heilig-kreuz.de/veranstaltungen/andacht-zur-goettlichen-barmherzigkeit-mit-eucharistischer-aussetzung-anschliessend-beichtgelegenheit/
LOCATION:Klosterkirche
END:VEVENT
BEGIN:VEVENT
DTSTART;TZID=Europe/Berlin:20240407T171500
DTEND;TZID=Europe/Berlin:20240407T180000
DTSTAMP:20260423T001719
CREATED:20240326T090450Z
LAST-MODIFIED:20240326T090450Z
UID:3645-1712510100-1712512800@www.kloster-heilig-kreuz.de
SUMMARY:Gesungene Vesper
DESCRIPTION:
URL:https://www.kloster-heilig-kreuz.de/veranstaltungen/gesungene-vesper/
LOCATION:Klosterkirche
END:VEVENT
BEGIN:VEVENT
DTSTART;TZID=Europe/Berlin:20240407T180000
DTEND;TZID=Europe/Berlin:20240407T190000
DTSTAMP:20260423T001719
CREATED:20240216T101251Z
LAST-MODIFIED:20240326T090700Z
UID:3369-1712512800-1712516400@www.kloster-heilig-kreuz.de
SUMMARY:Festhochamt\, anschließend Verehrung der Reliquien der Hl. Sr. Faustiyna
DESCRIPTION:
URL:https://www.kloster-heilig-kreuz.de/veranstaltungen/heilige-messe-318/
END:VEVENT
BEGIN:VEVENT
DTSTART;TZID=Europe/Berlin:20240407T180000
DTEND;TZID=Europe/Berlin:20240407T190000
DTSTAMP:20260423T001719
CREATED:20240216T101333Z
LAST-MODIFIED:20240216T101333Z
UID:3371-1712512800-1712516400@www.kloster-heilig-kreuz.de
SUMMARY:Monatliche Predigt zum Jahr des Gebetes
DESCRIPTION:
URL:https://www.kloster-heilig-kreuz.de/veranstaltungen/monatliche-predigt-zum-jahr-des-gebetes-2/
LOCATION:Klosterkirche
END:VEVENT
END:VCALENDAR