BEGIN:VCALENDAR
VERSION:2.0
PRODID:-//Kloster Heilig Kreuz - ECPv6.0.11//NONSGML v1.0//EN
CALSCALE:GREGORIAN
METHOD:PUBLISH
X-WR-CALNAME:Kloster Heilig Kreuz
X-ORIGINAL-URL:https://www.kloster-heilig-kreuz.de
X-WR-CALDESC:Veranstaltungen für Kloster Heilig Kreuz
REFRESH-INTERVAL;VALUE=DURATION:PT1H
X-Robots-Tag:noindex
X-PUBLISHED-TTL:PT1H
BEGIN:VTIMEZONE
TZID:Europe/Berlin
BEGIN:DAYLIGHT
TZOFFSETFROM:+0100
TZOFFSETTO:+0200
TZNAME:CEST
DTSTART:20240331T010000
END:DAYLIGHT
BEGIN:STANDARD
TZOFFSETFROM:+0200
TZOFFSETTO:+0100
TZNAME:CET
DTSTART:20241027T010000
END:STANDARD
END:VTIMEZONE
BEGIN:VEVENT
DTSTART;TZID=Europe/Berlin:20240417T180000
DTEND;TZID=Europe/Berlin:20240417T190000
DTSTAMP:20260423T001629
CREATED:20240216T104408Z
LAST-MODIFIED:20240216T104408Z
UID:3406-1713376800-1713380400@www.kloster-heilig-kreuz.de
SUMMARY:Heilige Messe
DESCRIPTION:
URL:https://www.kloster-heilig-kreuz.de/veranstaltungen/heilige-messe-327/
LOCATION:Klosterkirche
END:VEVENT
BEGIN:VEVENT
DTSTART;TZID=Europe/Berlin:20240417T180000
DTEND;TZID=Europe/Berlin:20240417T200000
DTSTAMP:20260423T001629
CREATED:20240216T104615Z
LAST-MODIFIED:20240216T104615Z
UID:3410-1713376800-1713384000@www.kloster-heilig-kreuz.de
SUMMARY:Förderverein kath. Betreuungsvereine
DESCRIPTION:
URL:https://www.kloster-heilig-kreuz.de/veranstaltungen/foerderverein-kath-betreuungsvereine/
LOCATION:Konferenzraum des Geistlichen Zentrums
END:VEVENT
BEGIN:VEVENT
DTSTART;TZID=Europe/Berlin:20240417T190000
DTEND;TZID=Europe/Berlin:20240417T210000
DTSTAMP:20260423T001629
CREATED:20240216T104523Z
LAST-MODIFIED:20240216T104523Z
UID:3408-1713380400-1713387600@www.kloster-heilig-kreuz.de
SUMMARY:"Das wahre Antlitz des Herrn - Das Volto santo von Manoppello III" Vortrag und Autorenlesung mit Dr. med. dent. Ute Staß\, Schwalbach
DESCRIPTION:
URL:https://www.kloster-heilig-kreuz.de/veranstaltungen/das-wahre-antlitz-des-herrn-das-volto-santo-von-manoppello-iii-vortrag-und-autorenlesung-mit-dr-med-dent-ute-stass-schwalbach/
LOCATION:Großer Saal des Geistlichen Zentrums
END:VEVENT
END:VCALENDAR