BEGIN:VCALENDAR
VERSION:2.0
PRODID:-//Kloster Heilig Kreuz - ECPv6.0.11//NONSGML v1.0//EN
CALSCALE:GREGORIAN
METHOD:PUBLISH
X-WR-CALNAME:Kloster Heilig Kreuz
X-ORIGINAL-URL:https://www.kloster-heilig-kreuz.de
X-WR-CALDESC:Veranstaltungen für Kloster Heilig Kreuz
REFRESH-INTERVAL;VALUE=DURATION:PT1H
X-Robots-Tag:noindex
X-PUBLISHED-TTL:PT1H
BEGIN:VTIMEZONE
TZID:Europe/Berlin
BEGIN:DAYLIGHT
TZOFFSETFROM:+0100
TZOFFSETTO:+0200
TZNAME:CEST
DTSTART:20240331T010000
END:DAYLIGHT
BEGIN:STANDARD
TZOFFSETFROM:+0200
TZOFFSETTO:+0100
TZNAME:CET
DTSTART:20241027T010000
END:STANDARD
END:VTIMEZONE
BEGIN:VEVENT
DTSTART;TZID=Europe/Berlin:20240418T150000
DTEND;TZID=Europe/Berlin:20240418T180000
DTSTAMP:20260422T230137
CREATED:20240216T104641Z
LAST-MODIFIED:20240216T104641Z
UID:3412-1713452400-1713463200@www.kloster-heilig-kreuz.de
SUMMARY:Eucharistische Anbetung
DESCRIPTION:
URL:https://www.kloster-heilig-kreuz.de/veranstaltungen/eucharistische-anbetung-49/
LOCATION:Klosterkirche
END:VEVENT
BEGIN:VEVENT
DTSTART;TZID=Europe/Berlin:20240418T180000
DTEND;TZID=Europe/Berlin:20240418T190000
DTSTAMP:20260422T230137
CREATED:20240216T104706Z
LAST-MODIFIED:20240216T104706Z
UID:3414-1713463200-1713466800@www.kloster-heilig-kreuz.de
SUMMARY:Heilige Messe
DESCRIPTION:
URL:https://www.kloster-heilig-kreuz.de/veranstaltungen/heilige-messe-328/
LOCATION:Klosterkirche
END:VEVENT
BEGIN:VEVENT
DTSTART;TZID=Europe/Berlin:20240418T184500
DTEND;TZID=Europe/Berlin:20240418T204500
DTSTAMP:20260422T230137
CREATED:20240216T104742Z
LAST-MODIFIED:20240408T071322Z
UID:3416-1713465900-1713473100@www.kloster-heilig-kreuz.de
SUMMARY:Zeichenwerkstatt - VHS
DESCRIPTION:
URL:https://www.kloster-heilig-kreuz.de/veranstaltungen/zeichenwerkstatt-vhs-3/
LOCATION:Großer Saal des Geistlichen Zentrums
END:VEVENT
END:VCALENDAR