BEGIN:VCALENDAR
VERSION:2.0
PRODID:-//Kloster Heilig Kreuz - ECPv6.0.11//NONSGML v1.0//EN
CALSCALE:GREGORIAN
METHOD:PUBLISH
X-WR-CALNAME:Kloster Heilig Kreuz
X-ORIGINAL-URL:https://www.kloster-heilig-kreuz.de
X-WR-CALDESC:Veranstaltungen für Kloster Heilig Kreuz
REFRESH-INTERVAL;VALUE=DURATION:PT1H
X-Robots-Tag:noindex
X-PUBLISHED-TTL:PT1H
BEGIN:VTIMEZONE
TZID:Europe/Berlin
BEGIN:DAYLIGHT
TZOFFSETFROM:+0100
TZOFFSETTO:+0200
TZNAME:CEST
DTSTART:20240331T010000
END:DAYLIGHT
BEGIN:STANDARD
TZOFFSETFROM:+0200
TZOFFSETTO:+0100
TZNAME:CET
DTSTART:20241027T010000
END:STANDARD
END:VTIMEZONE
BEGIN:VEVENT
DTSTART;TZID=Europe/Berlin:20240425T080000
DTEND;TZID=Europe/Berlin:20240425T170000
DTSTAMP:20260422T214152
CREATED:20240227T092610Z
LAST-MODIFIED:20240227T092610Z
UID:3466-1714032000-1714064400@www.kloster-heilig-kreuz.de
SUMMARY:Fortbildung Behinderten- und Rehasportverband Saar
DESCRIPTION:
URL:https://www.kloster-heilig-kreuz.de/veranstaltungen/fortbildung-behinderten-und-rehasportverband-saar-5/
LOCATION:Großer Saal des Geistlichen Zentrums
END:VEVENT
BEGIN:VEVENT
DTSTART;TZID=Europe/Berlin:20240425T150000
DTEND;TZID=Europe/Berlin:20240425T180000
DTSTAMP:20260422T214152
CREATED:20240227T092505Z
LAST-MODIFIED:20240227T092505Z
UID:3462-1714057200-1714068000@www.kloster-heilig-kreuz.de
SUMMARY:Eucharistische Anbetung
DESCRIPTION:
URL:https://www.kloster-heilig-kreuz.de/veranstaltungen/eucharistische-anbetung-50/
LOCATION:Klosterkirche
END:VEVENT
BEGIN:VEVENT
DTSTART;TZID=Europe/Berlin:20240425T180000
DTEND;TZID=Europe/Berlin:20240425T190000
DTSTAMP:20260422T214152
CREATED:20240227T092537Z
LAST-MODIFIED:20240227T092537Z
UID:3464-1714068000-1714071600@www.kloster-heilig-kreuz.de
SUMMARY:Heilige Messe
DESCRIPTION:
URL:https://www.kloster-heilig-kreuz.de/veranstaltungen/heilige-messe-335/
LOCATION:Klosterkirche
END:VEVENT
BEGIN:VEVENT
DTSTART;TZID=Europe/Berlin:20240425T184500
DTEND;TZID=Europe/Berlin:20240425T204500
DTSTAMP:20260422T214152
CREATED:20240227T092647Z
LAST-MODIFIED:20240408T071132Z
UID:3468-1714070700-1714077900@www.kloster-heilig-kreuz.de
SUMMARY:Zeichenwerkstatt
DESCRIPTION:
URL:https://www.kloster-heilig-kreuz.de/veranstaltungen/zeichenwerkstatt/
LOCATION:Großer Saal Geistliches Zentrum und Kirche des Klosters
END:VEVENT
END:VCALENDAR