BEGIN:VCALENDAR
VERSION:2.0
PRODID:-//Kloster Heilig Kreuz - ECPv6.0.11//NONSGML v1.0//EN
CALSCALE:GREGORIAN
METHOD:PUBLISH
X-ORIGINAL-URL:https://www.kloster-heilig-kreuz.de
X-WR-CALDESC:Veranstaltungen für Kloster Heilig Kreuz
REFRESH-INTERVAL;VALUE=DURATION:PT1H
X-Robots-Tag:noindex
X-PUBLISHED-TTL:PT1H
BEGIN:VTIMEZONE
TZID:Europe/Berlin
BEGIN:DAYLIGHT
TZOFFSETFROM:+0100
TZOFFSETTO:+0200
TZNAME:CEST
DTSTART:20240331T010000
END:DAYLIGHT
BEGIN:STANDARD
TZOFFSETFROM:+0200
TZOFFSETTO:+0100
TZNAME:CET
DTSTART:20241027T010000
END:STANDARD
END:VTIMEZONE
BEGIN:VEVENT
DTSTART;TZID=Europe/Berlin:20240908T150000
DTEND;TZID=Europe/Berlin:20240908T160000
DTSTAMP:20260422T120110
CREATED:20240621T093029Z
LAST-MODIFIED:20240621T093029Z
UID:3971-1725807600-1725811200@www.kloster-heilig-kreuz.de
SUMMARY:Heilige Messe am Coronaaltar
DESCRIPTION:
URL:https://www.kloster-heilig-kreuz.de/veranstaltungen/heilige-messe-am-coronaaltar/
END:VEVENT
BEGIN:VEVENT
DTSTART;TZID=Europe/Berlin:20240908T160000
DTEND;TZID=Europe/Berlin:20240908T210000
DTSTAMP:20260422T120110
CREATED:20240621T093139Z
LAST-MODIFIED:20240621T093139Z
UID:3973-1725811200-1725829200@www.kloster-heilig-kreuz.de
SUMMARY:Klosterfest in und um das Kloster
DESCRIPTION:
URL:https://www.kloster-heilig-kreuz.de/veranstaltungen/klosterfest-in-und-um-das-kloster/
END:VEVENT
END:VCALENDAR