BEGIN:VCALENDAR
VERSION:2.0
PRODID:-//Kloster Heilig Kreuz - ECPv6.0.11//NONSGML v1.0//EN
CALSCALE:GREGORIAN
METHOD:PUBLISH
X-ORIGINAL-URL:https://www.kloster-heilig-kreuz.de
X-WR-CALDESC:Veranstaltungen für Kloster Heilig Kreuz
REFRESH-INTERVAL;VALUE=DURATION:PT1H
X-Robots-Tag:noindex
X-PUBLISHED-TTL:PT1H
BEGIN:VTIMEZONE
TZID:Europe/Berlin
BEGIN:DAYLIGHT
TZOFFSETFROM:+0100
TZOFFSETTO:+0200
TZNAME:CEST
DTSTART:20240331T010000
END:DAYLIGHT
BEGIN:STANDARD
TZOFFSETFROM:+0200
TZOFFSETTO:+0100
TZNAME:CET
DTSTART:20241027T010000
END:STANDARD
END:VTIMEZONE
BEGIN:VEVENT
DTSTART;TZID=Europe/Berlin:20241027T160000
DTEND;TZID=Europe/Berlin:20241027T173000
DTSTAMP:20260422T080959
CREATED:20240719T083525Z
LAST-MODIFIED:20240719T083525Z
UID:4205-1730044800-1730050200@www.kloster-heilig-kreuz.de
SUMMARY:Konzert des Förderkreises Kirchenmusik St. Sebastian mit Hisako Krämer (Flügel) und Robert Frank (Violine)
DESCRIPTION:
URL:https://www.kloster-heilig-kreuz.de/veranstaltungen/konzert-des-foerderkreises-kirchenmusik-st-sebastian-mit-hisako-kraemer-fluegel-und-robert-frank-violine/
LOCATION:Klosterkirche
END:VEVENT
BEGIN:VEVENT
DTSTART;TZID=Europe/Berlin:20241027T180000
DTEND;TZID=Europe/Berlin:20241027T190000
DTSTAMP:20260422T080959
CREATED:20240719T083553Z
LAST-MODIFIED:20240719T083553Z
UID:4207-1730052000-1730055600@www.kloster-heilig-kreuz.de
SUMMARY:Heilige Messe
DESCRIPTION:
URL:https://www.kloster-heilig-kreuz.de/veranstaltungen/heilige-messe-513/
LOCATION:Klosterkirche
END:VEVENT
END:VCALENDAR