BEGIN:VCALENDAR
VERSION:2.0
PRODID:-//Kloster Heilig Kreuz - ECPv6.0.11//NONSGML v1.0//EN
CALSCALE:GREGORIAN
METHOD:PUBLISH
X-ORIGINAL-URL:https://www.kloster-heilig-kreuz.de
X-WR-CALDESC:Veranstaltungen für Kloster Heilig Kreuz
REFRESH-INTERVAL;VALUE=DURATION:PT1H
X-Robots-Tag:noindex
X-PUBLISHED-TTL:PT1H
BEGIN:VTIMEZONE
TZID:Europe/Berlin
BEGIN:DAYLIGHT
TZOFFSETFROM:+0100
TZOFFSETTO:+0200
TZNAME:CEST
DTSTART:20240331T010000
END:DAYLIGHT
BEGIN:STANDARD
TZOFFSETFROM:+0200
TZOFFSETTO:+0100
TZNAME:CET
DTSTART:20241027T010000
END:STANDARD
END:VTIMEZONE
BEGIN:VEVENT
DTSTART;TZID=Europe/Berlin:20241028T173000
DTEND;TZID=Europe/Berlin:20241028T193000
DTSTAMP:20260422T041541
CREATED:20240719T084719Z
LAST-MODIFIED:20240719T084719Z
UID:4211-1730136600-1730143800@www.kloster-heilig-kreuz.de
SUMMARY:Meditationskurs
DESCRIPTION:
URL:https://www.kloster-heilig-kreuz.de/veranstaltungen/meditationskurs-17/
LOCATION:Meditations- und Gottesdienstraum des Geistlichen Zentrums
END:VEVENT
BEGIN:VEVENT
DTSTART;TZID=Europe/Berlin:20241028T180000
DTEND;TZID=Europe/Berlin:20241028T190000
DTSTAMP:20260422T041541
CREATED:20240719T084623Z
LAST-MODIFIED:20240719T084623Z
UID:4209-1730138400-1730142000@www.kloster-heilig-kreuz.de
SUMMARY:Heilige Messe
DESCRIPTION:
URL:https://www.kloster-heilig-kreuz.de/veranstaltungen/heilige-messe-514/
LOCATION:Klosterkirche
END:VEVENT
END:VCALENDAR