BEGIN:VCALENDAR
VERSION:2.0
PRODID:-//Kloster Heilig Kreuz - ECPv6.0.11//NONSGML v1.0//EN
CALSCALE:GREGORIAN
METHOD:PUBLISH
X-WR-CALNAME:Kloster Heilig Kreuz
X-ORIGINAL-URL:https://www.kloster-heilig-kreuz.de
X-WR-CALDESC:Veranstaltungen für Kloster Heilig Kreuz
REFRESH-INTERVAL;VALUE=DURATION:PT1H
X-Robots-Tag:noindex
X-PUBLISHED-TTL:PT1H
BEGIN:VTIMEZONE
TZID:Europe/Berlin
BEGIN:DAYLIGHT
TZOFFSETFROM:+0100
TZOFFSETTO:+0200
TZNAME:CEST
DTSTART:20240331T010000
END:DAYLIGHT
BEGIN:STANDARD
TZOFFSETFROM:+0200
TZOFFSETTO:+0100
TZNAME:CET
DTSTART:20241027T010000
END:STANDARD
END:VTIMEZONE
BEGIN:VEVENT
DTSTART;TZID=Europe/Berlin:20241125T080000
DTEND;TZID=Europe/Berlin:20241125T173000
DTSTAMP:20260421T224623
CREATED:20241104T095307Z
LAST-MODIFIED:20241104T095307Z
UID:4360-1732521600-1732555800@www.kloster-heilig-kreuz.de
SUMMARY:Fortbildung des Behinderten- und Rehasportverbandes Saar
DESCRIPTION:
URL:https://www.kloster-heilig-kreuz.de/veranstaltungen/fortbildung-des-behinderten-und-rehasportverbandes-saar-35/
LOCATION:Großer Saal des Geistlichen Zentrums
END:VEVENT
BEGIN:VEVENT
DTSTART;TZID=Europe/Berlin:20241125T173000
DTEND;TZID=Europe/Berlin:20241125T193000
DTSTAMP:20260421T224623
CREATED:20241104T095340Z
LAST-MODIFIED:20241104T095340Z
UID:4362-1732555800-1732563000@www.kloster-heilig-kreuz.de
SUMMARY:Meditationskurs
DESCRIPTION:
URL:https://www.kloster-heilig-kreuz.de/veranstaltungen/meditationskurs-18/
LOCATION:Meditations- und Gottesdienstraum des Geistlichen Zentrums
END:VEVENT
BEGIN:VEVENT
DTSTART;TZID=Europe/Berlin:20241125T180000
DTEND;TZID=Europe/Berlin:20241125T190000
DTSTAMP:20260421T224623
CREATED:20241104T095233Z
LAST-MODIFIED:20241104T095233Z
UID:4358-1732557600-1732561200@www.kloster-heilig-kreuz.de
SUMMARY:Heilige Messe
DESCRIPTION:
URL:https://www.kloster-heilig-kreuz.de/veranstaltungen/heilige-messe-539/
LOCATION:Klosterkirche
END:VEVENT
END:VCALENDAR