BEGIN:VCALENDAR
VERSION:2.0
PRODID:-//Kloster Heilig Kreuz - ECPv6.0.11//NONSGML v1.0//EN
CALSCALE:GREGORIAN
METHOD:PUBLISH
X-WR-CALNAME:Kloster Heilig Kreuz
X-ORIGINAL-URL:https://www.kloster-heilig-kreuz.de
X-WR-CALDESC:Veranstaltungen für Kloster Heilig Kreuz
REFRESH-INTERVAL;VALUE=DURATION:PT1H
X-Robots-Tag:noindex
X-PUBLISHED-TTL:PT1H
BEGIN:VTIMEZONE
TZID:Europe/Berlin
BEGIN:DAYLIGHT
TZOFFSETFROM:+0100
TZOFFSETTO:+0200
TZNAME:CEST
DTSTART:20240331T010000
END:DAYLIGHT
BEGIN:STANDARD
TZOFFSETFROM:+0200
TZOFFSETTO:+0100
TZNAME:CET
DTSTART:20241027T010000
END:STANDARD
END:VTIMEZONE
BEGIN:VEVENT
DTSTART;TZID=Europe/Berlin:20241126T080000
DTEND;TZID=Europe/Berlin:20241126T180000
DTSTAMP:20260421T143306
CREATED:20241104T095455Z
LAST-MODIFIED:20241104T095455Z
UID:4366-1732608000-1732644000@www.kloster-heilig-kreuz.de
SUMMARY:Fortbildung des Behinderten- und Rehasportverbandes Saar
DESCRIPTION:
URL:https://www.kloster-heilig-kreuz.de/veranstaltungen/fortbildung-des-behinderten-und-rehasportverbandes-saar-36/
LOCATION:Großer Saal des Geistlichen Zentrums
END:VEVENT
BEGIN:VEVENT
DTSTART;TZID=Europe/Berlin:20241126T180000
DTEND;TZID=Europe/Berlin:20241126T190000
DTSTAMP:20260421T143306
CREATED:20241104T095421Z
LAST-MODIFIED:20241104T095421Z
UID:4364-1732644000-1732647600@www.kloster-heilig-kreuz.de
SUMMARY:Heilige Messe
DESCRIPTION:
URL:https://www.kloster-heilig-kreuz.de/veranstaltungen/heilige-messe-540/
LOCATION:Klosterkirche
END:VEVENT
BEGIN:VEVENT
DTSTART;TZID=Europe/Berlin:20241126T190000
DTEND;TZID=Europe/Berlin:20241126T203000
DTSTAMP:20260421T143306
CREATED:20241104T090907Z
LAST-MODIFIED:20241104T090907Z
UID:4347-1732647600-1732653000@www.kloster-heilig-kreuz.de
SUMMARY:Vortrag mit Journalist Klaus Prömpers über die Weltsynode und ihre Ergebnisse
DESCRIPTION:
URL:https://www.kloster-heilig-kreuz.de/veranstaltungen/vortrag-mit-journalist-klaus-proempers-ueber-die-weltsynode-und-ihre-ergebnisse/
LOCATION:Klosterkirche
END:VEVENT
END:VCALENDAR