BEGIN:VCALENDAR
VERSION:2.0
PRODID:-//Kloster Heilig Kreuz - ECPv6.0.11//NONSGML v1.0//EN
CALSCALE:GREGORIAN
METHOD:PUBLISH
X-ORIGINAL-URL:https://www.kloster-heilig-kreuz.de
X-WR-CALDESC:Veranstaltungen für Kloster Heilig Kreuz
REFRESH-INTERVAL;VALUE=DURATION:PT1H
X-Robots-Tag:noindex
X-PUBLISHED-TTL:PT1H
BEGIN:VTIMEZONE
TZID:Europe/Berlin
BEGIN:DAYLIGHT
TZOFFSETFROM:+0100
TZOFFSETTO:+0200
TZNAME:CEST
DTSTART:20250330T010000
END:DAYLIGHT
BEGIN:STANDARD
TZOFFSETFROM:+0200
TZOFFSETTO:+0100
TZNAME:CET
DTSTART:20251026T010000
END:STANDARD
END:VTIMEZONE
BEGIN:VEVENT
DTSTART;TZID=Europe/Berlin:20250222T083000
DTEND;TZID=Europe/Berlin:20250222T153000
DTSTAMP:20260421T234252
CREATED:20250110T085000Z
LAST-MODIFIED:20250110T085000Z
UID:4720-1740213000-1740238200@www.kloster-heilig-kreuz.de
SUMMARY:Fortbildung des Reha- und Behindertensportverbandes Saar
DESCRIPTION:
URL:https://www.kloster-heilig-kreuz.de/veranstaltungen/fortbildung-des-reha-und-behindertensportverbandes-saar-4/
LOCATION:Großer Saal des Geistlichen Zentrums
END:VEVENT
BEGIN:VEVENT
DTSTART;TZID=Europe/Berlin:20250222T180000
DTEND;TZID=Europe/Berlin:20250222T190000
DTSTAMP:20260421T234252
CREATED:20250110T084915Z
LAST-MODIFIED:20250110T084915Z
UID:4718-1740247200-1740250800@www.kloster-heilig-kreuz.de
SUMMARY:Heilige Messe
DESCRIPTION:
URL:https://www.kloster-heilig-kreuz.de/veranstaltungen/heilige-messe-620/
LOCATION:Klosterkirche
END:VEVENT
END:VCALENDAR