BEGIN:VCALENDAR
VERSION:2.0
PRODID:-//Kloster Heilig Kreuz - ECPv6.0.11//NONSGML v1.0//EN
CALSCALE:GREGORIAN
METHOD:PUBLISH
X-WR-CALNAME:Kloster Heilig Kreuz
X-ORIGINAL-URL:https://www.kloster-heilig-kreuz.de
X-WR-CALDESC:Veranstaltungen für Kloster Heilig Kreuz
REFRESH-INTERVAL;VALUE=DURATION:PT1H
X-Robots-Tag:noindex
X-PUBLISHED-TTL:PT1H
BEGIN:VTIMEZONE
TZID:Europe/Berlin
BEGIN:DAYLIGHT
TZOFFSETFROM:+0100
TZOFFSETTO:+0200
TZNAME:CEST
DTSTART:20250330T010000
END:DAYLIGHT
BEGIN:STANDARD
TZOFFSETFROM:+0200
TZOFFSETTO:+0100
TZNAME:CET
DTSTART:20251026T010000
END:STANDARD
END:VTIMEZONE
BEGIN:VEVENT
DTSTART;TZID=Europe/Berlin:20250309T150000
DTEND;TZID=Europe/Berlin:20250309T180000
DTSTAMP:20260423T134801
CREATED:20250110T104738Z
LAST-MODIFIED:20250110T104738Z
UID:4764-1741532400-1741543200@www.kloster-heilig-kreuz.de
SUMMARY:Hl. Messe und Treffen der spanischsprachigen Gemeinde
DESCRIPTION:
URL:https://www.kloster-heilig-kreuz.de/veranstaltungen/hl-messe-und-treffen-der-spanischsprachigen-gemeinde-2/
LOCATION:Großer Saal und Kirche\, Völklingerstraße 197\, Püttlingen
END:VEVENT
BEGIN:VEVENT
DTSTART;TZID=Europe/Berlin:20250309T180000
DTEND;TZID=Europe/Berlin:20250309T190000
DTSTAMP:20260423T134801
CREATED:20250110T104653Z
LAST-MODIFIED:20250110T104653Z
UID:4762-1741543200-1741546800@www.kloster-heilig-kreuz.de
SUMMARY:Heilige Messe
DESCRIPTION:
URL:https://www.kloster-heilig-kreuz.de/veranstaltungen/heilige-messe-636/
LOCATION:Klosterkirche
END:VEVENT
END:VCALENDAR