BEGIN:VCALENDAR
VERSION:2.0
PRODID:-//Kloster Heilig Kreuz - ECPv6.0.11//NONSGML v1.0//EN
CALSCALE:GREGORIAN
METHOD:PUBLISH
X-ORIGINAL-URL:https://www.kloster-heilig-kreuz.de
X-WR-CALDESC:Veranstaltungen für Kloster Heilig Kreuz
REFRESH-INTERVAL;VALUE=DURATION:PT1H
X-Robots-Tag:noindex
X-PUBLISHED-TTL:PT1H
BEGIN:VTIMEZONE
TZID:Europe/Berlin
BEGIN:DAYLIGHT
TZOFFSETFROM:+0100
TZOFFSETTO:+0200
TZNAME:CEST
DTSTART:20250330T010000
END:DAYLIGHT
BEGIN:STANDARD
TZOFFSETFROM:+0200
TZOFFSETTO:+0100
TZNAME:CET
DTSTART:20251026T010000
END:STANDARD
END:VTIMEZONE
BEGIN:VEVENT
DTSTART;TZID=Europe/Berlin:20250406T110000
DTEND;TZID=Europe/Berlin:20250406T170000
DTSTAMP:20260422T022909
CREATED:20250228T095247Z
LAST-MODIFIED:20250228T095247Z
UID:4859-1743937200-1743958800@www.kloster-heilig-kreuz.de
SUMMARY:Fußwallfahrt am Misereorsonntag von der Pfarrkirche St. Josef Elm zum Kloster Heilig Kreuz
DESCRIPTION:
URL:https://www.kloster-heilig-kreuz.de/veranstaltungen/fusswallfahrt-am-misereorsonntag-von-der-pfarrkirche-st-josef-elm-zum-kloster-heilig-kreuz/
END:VEVENT
BEGIN:VEVENT
DTSTART;TZID=Europe/Berlin:20250406T180000
DTEND;TZID=Europe/Berlin:20250406T190000
DTSTAMP:20260422T022909
CREATED:20250228T095046Z
LAST-MODIFIED:20250228T095046Z
UID:4857-1743962400-1743966000@www.kloster-heilig-kreuz.de
SUMMARY:Heilige Messe mit monatlicher Predigt zum Jahr "Pilger der Hoffnung"
DESCRIPTION:
URL:https://www.kloster-heilig-kreuz.de/veranstaltungen/heilige-messe-mit-monatlicher-predigt-zum-jahr-pilger-der-hoffnung/
LOCATION:Klosterkirche
END:VEVENT
END:VCALENDAR