BEGIN:VCALENDAR
VERSION:2.0
PRODID:-//Kloster Heilig Kreuz - ECPv6.0.11//NONSGML v1.0//EN
CALSCALE:GREGORIAN
METHOD:PUBLISH
X-WR-CALNAME:Kloster Heilig Kreuz
X-ORIGINAL-URL:https://www.kloster-heilig-kreuz.de
X-WR-CALDESC:Veranstaltungen für Kloster Heilig Kreuz
REFRESH-INTERVAL;VALUE=DURATION:PT1H
X-Robots-Tag:noindex
X-PUBLISHED-TTL:PT1H
BEGIN:VTIMEZONE
TZID:Europe/Berlin
BEGIN:DAYLIGHT
TZOFFSETFROM:+0100
TZOFFSETTO:+0200
TZNAME:CEST
DTSTART:20250330T010000
END:DAYLIGHT
BEGIN:STANDARD
TZOFFSETFROM:+0200
TZOFFSETTO:+0100
TZNAME:CET
DTSTART:20251026T010000
END:STANDARD
END:VTIMEZONE
BEGIN:VEVENT
DTSTART;TZID=Europe/Berlin:20250409T150000
DTEND;TZID=Europe/Berlin:20250409T180000
DTSTAMP:20260421T234119
CREATED:20250314T093023Z
LAST-MODIFIED:20250314T093023Z
UID:4874-1744210800-1744221600@www.kloster-heilig-kreuz.de
SUMMARY:Einkehrnachmittag Elisabethenvereine St. Josef und Maria Himmelfahrt Elm
DESCRIPTION:
URL:https://www.kloster-heilig-kreuz.de/veranstaltungen/einkehrnachmittag-elisabethenvereine-st-josef-und-maria-himmelfahrt-elm/
LOCATION:Großer Saal des Geistlichen Zentrums
END:VEVENT
BEGIN:VEVENT
DTSTART;TZID=Europe/Berlin:20250409T180000
DTEND;TZID=Europe/Berlin:20250409T190000
DTSTAMP:20260421T234119
CREATED:20250307T093242Z
LAST-MODIFIED:20250307T093242Z
UID:4866-1744221600-1744225200@www.kloster-heilig-kreuz.de
SUMMARY:Heilige Messe
DESCRIPTION:
URL:https://www.kloster-heilig-kreuz.de/veranstaltungen/heilige-messe-666/
LOCATION:Klosterkirche
END:VEVENT
BEGIN:VEVENT
DTSTART;TZID=Europe/Berlin:20250409T190000
DTEND;TZID=Europe/Berlin:20250409T203000
DTSTAMP:20260421T234119
CREATED:20250307T093458Z
LAST-MODIFIED:20250307T093458Z
UID:4870-1744225200-1744230600@www.kloster-heilig-kreuz.de
SUMMARY:Monatliches Schriftgespräch zum Sonntagsevangelium
DESCRIPTION:
URL:https://www.kloster-heilig-kreuz.de/veranstaltungen/monatliches-schriftgespraech-zum-sonntagsevangelium-4/
LOCATION:Meditations- und Gottesdienstraum des Geistlichen Zentrums
END:VEVENT
BEGIN:VEVENT
DTSTART;TZID=Europe/Berlin:20250409T190000
DTEND;TZID=Europe/Berlin:20250409T210000
DTSTAMP:20260421T234119
CREATED:20250307T093408Z
LAST-MODIFIED:20250307T093408Z
UID:4868-1744225200-1744232400@www.kloster-heilig-kreuz.de
SUMMARY:Geistliche Weggemeinschaft
DESCRIPTION:
URL:https://www.kloster-heilig-kreuz.de/veranstaltungen/geistliche-weggemeinschaft-22/
LOCATION:Konferenzraum des Geistlichen Zentrums
END:VEVENT
END:VCALENDAR