BEGIN:VCALENDAR
VERSION:2.0
PRODID:-//Kloster Heilig Kreuz - ECPv6.0.11//NONSGML v1.0//EN
CALSCALE:GREGORIAN
METHOD:PUBLISH
X-WR-CALNAME:Kloster Heilig Kreuz
X-ORIGINAL-URL:https://www.kloster-heilig-kreuz.de
X-WR-CALDESC:Veranstaltungen für Kloster Heilig Kreuz
REFRESH-INTERVAL;VALUE=DURATION:PT1H
X-Robots-Tag:noindex
X-PUBLISHED-TTL:PT1H
BEGIN:VTIMEZONE
TZID:Europe/Berlin
BEGIN:DAYLIGHT
TZOFFSETFROM:+0100
TZOFFSETTO:+0200
TZNAME:CEST
DTSTART:20250330T010000
END:DAYLIGHT
BEGIN:STANDARD
TZOFFSETFROM:+0200
TZOFFSETTO:+0100
TZNAME:CET
DTSTART:20251026T010000
END:STANDARD
END:VTIMEZONE
BEGIN:VEVENT
DTSTART;TZID=Europe/Berlin:20250522T080000
DTEND;TZID=Europe/Berlin:20250522T183000
DTSTAMP:20260421T212159
CREATED:20250325T090838Z
LAST-MODIFIED:20250325T090838Z
UID:5029-1747900800-1747938600@www.kloster-heilig-kreuz.de
SUMMARY:Fortbildung des Behinderten- und Rehasportverbandes Saarland
DESCRIPTION:
URL:https://www.kloster-heilig-kreuz.de/veranstaltungen/fortbildung-des-behinderten-und-rehasportverbandes-saarland-16/
LOCATION:Großer Saal des Geistlichen Zentrums
END:VEVENT
BEGIN:VEVENT
DTSTART;TZID=Europe/Berlin:20250522T150000
DTEND;TZID=Europe/Berlin:20250522T180000
DTSTAMP:20260421T212159
CREATED:20250325T090737Z
LAST-MODIFIED:20250325T090737Z
UID:5025-1747926000-1747936800@www.kloster-heilig-kreuz.de
SUMMARY:Eucharistische Anbetung
DESCRIPTION:
URL:https://www.kloster-heilig-kreuz.de/veranstaltungen/eucharistische-anbetung-105/
LOCATION:Klosterkirche
END:VEVENT
BEGIN:VEVENT
DTSTART;TZID=Europe/Berlin:20250522T180000
DTEND;TZID=Europe/Berlin:20250522T190000
DTSTAMP:20260421T212159
CREATED:20250325T090806Z
LAST-MODIFIED:20250325T090806Z
UID:5027-1747936800-1747940400@www.kloster-heilig-kreuz.de
SUMMARY:Heilige Messe
DESCRIPTION:
URL:https://www.kloster-heilig-kreuz.de/veranstaltungen/heilige-messe-702/
LOCATION:Klosterkirche
END:VEVENT
BEGIN:VEVENT
DTSTART;TZID=Europe/Berlin:20250522T184500
DTEND;TZID=Europe/Berlin:20250522T204500
DTSTAMP:20260421T212159
CREATED:20250325T090910Z
LAST-MODIFIED:20250325T090910Z
UID:5031-1747939500-1747946700@www.kloster-heilig-kreuz.de
SUMMARY:Zeichenwerkstatt
DESCRIPTION:
URL:https://www.kloster-heilig-kreuz.de/veranstaltungen/zeichenwerkstatt-10/
END:VEVENT
BEGIN:VEVENT
DTSTART;TZID=Europe/Berlin:20250522T190000
DTEND;TZID=Europe/Berlin:20250522T203000
DTSTAMP:20260421T212159
CREATED:20250325T091009Z
LAST-MODIFIED:20250325T091009Z
UID:5033-1747940400-1747945800@www.kloster-heilig-kreuz.de
SUMMARY:Brunnen-Abend "Den Tag unterbrechen" - Tagzeitgebete
DESCRIPTION:
URL:https://www.kloster-heilig-kreuz.de/veranstaltungen/brunnen-abend-den-tag-unterbrechen-tagzeitgebete/
END:VEVENT
END:VCALENDAR