BEGIN:VCALENDAR
VERSION:2.0
PRODID:-//Kloster Heilig Kreuz - ECPv6.0.11//NONSGML v1.0//EN
CALSCALE:GREGORIAN
METHOD:PUBLISH
X-WR-CALNAME:Kloster Heilig Kreuz
X-ORIGINAL-URL:https://www.kloster-heilig-kreuz.de
X-WR-CALDESC:Veranstaltungen für Kloster Heilig Kreuz
REFRESH-INTERVAL;VALUE=DURATION:PT1H
X-Robots-Tag:noindex
X-PUBLISHED-TTL:PT1H
BEGIN:VTIMEZONE
TZID:Europe/Berlin
BEGIN:DAYLIGHT
TZOFFSETFROM:+0100
TZOFFSETTO:+0200
TZNAME:CEST
DTSTART:20250330T010000
END:DAYLIGHT
BEGIN:STANDARD
TZOFFSETFROM:+0200
TZOFFSETTO:+0100
TZNAME:CET
DTSTART:20251026T010000
END:STANDARD
END:VTIMEZONE
BEGIN:VEVENT
DTSTART;TZID=Europe/Berlin:20250607T100000
DTEND;TZID=Europe/Berlin:20250607T150000
DTSTAMP:20260421T155930
CREATED:20250328T082100Z
LAST-MODIFIED:20250328T082100Z
UID:5097-1749290400-1749308400@www.kloster-heilig-kreuz.de
SUMMARY:".... wie ein Baum\, der an Wasserbächen gepflanzt ist" - Bibelarbeit zu Psalm 1
DESCRIPTION:
URL:https://www.kloster-heilig-kreuz.de/veranstaltungen/wie-ein-baum-der-an-wasserbaechen-gepflanzt-ist-bibelarbeit-zu-psalm-1/
LOCATION:Großer Saal des Geistlichen Zentrums
END:VEVENT
BEGIN:VEVENT
DTSTART;TZID=Europe/Berlin:20250607T180000
DTEND;TZID=Europe/Berlin:20250607T190000
DTSTAMP:20260421T155930
CREATED:20250328T081821Z
LAST-MODIFIED:20250328T081821Z
UID:5095-1749319200-1749322800@www.kloster-heilig-kreuz.de
SUMMARY:Heilige Messe
DESCRIPTION:
URL:https://www.kloster-heilig-kreuz.de/veranstaltungen/heilige-messe-717/
LOCATION:Klosterkirche
END:VEVENT
END:VCALENDAR