BEGIN:VCALENDAR
VERSION:2.0
PRODID:-//Kloster Heilig Kreuz - ECPv6.0.11//NONSGML v1.0//EN
CALSCALE:GREGORIAN
METHOD:PUBLISH
X-ORIGINAL-URL:https://www.kloster-heilig-kreuz.de
X-WR-CALDESC:Veranstaltungen für Kloster Heilig Kreuz
REFRESH-INTERVAL;VALUE=DURATION:PT1H
X-Robots-Tag:noindex
X-PUBLISHED-TTL:PT1H
BEGIN:VTIMEZONE
TZID:Europe/Berlin
BEGIN:DAYLIGHT
TZOFFSETFROM:+0100
TZOFFSETTO:+0200
TZNAME:CEST
DTSTART:20250330T010000
END:DAYLIGHT
BEGIN:STANDARD
TZOFFSETFROM:+0200
TZOFFSETTO:+0100
TZNAME:CET
DTSTART:20251026T010000
END:STANDARD
END:VTIMEZONE
BEGIN:VEVENT
DTSTART;TZID=Europe/Berlin:20250608T150000
DTEND;TZID=Europe/Berlin:20250608T180000
DTSTAMP:20260421T160112
CREATED:20250328T082250Z
LAST-MODIFIED:20250328T082250Z
UID:5101-1749394800-1749405600@www.kloster-heilig-kreuz.de
SUMMARY:Treffen der spanischsprachigen Gemeinde
DESCRIPTION:
URL:https://www.kloster-heilig-kreuz.de/veranstaltungen/treffen-der-spanischsprachigen-gemeinde-5/
LOCATION:Großer Saal Geistliches Zentrum und Kirche des Klosters
END:VEVENT
BEGIN:VEVENT
DTSTART;TZID=Europe/Berlin:20250608T180000
DTEND;TZID=Europe/Berlin:20250608T190000
DTSTAMP:20260421T160112
CREATED:20250328T082148Z
LAST-MODIFIED:20250328T082148Z
UID:5099-1749405600-1749409200@www.kloster-heilig-kreuz.de
SUMMARY:Heilige Messe
DESCRIPTION:
URL:https://www.kloster-heilig-kreuz.de/veranstaltungen/heilige-messe-718/
LOCATION:Klosterkirche
END:VEVENT
END:VCALENDAR