BEGIN:VCALENDAR
VERSION:2.0
PRODID:-//Kloster Heilig Kreuz - ECPv6.0.11//NONSGML v1.0//EN
CALSCALE:GREGORIAN
METHOD:PUBLISH
X-ORIGINAL-URL:https://www.kloster-heilig-kreuz.de
X-WR-CALDESC:Veranstaltungen für Kloster Heilig Kreuz
REFRESH-INTERVAL;VALUE=DURATION:PT1H
X-Robots-Tag:noindex
X-PUBLISHED-TTL:PT1H
BEGIN:VTIMEZONE
TZID:Europe/Berlin
BEGIN:DAYLIGHT
TZOFFSETFROM:+0100
TZOFFSETTO:+0200
TZNAME:CEST
DTSTART:20250330T010000
END:DAYLIGHT
BEGIN:STANDARD
TZOFFSETFROM:+0200
TZOFFSETTO:+0100
TZNAME:CET
DTSTART:20251026T010000
END:STANDARD
END:VTIMEZONE
BEGIN:VEVENT
DTSTART;TZID=Europe/Berlin:20250618T090000
DTEND;TZID=Europe/Berlin:20250618T153000
DTSTAMP:20260423T130037
CREATED:20250401T082516Z
LAST-MODIFIED:20250401T082600Z
UID:5142-1750237200-1750260600@www.kloster-heilig-kreuz.de
SUMMARY:Oasentag der Caritas-Akademie Saarland - Thema "Haltung"
DESCRIPTION:
URL:https://www.kloster-heilig-kreuz.de/veranstaltungen/oasentag-der-caritas-akademie-saarland-2/
LOCATION:Großer Saal des Geistlichen Zentrums
END:VEVENT
BEGIN:VEVENT
DTSTART;TZID=Europe/Berlin:20250618T180000
DTEND;TZID=Europe/Berlin:20250618T190000
DTSTAMP:20260423T130037
CREATED:20250401T082409Z
LAST-MODIFIED:20250401T082409Z
UID:5138-1750269600-1750273200@www.kloster-heilig-kreuz.de
SUMMARY:Heilige Messe
DESCRIPTION:
URL:https://www.kloster-heilig-kreuz.de/veranstaltungen/heilige-messe-726/
LOCATION:Klosterkirche
END:VEVENT
BEGIN:VEVENT
DTSTART;TZID=Europe/Berlin:20250618T190000
DTEND;TZID=Europe/Berlin:20250618T203000
DTSTAMP:20260423T130037
CREATED:20250401T082439Z
LAST-MODIFIED:20250401T082439Z
UID:5140-1750273200-1750278600@www.kloster-heilig-kreuz.de
SUMMARY:Schriftgespräch
DESCRIPTION:
URL:https://www.kloster-heilig-kreuz.de/veranstaltungen/schriftgespraech/
LOCATION:Konferenzraum des Geistlichen Zentrums
END:VEVENT
END:VCALENDAR