BEGIN:VCALENDAR
VERSION:2.0
PRODID:-//Kloster Heilig Kreuz - ECPv6.0.11//NONSGML v1.0//EN
CALSCALE:GREGORIAN
METHOD:PUBLISH
X-WR-CALNAME:Kloster Heilig Kreuz
X-ORIGINAL-URL:https://www.kloster-heilig-kreuz.de
X-WR-CALDESC:Veranstaltungen für Kloster Heilig Kreuz
REFRESH-INTERVAL;VALUE=DURATION:PT1H
X-Robots-Tag:noindex
X-PUBLISHED-TTL:PT1H
BEGIN:VTIMEZONE
TZID:Europe/Berlin
BEGIN:DAYLIGHT
TZOFFSETFROM:+0100
TZOFFSETTO:+0200
TZNAME:CEST
DTSTART:20250330T010000
END:DAYLIGHT
BEGIN:STANDARD
TZOFFSETFROM:+0200
TZOFFSETTO:+0100
TZNAME:CET
DTSTART:20251026T010000
END:STANDARD
END:VTIMEZONE
BEGIN:VEVENT
DTSTART;TZID=Europe/Berlin:20250709T180000
DTEND;TZID=Europe/Berlin:20250709T190000
DTSTAMP:20260421T125308
CREATED:20250404T091758Z
LAST-MODIFIED:20250404T091758Z
UID:5228-1752084000-1752087600@www.kloster-heilig-kreuz.de
SUMMARY:Heilige Messe
DESCRIPTION:
URL:https://www.kloster-heilig-kreuz.de/veranstaltungen/heilige-messe-745/
LOCATION:Klosterkirche
END:VEVENT
BEGIN:VEVENT
DTSTART;TZID=Europe/Berlin:20250709T190000
DTEND;TZID=Europe/Berlin:20250709T210000
DTSTAMP:20260421T125308
CREATED:20250404T091851Z
LAST-MODIFIED:20250404T091851Z
UID:5230-1752087600-1752094800@www.kloster-heilig-kreuz.de
SUMMARY:Geistliche Weggemeinschaft
DESCRIPTION:
URL:https://www.kloster-heilig-kreuz.de/veranstaltungen/geistliche-weggemeinschaft-25/
LOCATION:Konferenzraum des Geistlichen Zentrums
END:VEVENT
END:VCALENDAR