BEGIN:VCALENDAR
VERSION:2.0
PRODID:-//Kloster Heilig Kreuz - ECPv6.0.11//NONSGML v1.0//EN
CALSCALE:GREGORIAN
METHOD:PUBLISH
X-ORIGINAL-URL:https://www.kloster-heilig-kreuz.de
X-WR-CALDESC:Veranstaltungen für Kloster Heilig Kreuz
REFRESH-INTERVAL;VALUE=DURATION:PT1H
X-Robots-Tag:noindex
X-PUBLISHED-TTL:PT1H
BEGIN:VTIMEZONE
TZID:Europe/Berlin
BEGIN:DAYLIGHT
TZOFFSETFROM:+0100
TZOFFSETTO:+0200
TZNAME:CEST
DTSTART:20220327T010000
END:DAYLIGHT
BEGIN:STANDARD
TZOFFSETFROM:+0200
TZOFFSETTO:+0100
TZNAME:CET
DTSTART:20221030T010000
END:STANDARD
END:VTIMEZONE
BEGIN:VEVENT
DTSTART;TZID=Europe/Berlin:20220316T190000
DTEND;TZID=Europe/Berlin:20220316T203000
DTSTAMP:20260423T024747
CREATED:20230405T085821Z
LAST-MODIFIED:20230405T085821Z
UID:1567-1647457200-1647462600@www.kloster-heilig-kreuz.de
SUMMARY:Buchvorstellung: "Wie Kieselsteine: 100 kurze Texte an dem Strand des Lebens " von Stanislaus Klemm
DESCRIPTION:Infos zum Buch beim Verlag: \nhttps://www.geistkirch.de/index.php?route=product/product&product_id=231
URL:https://www.kloster-heilig-kreuz.de/veranstaltungen/buchvorstellung-wie-kieselsteine-100-kurze-texte-an-dem-strand-des-lebens-von-stanislaus-klemm/
END:VEVENT
END:VCALENDAR