BEGIN:VCALENDAR
VERSION:2.0
PRODID:-//Kloster Heilig Kreuz - ECPv6.0.11//NONSGML v1.0//EN
CALSCALE:GREGORIAN
METHOD:PUBLISH
X-ORIGINAL-URL:https://www.kloster-heilig-kreuz.de
X-WR-CALDESC:Veranstaltungen für Kloster Heilig Kreuz
REFRESH-INTERVAL;VALUE=DURATION:PT1H
X-Robots-Tag:noindex
X-PUBLISHED-TTL:PT1H
BEGIN:VTIMEZONE
TZID:Europe/Berlin
BEGIN:DAYLIGHT
TZOFFSETFROM:+0100
TZOFFSETTO:+0200
TZNAME:CEST
DTSTART:20230326T010000
END:DAYLIGHT
BEGIN:STANDARD
TZOFFSETFROM:+0200
TZOFFSETTO:+0100
TZNAME:CET
DTSTART:20231029T010000
END:STANDARD
END:VTIMEZONE
BEGIN:VEVENT
DTSTART;TZID=Europe/Berlin:20230201T190000
DTEND;TZID=Europe/Berlin:20230201T210000
DTSTAMP:20260421T224906
CREATED:20230131T174742Z
LAST-MODIFIED:20230131T174742Z
UID:1883-1675278000-1675285200@www.kloster-heilig-kreuz.de
SUMMARY:Geistliches Zentrum
DESCRIPTION:Übernahme der Trägerschaft des Geistlichen Zentrums des Bistums im Kloster Heilig Kreuz durch den Heilig Kreuz e.V.
URL:https://www.kloster-heilig-kreuz.de/veranstaltungen/geistliches-zentrum/
END:VEVENT
BEGIN:VEVENT
DTSTART;TZID=Europe/Berlin:20230228T180000
DTEND;TZID=Europe/Berlin:20230228T190000
DTSTAMP:20260421T224906
CREATED:20230405T085835Z
LAST-MODIFIED:20230405T085835Z
UID:1920-1677607200-1677610800@www.kloster-heilig-kreuz.de
SUMMARY:Heilige Messe
DESCRIPTION:
URL:https://www.kloster-heilig-kreuz.de/veranstaltungen/heilige-messe-2/
LOCATION:Klosterkirche
CATEGORIES:allgemeine Kirchentermine
END:VEVENT
END:VCALENDAR