BEGIN:VCALENDAR
VERSION:2.0
PRODID:-//Kloster Heilig Kreuz - ECPv6.0.11//NONSGML v1.0//EN
CALSCALE:GREGORIAN
METHOD:PUBLISH
X-WR-CALNAME:Kloster Heilig Kreuz
X-ORIGINAL-URL:https://www.kloster-heilig-kreuz.de
X-WR-CALDESC:Veranstaltungen für Kloster Heilig Kreuz
REFRESH-INTERVAL;VALUE=DURATION:PT1H
X-Robots-Tag:noindex
X-PUBLISHED-TTL:PT1H
BEGIN:VTIMEZONE
TZID:Europe/Berlin
BEGIN:DAYLIGHT
TZOFFSETFROM:+0100
TZOFFSETTO:+0200
TZNAME:CEST
DTSTART:20230326T010000
END:DAYLIGHT
BEGIN:STANDARD
TZOFFSETFROM:+0200
TZOFFSETTO:+0100
TZNAME:CET
DTSTART:20231029T010000
END:STANDARD
END:VTIMEZONE
BEGIN:VEVENT
DTSTART;TZID=Europe/Berlin:20230402T180000
DTEND;TZID=Europe/Berlin:20230402T190000
DTSTAMP:20260421T184408
CREATED:20230405T085453Z
LAST-MODIFIED:20230405T085454Z
UID:1955-1680458400-1680462000@www.kloster-heilig-kreuz.de
SUMMARY:Heilige Messe
DESCRIPTION:
URL:https://www.kloster-heilig-kreuz.de/veranstaltungen/heilige-messe/
LOCATION:Großer Saal des Geistlichen Zentrums
END:VEVENT
BEGIN:VEVENT
DTSTART;TZID=Europe/Berlin:20230418T180000
DTEND;TZID=Europe/Berlin:20230418T190000
DTSTAMP:20260421T184408
CREATED:20230418T062811Z
LAST-MODIFIED:20230418T062811Z
UID:1990-1681840800-1681844400@www.kloster-heilig-kreuz.de
SUMMARY:Heilige Messe
DESCRIPTION:
URL:https://www.kloster-heilig-kreuz.de/veranstaltungen/heilige-messe-4/
LOCATION:Klosterkirche
END:VEVENT
BEGIN:VEVENT
DTSTART;TZID=Europe/Berlin:20230419T180000
DTEND;TZID=Europe/Berlin:20230419T190000
DTSTAMP:20260421T184408
CREATED:20230418T062949Z
LAST-MODIFIED:20230418T062949Z
UID:1992-1681927200-1681930800@www.kloster-heilig-kreuz.de
SUMMARY:Hl. Messe
DESCRIPTION:
URL:https://www.kloster-heilig-kreuz.de/veranstaltungen/hl-messe/
END:VEVENT
BEGIN:VEVENT
DTSTART;TZID=Europe/Berlin:20230420T130000
DTEND;TZID=Europe/Berlin:20230420T180000
DTSTAMP:20260421T184408
CREATED:20230418T065544Z
LAST-MODIFIED:20230418T065544Z
UID:2015-1681995600-1682013600@www.kloster-heilig-kreuz.de
SUMMARY:Eucharistische Anbetung
DESCRIPTION:
URL:https://www.kloster-heilig-kreuz.de/veranstaltungen/eucharistische-anbetung-3/
END:VEVENT
BEGIN:VEVENT
DTSTART;TZID=Europe/Berlin:20230420T180000
DTEND;TZID=Europe/Berlin:20230420T190000
DTSTAMP:20260421T184408
CREATED:20230418T063035Z
LAST-MODIFIED:20230418T063035Z
UID:1994-1682013600-1682017200@www.kloster-heilig-kreuz.de
SUMMARY:Hl. Messe
DESCRIPTION:
URL:https://www.kloster-heilig-kreuz.de/veranstaltungen/hl-messe-2/
END:VEVENT
BEGIN:VEVENT
DTSTART;TZID=Europe/Berlin:20230420T190000
DTEND;TZID=Europe/Berlin:20230420T203000
DTSTAMP:20260421T184408
CREATED:20230418T071012Z
LAST-MODIFIED:20230418T071012Z
UID:1980-1682017200-1682022600@www.kloster-heilig-kreuz.de
SUMMARY:Einführung in das Betreuungsrecht
DESCRIPTION:
URL:https://www.kloster-heilig-kreuz.de/veranstaltungen/einfuehrung-in-das-betreuungsrecht/
LOCATION:Großer Saal des Geistlichen Zentrums
END:VEVENT
BEGIN:VEVENT
DTSTART;TZID=Europe/Berlin:20230421T180000
DTEND;TZID=Europe/Berlin:20230421T190000
DTSTAMP:20260421T184408
CREATED:20230418T065659Z
LAST-MODIFIED:20230418T065659Z
UID:2018-1682100000-1682103600@www.kloster-heilig-kreuz.de
SUMMARY:Heilige Messe
DESCRIPTION:
URL:https://www.kloster-heilig-kreuz.de/veranstaltungen/heilige-messe-9/
LOCATION:Klosterkirche
END:VEVENT
BEGIN:VEVENT
DTSTART;TZID=Europe/Berlin:20230422T090000
DTEND;TZID=Europe/Berlin:20230422T140000
DTSTAMP:20260421T184408
CREATED:20230418T085637Z
LAST-MODIFIED:20230418T085637Z
UID:2048-1682154000-1682172000@www.kloster-heilig-kreuz.de
SUMMARY:Sternwanderung der Aktion 33
DESCRIPTION:
URL:https://www.kloster-heilig-kreuz.de/veranstaltungen/sternwanderung-der-aktion-33/
END:VEVENT
BEGIN:VEVENT
DTSTART;TZID=Europe/Berlin:20230422T180000
DTEND;TZID=Europe/Berlin:20230422T190000
DTSTAMP:20260421T184408
CREATED:20230418T065749Z
LAST-MODIFIED:20230418T065749Z
UID:2020-1682186400-1682190000@www.kloster-heilig-kreuz.de
SUMMARY:Heilige Messe
DESCRIPTION:
URL:https://www.kloster-heilig-kreuz.de/veranstaltungen/heilige-messe-10/
LOCATION:Klosterkirche
END:VEVENT
BEGIN:VEVENT
DTSTART;TZID=Europe/Berlin:20230423T180000
DTEND;TZID=Europe/Berlin:20230423T190000
DTSTAMP:20260421T184408
CREATED:20230418T063921Z
LAST-MODIFIED:20230418T063921Z
UID:2001-1682272800-1682276400@www.kloster-heilig-kreuz.de
SUMMARY:Heilige Messe
DESCRIPTION:
URL:https://www.kloster-heilig-kreuz.de/veranstaltungen/heilige-messe-5/
LOCATION:Klosterkirche
END:VEVENT
BEGIN:VEVENT
DTSTART;TZID=Europe/Berlin:20230424T173000
DTEND;TZID=Europe/Berlin:20230424T193000
DTSTAMP:20260421T184408
CREATED:20230418T085817Z
LAST-MODIFIED:20230418T085817Z
UID:2052-1682357400-1682364600@www.kloster-heilig-kreuz.de
SUMMARY:Meditationskurs
DESCRIPTION:
URL:https://www.kloster-heilig-kreuz.de/veranstaltungen/meditationskurs/
LOCATION:Meditations- und Gottesdienstraum des Geistlichen Zentrums
END:VEVENT
BEGIN:VEVENT
DTSTART;TZID=Europe/Berlin:20230424T180000
DTEND;TZID=Europe/Berlin:20230424T190000
DTSTAMP:20260421T184408
CREATED:20230418T064007Z
LAST-MODIFIED:20230418T064007Z
UID:2003-1682359200-1682362800@www.kloster-heilig-kreuz.de
SUMMARY:Heilige Messe
DESCRIPTION:
URL:https://www.kloster-heilig-kreuz.de/veranstaltungen/heilige-messe-6/
LOCATION:Klosterkirche
END:VEVENT
BEGIN:VEVENT
DTSTART;TZID=Europe/Berlin:20230425T080000
DTEND;TZID=Europe/Berlin:20230425T170000
DTSTAMP:20260421T184408
CREATED:20230425T083230Z
LAST-MODIFIED:20230425T083230Z
UID:2148-1682409600-1682442000@www.kloster-heilig-kreuz.de
SUMMARY:Glaubenszeugin im Widerstand gegen den Nationalsozialismus - Seelsorgerin Sr. Theodolinde (Katharina Katzenmaier) - Vortrag mir Sr. Stella Voss\, Kloster Lioba\, Freiburg
DESCRIPTION:
URL:https://www.kloster-heilig-kreuz.de/veranstaltungen/glaubenszeugin-im-widerstand-gegen-den-nationalsozialismus-seelsorgerin-sr-theodolinde-katharina-katzenmaier-vortrag-mir-sr-stella-voss-kloster-lioba-freiburg/
END:VEVENT
BEGIN:VEVENT
DTSTART;TZID=Europe/Berlin:20230425T180000
DTEND;TZID=Europe/Berlin:20230425T190000
DTSTAMP:20260421T184408
CREATED:20230418T065825Z
LAST-MODIFIED:20230418T065825Z
UID:2022-1682445600-1682449200@www.kloster-heilig-kreuz.de
SUMMARY:Heilige Messe
DESCRIPTION:
URL:https://www.kloster-heilig-kreuz.de/veranstaltungen/heilige-messe-11/
LOCATION:Klosterkirche
END:VEVENT
BEGIN:VEVENT
DTSTART;TZID=Europe/Berlin:20230426T180000
DTEND;TZID=Europe/Berlin:20230426T190000
DTSTAMP:20260421T184408
CREATED:20230418T065859Z
LAST-MODIFIED:20230418T065859Z
UID:2024-1682532000-1682535600@www.kloster-heilig-kreuz.de
SUMMARY:Heilige Messe
DESCRIPTION:
URL:https://www.kloster-heilig-kreuz.de/veranstaltungen/heilige-messe-12/
LOCATION:Klosterkirche
END:VEVENT
BEGIN:VEVENT
DTSTART;TZID=Europe/Berlin:20230426T190000
DTEND;TZID=Europe/Berlin:20230426T210000
DTSTAMP:20260421T184408
CREATED:20230418T085728Z
LAST-MODIFIED:20230418T085728Z
UID:2050-1682535600-1682542800@www.kloster-heilig-kreuz.de
SUMMARY:Einführung in das Betreuungsrecht
DESCRIPTION:
URL:https://www.kloster-heilig-kreuz.de/veranstaltungen/einfuehrung-in-das-betreuungsrecht-2/
LOCATION:Großer Saal des Geistlichen Zentrums
END:VEVENT
BEGIN:VEVENT
DTSTART;TZID=Europe/Berlin:20230427T130000
DTEND;TZID=Europe/Berlin:20230427T180000
DTSTAMP:20260421T184408
CREATED:20230418T064517Z
LAST-MODIFIED:20230418T064517Z
UID:2013-1682600400-1682618400@www.kloster-heilig-kreuz.de
SUMMARY:Eucharistische Anbetung
DESCRIPTION:
URL:https://www.kloster-heilig-kreuz.de/veranstaltungen/eucharistische-anbetung-2/
END:VEVENT
BEGIN:VEVENT
DTSTART;TZID=Europe/Berlin:20230427T180000
DTEND;TZID=Europe/Berlin:20230427T190000
DTSTAMP:20260421T184408
CREATED:20230418T064418Z
LAST-MODIFIED:20230418T064418Z
UID:2011-1682618400-1682622000@www.kloster-heilig-kreuz.de
SUMMARY:Heilige Messe
DESCRIPTION:
URL:https://www.kloster-heilig-kreuz.de/veranstaltungen/heilige-messe-8/
LOCATION:Klosterkirche
END:VEVENT
BEGIN:VEVENT
DTSTART;TZID=Europe/Berlin:20230428T180000
DTEND;TZID=Europe/Berlin:20230428T190000
DTSTAMP:20260421T184408
CREATED:20230418T065959Z
LAST-MODIFIED:20230418T065959Z
UID:2026-1682704800-1682708400@www.kloster-heilig-kreuz.de
SUMMARY:Heilige Messe mit Abtprimas Notker Wolf
DESCRIPTION:
URL:https://www.kloster-heilig-kreuz.de/veranstaltungen/heilige-messe-mit-abtprimas-notker-wolf/
LOCATION:Klosterkirche
END:VEVENT
BEGIN:VEVENT
DTSTART;TZID=Europe/Berlin:20230428T180000
DTEND;TZID=Europe/Berlin:20230428T190000
DTSTAMP:20260421T184408
CREATED:20230428T081857Z
LAST-MODIFIED:20230428T081857Z
UID:2234-1682704800-1682708400@www.kloster-heilig-kreuz.de
SUMMARY:Heilige Messe
DESCRIPTION:
URL:https://www.kloster-heilig-kreuz.de/veranstaltungen/heilige-messe-67/
LOCATION:Klosterkirche
END:VEVENT
BEGIN:VEVENT
DTSTART;TZID=Europe/Berlin:20230428T190000
DTEND;TZID=Europe/Berlin:20230428T203000
DTSTAMP:20260421T184408
CREATED:20230418T070051Z
LAST-MODIFIED:20230418T070051Z
UID:2028-1682708400-1682713800@www.kloster-heilig-kreuz.de
SUMMARY:Vortrag mit Abtprimas Notker Wolf zum Thema "Bedeutung der Klöster in unserer Zeit"
DESCRIPTION:
URL:https://www.kloster-heilig-kreuz.de/veranstaltungen/vortrag-mit-abtprimas-notker-wolf-zum-thema-bedeutung-der-kloester-in-unserer-zeit/
LOCATION:Klosterkirche
END:VEVENT
BEGIN:VEVENT
DTSTART;TZID=Europe/Berlin:20230429T093000
DTEND;TZID=Europe/Berlin:20230429T153000
DTSTAMP:20260421T184408
CREATED:20230405T085444Z
LAST-MODIFIED:20230405T085444Z
UID:1953-1682760600-1682782200@www.kloster-heilig-kreuz.de
SUMMARY:Besinnungstag mit Abtprimas Notker Wolf zum Thema "Freude im Glauben"
DESCRIPTION:
URL:https://www.kloster-heilig-kreuz.de/veranstaltungen/besinnungstag-mit-abtprimas-notker-wolf-zum-thema-freude-im-glauben/
LOCATION:Großer Saal des Geistlichen Zentrums
END:VEVENT
BEGIN:VEVENT
DTSTART;TZID=Europe/Berlin:20230430T180000
DTEND;TZID=Europe/Berlin:20230430T190000
DTSTAMP:20260421T184408
CREATED:20230418T074629Z
LAST-MODIFIED:20230418T074629Z
UID:2031-1682877600-1682881200@www.kloster-heilig-kreuz.de
SUMMARY:Heilige Messe
DESCRIPTION:
URL:https://www.kloster-heilig-kreuz.de/veranstaltungen/heilige-messe-7/
LOCATION:Klosterkirche
END:VEVENT
END:VCALENDAR