BEGIN:VCALENDAR
VERSION:2.0
PRODID:-//Kloster Heilig Kreuz - ECPv6.0.11//NONSGML v1.0//EN
CALSCALE:GREGORIAN
METHOD:PUBLISH
X-WR-CALNAME:Kloster Heilig Kreuz
X-ORIGINAL-URL:https://www.kloster-heilig-kreuz.de
X-WR-CALDESC:Veranstaltungen für Kloster Heilig Kreuz
REFRESH-INTERVAL;VALUE=DURATION:PT1H
X-Robots-Tag:noindex
X-PUBLISHED-TTL:PT1H
BEGIN:VTIMEZONE
TZID:Europe/Berlin
BEGIN:DAYLIGHT
TZOFFSETFROM:+0100
TZOFFSETTO:+0200
TZNAME:CEST
DTSTART:20230326T010000
END:DAYLIGHT
BEGIN:STANDARD
TZOFFSETFROM:+0200
TZOFFSETTO:+0100
TZNAME:CET
DTSTART:20231029T010000
END:STANDARD
END:VTIMEZONE
BEGIN:VEVENT
DTSTART;TZID=Europe/Berlin:20231001T180000
DTEND;TZID=Europe/Berlin:20231001T190000
DTSTAMP:20260422T013008
CREATED:20230613T081639Z
LAST-MODIFIED:20230613T081639Z
UID:2554-1696183200-1696186800@www.kloster-heilig-kreuz.de
SUMMARY:Heilige Messe
DESCRIPTION:
URL:https://www.kloster-heilig-kreuz.de/veranstaltungen/heilige-messe-162/
LOCATION:Klosterkirche
END:VEVENT
BEGIN:VEVENT
DTSTART;TZID=Europe/Berlin:20231002T180000
DTEND;TZID=Europe/Berlin:20231002T190000
DTSTAMP:20260422T013008
CREATED:20230613T081717Z
LAST-MODIFIED:20230613T081717Z
UID:2556-1696269600-1696273200@www.kloster-heilig-kreuz.de
SUMMARY:Heilige Messe
DESCRIPTION:
URL:https://www.kloster-heilig-kreuz.de/veranstaltungen/heilige-messe-163/
LOCATION:Klosterkirche
END:VEVENT
BEGIN:VEVENT
DTSTART;TZID=Europe/Berlin:20231003T180000
DTEND;TZID=Europe/Berlin:20231003T190000
DTSTAMP:20260422T013008
CREATED:20230613T081756Z
LAST-MODIFIED:20230613T081756Z
UID:2558-1696356000-1696359600@www.kloster-heilig-kreuz.de
SUMMARY:Heilige Messe
DESCRIPTION:
URL:https://www.kloster-heilig-kreuz.de/veranstaltungen/heilige-messe-164/
LOCATION:Klosterkirche
END:VEVENT
BEGIN:VEVENT
DTSTART;TZID=Europe/Berlin:20231004T180000
DTEND;TZID=Europe/Berlin:20231004T190000
DTSTAMP:20260422T013008
CREATED:20230613T081839Z
LAST-MODIFIED:20230613T081839Z
UID:2560-1696442400-1696446000@www.kloster-heilig-kreuz.de
SUMMARY:Heilige Messe
DESCRIPTION:
URL:https://www.kloster-heilig-kreuz.de/veranstaltungen/heilige-messe-165/
LOCATION:Klosterkirche
END:VEVENT
BEGIN:VEVENT
DTSTART;TZID=Europe/Berlin:20231005T130000
DTEND;TZID=Europe/Berlin:20231005T180000
DTSTAMP:20260422T013008
CREATED:20230613T081926Z
LAST-MODIFIED:20230613T081926Z
UID:2562-1696510800-1696528800@www.kloster-heilig-kreuz.de
SUMMARY:Eucharistische Anbetung
DESCRIPTION:
URL:https://www.kloster-heilig-kreuz.de/veranstaltungen/eucharistische-anbetung-25/
LOCATION:Klosterkirche
END:VEVENT
BEGIN:VEVENT
DTSTART;TZID=Europe/Berlin:20231005T180000
DTEND;TZID=Europe/Berlin:20231005T190000
DTSTAMP:20260422T013008
CREATED:20230613T082012Z
LAST-MODIFIED:20230613T082012Z
UID:2564-1696528800-1696532400@www.kloster-heilig-kreuz.de
SUMMARY:Heilige Messe
DESCRIPTION:
URL:https://www.kloster-heilig-kreuz.de/veranstaltungen/heilige-messe-166/
LOCATION:Klosterkirche
END:VEVENT
BEGIN:VEVENT
DTSTART;TZID=Europe/Berlin:20231005T184500
DTEND;TZID=Europe/Berlin:20231005T204500
DTSTAMP:20260422T013008
CREATED:20230912T094658Z
LAST-MODIFIED:20230912T094658Z
UID:2903-1696531500-1696538700@www.kloster-heilig-kreuz.de
SUMMARY:VHS - Zeichenwerkstatt
DESCRIPTION:
URL:https://www.kloster-heilig-kreuz.de/veranstaltungen/vhs-zeichenwerkstatt/
LOCATION:Großer Saal des Geistlichen Zentrums
END:VEVENT
BEGIN:VEVENT
DTSTART;TZID=Europe/Berlin:20231006T150000
DTEND;TZID=Europe/Berlin:20231006T190000
DTSTAMP:20260422T013008
CREATED:20230613T082058Z
LAST-MODIFIED:20230613T082058Z
UID:2566-1696604400-1696618800@www.kloster-heilig-kreuz.de
SUMMARY:Einkehrtag Scala-Gruppe
DESCRIPTION:
URL:https://www.kloster-heilig-kreuz.de/veranstaltungen/einkehrtag-scala-gruppe-2/
LOCATION:Großer Saal des Geistlichen Zentrums
END:VEVENT
BEGIN:VEVENT
DTSTART;TZID=Europe/Berlin:20231006T150000
DTEND;TZID=Europe/Berlin:20231006T200000
DTSTAMP:20260422T013008
CREATED:20230912T094806Z
LAST-MODIFIED:20230912T094806Z
UID:2905-1696604400-1696622400@www.kloster-heilig-kreuz.de
SUMMARY:Skala-Gruppe
DESCRIPTION:
URL:https://www.kloster-heilig-kreuz.de/veranstaltungen/skala-gruppe/
LOCATION:Meditations- und Gottesdienstraum des Geistlichen Zentrums
END:VEVENT
BEGIN:VEVENT
DTSTART;TZID=Europe/Berlin:20231006T180000
DTEND;TZID=Europe/Berlin:20231006T190000
DTSTAMP:20260422T013008
CREATED:20230613T082214Z
LAST-MODIFIED:20230613T082214Z
UID:2568-1696615200-1696618800@www.kloster-heilig-kreuz.de
SUMMARY:Heilige Messe
DESCRIPTION:
URL:https://www.kloster-heilig-kreuz.de/veranstaltungen/heilige-messe-167/
LOCATION:Klosterkirche
END:VEVENT
BEGIN:VEVENT
DTSTART;TZID=Europe/Berlin:20231007T093000
DTEND;TZID=Europe/Berlin:20231007T170000
DTSTAMP:20260422T013008
CREATED:20230613T082328Z
LAST-MODIFIED:20230613T082328Z
UID:2570-1696671000-1696698000@www.kloster-heilig-kreuz.de
SUMMARY:Einkehrtag Pfarrgemeinderat Quierschied
DESCRIPTION:
URL:https://www.kloster-heilig-kreuz.de/veranstaltungen/einkehrtag-pfarrgemeinderat-quierschied/
LOCATION:Großer Saal des Geistlichen Zentrums
END:VEVENT
BEGIN:VEVENT
DTSTART;TZID=Europe/Berlin:20231007T180000
DTEND;TZID=Europe/Berlin:20231007T190000
DTSTAMP:20260422T013008
CREATED:20230620T084329Z
LAST-MODIFIED:20230620T084329Z
UID:2576-1696701600-1696705200@www.kloster-heilig-kreuz.de
SUMMARY:Heilige Messe
DESCRIPTION:
URL:https://www.kloster-heilig-kreuz.de/veranstaltungen/heilige-messe-169/
LOCATION:Klosterkirche
END:VEVENT
BEGIN:VEVENT
DTSTART;TZID=Europe/Berlin:20231008T180000
DTEND;TZID=Europe/Berlin:20231008T190000
DTSTAMP:20260422T013008
CREATED:20230425T083706Z
LAST-MODIFIED:20230425T083706Z
UID:2156-1696788000-1696791600@www.kloster-heilig-kreuz.de
SUMMARY:Heilige Messe mit Bergleuten\, anschl. "Bergmannsfrühstück"
DESCRIPTION:
URL:https://www.kloster-heilig-kreuz.de/veranstaltungen/heilige-messe-mit-bergleuten-anschl-bergmannsfruehstueck/
END:VEVENT
BEGIN:VEVENT
DTSTART;TZID=Europe/Berlin:20231008T190000
DTEND;TZID=Europe/Berlin:20231008T200000
DTSTAMP:20260422T013008
CREATED:20230425T083555Z
LAST-MODIFIED:20230425T083555Z
UID:2154-1696791600-1696795200@www.kloster-heilig-kreuz.de
SUMMARY:Eröffnung der Fotoausstellung "Glaubens- und Lebenswelt der Bergleute\, Glück auf\, Glück auf den kreuzbraven Leut" von Fotografenmeisterin Marion Sänger
DESCRIPTION:
URL:https://www.kloster-heilig-kreuz.de/veranstaltungen/eroeffnung-der-fotoausstellung-glaubens-und-lebenswelt-der-bergleute-glueck-auf-glueck-auf-den-kreuzbraven-leut-von-fotografenmeisterin-marion-saenger/
END:VEVENT
BEGIN:VEVENT
DTSTART;TZID=Europe/Berlin:20231009T090000
DTEND;TZID=Europe/Berlin:20231205T120000
DTSTAMP:20260422T013008
CREATED:20230912T095308Z
LAST-MODIFIED:20230912T095308Z
UID:2913-1696842000-1701777600@www.kloster-heilig-kreuz.de
SUMMARY:Fotoausstellung Glaubens- und Lebenswelt der Bergleute "
DESCRIPTION:
URL:https://www.kloster-heilig-kreuz.de/veranstaltungen/fotoausstellung-glaubens-und-lebenswelt-der-bergleute/
LOCATION:Großer Saal des Geistlichen Zentrums
END:VEVENT
BEGIN:VEVENT
DTSTART;TZID=Europe/Berlin:20231009T180000
DTEND;TZID=Europe/Berlin:20231009T190000
DTSTAMP:20260422T013008
CREATED:20230627T084510Z
LAST-MODIFIED:20230627T084510Z
UID:2584-1696874400-1696878000@www.kloster-heilig-kreuz.de
SUMMARY:Heilige Messe
DESCRIPTION:
URL:https://www.kloster-heilig-kreuz.de/veranstaltungen/heilige-messe-170/
LOCATION:Klosterkirche
END:VEVENT
BEGIN:VEVENT
DTSTART;TZID=Europe/Berlin:20231009T180000
DTEND;TZID=Europe/Berlin:20231009T200000
DTSTAMP:20260422T013008
CREATED:20230811T081648Z
LAST-MODIFIED:20230811T081648Z
UID:2822-1696874400-1696881600@www.kloster-heilig-kreuz.de
SUMMARY:Treffen Fördergemeinschaft kath. Betreuungsvereine im Regionalverband Saarbrücken
DESCRIPTION:
URL:https://www.kloster-heilig-kreuz.de/veranstaltungen/treffen-foerdergemeinschaft-kath-betreuungsvereine-im-regionalverband-saarbruecken/
LOCATION:Großer Saal des Geistlichen Zentrums
END:VEVENT
BEGIN:VEVENT
DTSTART;TZID=Europe/Berlin:20231009T180000
DTEND;TZID=Europe/Berlin:20231009T200000
DTSTAMP:20260422T013008
CREATED:20230912T094545Z
LAST-MODIFIED:20230912T094545Z
UID:2901-1696874400-1696881600@www.kloster-heilig-kreuz.de
SUMMARY:Fördergemeinschaft katholischer Betreuungsvereine im Regionalverband Saarbrücken
DESCRIPTION:
URL:https://www.kloster-heilig-kreuz.de/veranstaltungen/foerdergemeinschaft-katholischer-betreuungsvereine-im-regionalverband-saarbruecken/
LOCATION:Großer Saal des Geistlichen Zentrums
END:VEVENT
BEGIN:VEVENT
DTSTART;TZID=Europe/Berlin:20231010T180000
DTEND;TZID=Europe/Berlin:20231010T190000
DTSTAMP:20260422T013008
CREATED:20230627T084551Z
LAST-MODIFIED:20230627T084551Z
UID:2586-1696960800-1696964400@www.kloster-heilig-kreuz.de
SUMMARY:Heilige Messe
DESCRIPTION:
URL:https://www.kloster-heilig-kreuz.de/veranstaltungen/heilige-messe-171/
LOCATION:Klosterkirche
END:VEVENT
BEGIN:VEVENT
DTSTART;TZID=Europe/Berlin:20231011T180000
DTEND;TZID=Europe/Berlin:20231011T190000
DTSTAMP:20260422T013008
CREATED:20230627T084732Z
LAST-MODIFIED:20230627T084732Z
UID:2589-1697047200-1697050800@www.kloster-heilig-kreuz.de
SUMMARY:Heilige Messe
DESCRIPTION:
URL:https://www.kloster-heilig-kreuz.de/veranstaltungen/heilige-messe-172/
LOCATION:Klosterkirche
END:VEVENT
BEGIN:VEVENT
DTSTART;TZID=Europe/Berlin:20231011T190000
DTEND;TZID=Europe/Berlin:20231011T213000
DTSTAMP:20260422T013008
CREATED:20230627T084823Z
LAST-MODIFIED:20230627T084823Z
UID:2591-1697050800-1697059800@www.kloster-heilig-kreuz.de
SUMMARY:Geistliche Weggemeinschaft
DESCRIPTION:
URL:https://www.kloster-heilig-kreuz.de/veranstaltungen/geistliche-weggemeinschaft-9/
LOCATION:Meditations- und Gottesdienstraum des Geistlichen Zentrums
END:VEVENT
BEGIN:VEVENT
DTSTART;TZID=Europe/Berlin:20231012T130000
DTEND;TZID=Europe/Berlin:20231012T180000
DTSTAMP:20260422T013008
CREATED:20230627T084924Z
LAST-MODIFIED:20230627T084924Z
UID:2593-1697115600-1697133600@www.kloster-heilig-kreuz.de
SUMMARY:Eucharistische Anbetung
DESCRIPTION:
URL:https://www.kloster-heilig-kreuz.de/veranstaltungen/eucharistische-anbetung-26/
LOCATION:Klosterkirche
END:VEVENT
BEGIN:VEVENT
DTSTART;TZID=Europe/Berlin:20231012T180000
DTEND;TZID=Europe/Berlin:20231012T190000
DTSTAMP:20260422T013008
CREATED:20230627T085007Z
LAST-MODIFIED:20230627T085007Z
UID:2595-1697133600-1697137200@www.kloster-heilig-kreuz.de
SUMMARY:Heilige Messe
DESCRIPTION:
URL:https://www.kloster-heilig-kreuz.de/veranstaltungen/heilige-messe-173/
LOCATION:Klosterkirche
END:VEVENT
BEGIN:VEVENT
DTSTART;TZID=Europe/Berlin:20231012T184500
DTEND;TZID=Europe/Berlin:20231012T204500
DTSTAMP:20260422T013008
CREATED:20230912T094855Z
LAST-MODIFIED:20230912T094855Z
UID:2907-1697136300-1697143500@www.kloster-heilig-kreuz.de
SUMMARY:VHS - Zeichenwerkstatt
DESCRIPTION:
URL:https://www.kloster-heilig-kreuz.de/veranstaltungen/vhs-zeichenwerkstatt-2/
LOCATION:Großer Saal des Geistlichen Zentrums
END:VEVENT
BEGIN:VEVENT
DTSTART;TZID=Europe/Berlin:20231013T180000
DTEND;TZID=Europe/Berlin:20231013T190000
DTSTAMP:20260422T013008
CREATED:20230627T085114Z
LAST-MODIFIED:20230627T085114Z
UID:2598-1697220000-1697223600@www.kloster-heilig-kreuz.de
SUMMARY:Heilige Messe
DESCRIPTION:
URL:https://www.kloster-heilig-kreuz.de/veranstaltungen/heilige-messe-174/
LOCATION:Klosterkirche
END:VEVENT
BEGIN:VEVENT
DTSTART;TZID=Europe/Berlin:20231014T080000
DTEND;TZID=Europe/Berlin:20231014T170000
DTSTAMP:20260422T013009
CREATED:20230425T083813Z
LAST-MODIFIED:20230829T100133Z
UID:2158-1697270400-1697302800@www.kloster-heilig-kreuz.de
SUMMARY:Vortrag im Rahmen der Ausstellung Glaubens- und Lebenswelt der Bergleute - Wege zur Gotteserfahrung - in angefochtener Glaubenszuversicht -  mit Prof. Dr. Stephan E. Müller\, Eichstätt
DESCRIPTION:
URL:https://www.kloster-heilig-kreuz.de/veranstaltungen/besinnungstag-kann-man-gott-erfahren-mit-prof-dr-stephan-e-mueller-eichstaett/
END:VEVENT
BEGIN:VEVENT
DTSTART;TZID=Europe/Berlin:20231014T180000
DTEND;TZID=Europe/Berlin:20231014T190000
DTSTAMP:20260422T013009
CREATED:20230704T075257Z
LAST-MODIFIED:20230704T075257Z
UID:2610-1697306400-1697310000@www.kloster-heilig-kreuz.de
SUMMARY:Heilige Messe
DESCRIPTION:
URL:https://www.kloster-heilig-kreuz.de/veranstaltungen/heilige-messe-175/
LOCATION:Klosterkirche
END:VEVENT
BEGIN:VEVENT
DTSTART;TZID=Europe/Berlin:20231015T180000
DTEND;TZID=Europe/Berlin:20231015T190000
DTSTAMP:20260422T013009
CREATED:20230704T075341Z
LAST-MODIFIED:20230704T075341Z
UID:2612-1697392800-1697396400@www.kloster-heilig-kreuz.de
SUMMARY:Heilige Messe
DESCRIPTION:
URL:https://www.kloster-heilig-kreuz.de/veranstaltungen/heilige-messe-176/
LOCATION:Klosterkirche
END:VEVENT
BEGIN:VEVENT
DTSTART;TZID=Europe/Berlin:20231016T180000
DTEND;TZID=Europe/Berlin:20231016T190000
DTSTAMP:20260422T013009
CREATED:20230704T075528Z
LAST-MODIFIED:20230704T075528Z
UID:2614-1697479200-1697482800@www.kloster-heilig-kreuz.de
SUMMARY:Heilige Messe
DESCRIPTION:
URL:https://www.kloster-heilig-kreuz.de/veranstaltungen/heilige-messe-177/
LOCATION:Klosterkirche
END:VEVENT
BEGIN:VEVENT
DTSTART;TZID=Europe/Berlin:20231017T100000
DTEND;TZID=Europe/Berlin:20231017T120000
DTSTAMP:20260422T013009
CREATED:20230808T091129Z
LAST-MODIFIED:20230808T091129Z
UID:2718-1697536800-1697544000@www.kloster-heilig-kreuz.de
SUMMARY:Auditinformationsveranstaltung Erzieherinnen Caritasverband
DESCRIPTION:
URL:https://www.kloster-heilig-kreuz.de/veranstaltungen/auditinformationsveranstaltung-erzieherinnen-caritasverband/
END:VEVENT
END:VCALENDAR