BEGIN:VCALENDAR
VERSION:2.0
PRODID:-//Kloster Heilig Kreuz - ECPv6.0.11//NONSGML v1.0//EN
CALSCALE:GREGORIAN
METHOD:PUBLISH
X-ORIGINAL-URL:https://www.kloster-heilig-kreuz.de
X-WR-CALDESC:Veranstaltungen für Kloster Heilig Kreuz
REFRESH-INTERVAL;VALUE=DURATION:PT1H
X-Robots-Tag:noindex
X-PUBLISHED-TTL:PT1H
BEGIN:VTIMEZONE
TZID:Europe/Berlin
BEGIN:DAYLIGHT
TZOFFSETFROM:+0100
TZOFFSETTO:+0200
TZNAME:CEST
DTSTART:20230326T010000
END:DAYLIGHT
BEGIN:STANDARD
TZOFFSETFROM:+0200
TZOFFSETTO:+0100
TZNAME:CET
DTSTART:20231029T010000
END:STANDARD
END:VTIMEZONE
BEGIN:VEVENT
DTSTART;TZID=Europe/Berlin:20231009T090000
DTEND;TZID=Europe/Berlin:20231205T120000
DTSTAMP:20260422T041710
CREATED:20230912T095308Z
LAST-MODIFIED:20230912T095308Z
UID:2913-1696842000-1701777600@www.kloster-heilig-kreuz.de
SUMMARY:Fotoausstellung Glaubens- und Lebenswelt der Bergleute "
DESCRIPTION:
URL:https://www.kloster-heilig-kreuz.de/veranstaltungen/fotoausstellung-glaubens-und-lebenswelt-der-bergleute/
LOCATION:Großer Saal des Geistlichen Zentrums
END:VEVENT
BEGIN:VEVENT
DTSTART;TZID=Europe/Berlin:20231101T180000
DTEND;TZID=Europe/Berlin:20231101T190000
DTSTAMP:20260422T041710
CREATED:20230808T093253Z
LAST-MODIFIED:20230808T093253Z
UID:2728-1698861600-1698865200@www.kloster-heilig-kreuz.de
SUMMARY:Heilige Messe
DESCRIPTION:
URL:https://www.kloster-heilig-kreuz.de/veranstaltungen/heilige-messe-193/
LOCATION:Klosterkirche
END:VEVENT
BEGIN:VEVENT
DTSTART;TZID=Europe/Berlin:20231102T130000
DTEND;TZID=Europe/Berlin:20231102T180000
DTSTAMP:20260422T041710
CREATED:20230808T093338Z
LAST-MODIFIED:20230808T093338Z
UID:2730-1698930000-1698948000@www.kloster-heilig-kreuz.de
SUMMARY:Eucharistische Anbetung
DESCRIPTION:
URL:https://www.kloster-heilig-kreuz.de/veranstaltungen/eucharistische-anbetung-29/
LOCATION:Klosterkirche
END:VEVENT
BEGIN:VEVENT
DTSTART;TZID=Europe/Berlin:20231102T180000
DTEND;TZID=Europe/Berlin:20231102T190000
DTSTAMP:20260422T041710
CREATED:20230808T093413Z
LAST-MODIFIED:20230808T093413Z
UID:2732-1698948000-1698951600@www.kloster-heilig-kreuz.de
SUMMARY:Heilige Messe
DESCRIPTION:
URL:https://www.kloster-heilig-kreuz.de/veranstaltungen/heilige-messe-194/
LOCATION:Klosterkirche
END:VEVENT
BEGIN:VEVENT
DTSTART;TZID=Europe/Berlin:20231103T180000
DTEND;TZID=Europe/Berlin:20231103T190000
DTSTAMP:20260422T041710
CREATED:20230808T093453Z
LAST-MODIFIED:20230808T093453Z
UID:2734-1699034400-1699038000@www.kloster-heilig-kreuz.de
SUMMARY:Heilige Messe
DESCRIPTION:
URL:https://www.kloster-heilig-kreuz.de/veranstaltungen/heilige-messe-195/
LOCATION:Klosterkirche
END:VEVENT
BEGIN:VEVENT
DTSTART;TZID=Europe/Berlin:20231104T180000
DTEND;TZID=Europe/Berlin:20231104T190000
DTSTAMP:20260422T041710
CREATED:20230808T093604Z
LAST-MODIFIED:20230808T093604Z
UID:2736-1699120800-1699124400@www.kloster-heilig-kreuz.de
SUMMARY:Heilige Messe
DESCRIPTION:
URL:https://www.kloster-heilig-kreuz.de/veranstaltungen/heilige-messe-196/
LOCATION:Klosterkirche
END:VEVENT
BEGIN:VEVENT
DTSTART;TZID=Europe/Berlin:20231105T180000
DTEND;TZID=Europe/Berlin:20231105T190000
DTSTAMP:20260422T041710
CREATED:20230808T093831Z
LAST-MODIFIED:20230808T093831Z
UID:2738-1699207200-1699210800@www.kloster-heilig-kreuz.de
SUMMARY:Heilige Messe
DESCRIPTION:
URL:https://www.kloster-heilig-kreuz.de/veranstaltungen/heilige-messe-197/
LOCATION:Klosterkirche
END:VEVENT
BEGIN:VEVENT
DTSTART;TZID=Europe/Berlin:20231106T180000
DTEND;TZID=Europe/Berlin:20231106T190000
DTSTAMP:20260422T041710
CREATED:20230808T093943Z
LAST-MODIFIED:20230808T093943Z
UID:2740-1699293600-1699297200@www.kloster-heilig-kreuz.de
SUMMARY:Heilige Messe
DESCRIPTION:
URL:https://www.kloster-heilig-kreuz.de/veranstaltungen/heilige-messe-198/
LOCATION:Klosterkirche
END:VEVENT
BEGIN:VEVENT
DTSTART;TZID=Europe/Berlin:20231107T180000
DTEND;TZID=Europe/Berlin:20231107T190000
DTSTAMP:20260422T041710
CREATED:20230808T094023Z
LAST-MODIFIED:20230808T094023Z
UID:2742-1699380000-1699383600@www.kloster-heilig-kreuz.de
SUMMARY:Heilige Messe
DESCRIPTION:
URL:https://www.kloster-heilig-kreuz.de/veranstaltungen/heilige-messe-199/
LOCATION:Klosterkirche
END:VEVENT
BEGIN:VEVENT
DTSTART;TZID=Europe/Berlin:20231108T180000
DTEND;TZID=Europe/Berlin:20231108T190000
DTSTAMP:20260422T041710
CREATED:20230808T094059Z
LAST-MODIFIED:20230808T094059Z
UID:2744-1699466400-1699470000@www.kloster-heilig-kreuz.de
SUMMARY:Heilige Messe
DESCRIPTION:
URL:https://www.kloster-heilig-kreuz.de/veranstaltungen/heilige-messe-200/
LOCATION:Klosterkirche
END:VEVENT
BEGIN:VEVENT
DTSTART;TZID=Europe/Berlin:20231108T190000
DTEND;TZID=Europe/Berlin:20231108T203000
DTSTAMP:20260422T041710
CREATED:20230808T094146Z
LAST-MODIFIED:20230808T094146Z
UID:2746-1699470000-1699475400@www.kloster-heilig-kreuz.de
SUMMARY:Geistliche Weggemeinschaft
DESCRIPTION:
URL:https://www.kloster-heilig-kreuz.de/veranstaltungen/geistliche-weggemeinschaft-10/
LOCATION:Meditations- und Gottesdienstraum des Geistlichen Zentrums
END:VEVENT
BEGIN:VEVENT
DTSTART;TZID=Europe/Berlin:20231109T130000
DTEND;TZID=Europe/Berlin:20231109T180000
DTSTAMP:20260422T041710
CREATED:20230808T094228Z
LAST-MODIFIED:20230808T094228Z
UID:2748-1699534800-1699552800@www.kloster-heilig-kreuz.de
SUMMARY:Eucharistische Anbetung
DESCRIPTION:
URL:https://www.kloster-heilig-kreuz.de/veranstaltungen/eucharistische-anbetung-30/
LOCATION:Klosterkirche
END:VEVENT
BEGIN:VEVENT
DTSTART;TZID=Europe/Berlin:20231109T180000
DTEND;TZID=Europe/Berlin:20231109T190000
DTSTAMP:20260422T041710
CREATED:20230808T094306Z
LAST-MODIFIED:20230808T094306Z
UID:2750-1699552800-1699556400@www.kloster-heilig-kreuz.de
SUMMARY:Heilige Messe
DESCRIPTION:
URL:https://www.kloster-heilig-kreuz.de/veranstaltungen/heilige-messe-201/
LOCATION:Klosterkirche
END:VEVENT
BEGIN:VEVENT
DTSTART;TZID=Europe/Berlin:20231110T083000
DTEND;TZID=Europe/Berlin:20231110T170000
DTSTAMP:20260422T041710
CREATED:20230808T094354Z
LAST-MODIFIED:20230808T094354Z
UID:2752-1699605000-1699635600@www.kloster-heilig-kreuz.de
SUMMARY:Fortbildung des Reha- und Behindertensportverbandes Saar
DESCRIPTION:
URL:https://www.kloster-heilig-kreuz.de/veranstaltungen/fortbildung-des-reha-und-behindertensportverbandes-saar/
LOCATION:Großer Saal des Geistlichen Zentrums
END:VEVENT
BEGIN:VEVENT
DTSTART;TZID=Europe/Berlin:20231110T180000
DTEND;TZID=Europe/Berlin:20231110T190000
DTSTAMP:20260422T041710
CREATED:20230808T094434Z
LAST-MODIFIED:20230808T094434Z
UID:2754-1699639200-1699642800@www.kloster-heilig-kreuz.de
SUMMARY:Heilige Messe
DESCRIPTION:
URL:https://www.kloster-heilig-kreuz.de/veranstaltungen/heilige-messe-202/
LOCATION:Klosterkirche
END:VEVENT
BEGIN:VEVENT
DTSTART;TZID=Europe/Berlin:20231111T083000
DTEND;TZID=Europe/Berlin:20231111T170000
DTSTAMP:20260422T041710
CREATED:20230808T094519Z
LAST-MODIFIED:20230808T094519Z
UID:2756-1699691400-1699722000@www.kloster-heilig-kreuz.de
SUMMARY:Fortbildung des Reha- und Behindertensportverbandes Saar
DESCRIPTION:
URL:https://www.kloster-heilig-kreuz.de/veranstaltungen/fortbildung-des-reha-und-behindertensportverbandes-saar-2/
LOCATION:Großer Saal des Geistlichen Zentrums
END:VEVENT
BEGIN:VEVENT
DTSTART;TZID=Europe/Berlin:20231111T180000
DTEND;TZID=Europe/Berlin:20231111T190000
DTSTAMP:20260422T041710
CREATED:20230808T094600Z
LAST-MODIFIED:20230808T094600Z
UID:2758-1699725600-1699729200@www.kloster-heilig-kreuz.de
SUMMARY:Heilige Messe
DESCRIPTION:
URL:https://www.kloster-heilig-kreuz.de/veranstaltungen/heilige-messe-203/
LOCATION:Klosterkirche
END:VEVENT
BEGIN:VEVENT
DTSTART;TZID=Europe/Berlin:20231112T180000
DTEND;TZID=Europe/Berlin:20231112T190000
DTSTAMP:20260422T041710
CREATED:20230808T094720Z
LAST-MODIFIED:20230808T094720Z
UID:2762-1699812000-1699815600@www.kloster-heilig-kreuz.de
SUMMARY:Heilige Messe
DESCRIPTION:
URL:https://www.kloster-heilig-kreuz.de/veranstaltungen/heilige-messe-204/
LOCATION:Klosterkirche
END:VEVENT
BEGIN:VEVENT
DTSTART;TZID=Europe/Berlin:20231113T180000
DTEND;TZID=Europe/Berlin:20231113T190000
DTSTAMP:20260422T041710
CREATED:20230811T074436Z
LAST-MODIFIED:20230811T074436Z
UID:2764-1699898400-1699902000@www.kloster-heilig-kreuz.de
SUMMARY:Heilige Messe
DESCRIPTION:
URL:https://www.kloster-heilig-kreuz.de/veranstaltungen/heilige-messe-205/
LOCATION:Klosterkirche
END:VEVENT
BEGIN:VEVENT
DTSTART;TZID=Europe/Berlin:20231113T190000
DTEND;TZID=Europe/Berlin:20231113T203000
DTSTAMP:20260422T041710
CREATED:20231017T090650Z
LAST-MODIFIED:20231020T082843Z
UID:2937-1699902000-1699907400@www.kloster-heilig-kreuz.de
SUMMARY:"Die Christenverfolgung - Mythos und Wirklichkeit"  Vortragsreihe mit Prof. Dr. Joachim Conrad
DESCRIPTION:
URL:https://www.kloster-heilig-kreuz.de/veranstaltungen/vortrag-im-rahmen-der-zusammenarbeit-des-geistlichen-zentrums-mit-der-evangelischen-kirchengemeinde-koelln-mit-prof-dr-joachim-conrad-christenverfolgung/
LOCATION:Großer Saal des Geistlichen Zentrums
END:VEVENT
BEGIN:VEVENT
DTSTART;TZID=Europe/Berlin:20231114T180000
DTEND;TZID=Europe/Berlin:20231114T190000
DTSTAMP:20260422T041710
CREATED:20230811T074512Z
LAST-MODIFIED:20230811T074512Z
UID:2766-1699984800-1699988400@www.kloster-heilig-kreuz.de
SUMMARY:Heilige Messe
DESCRIPTION:
URL:https://www.kloster-heilig-kreuz.de/veranstaltungen/heilige-messe-206/
LOCATION:Klosterkirche
END:VEVENT
BEGIN:VEVENT
DTSTART;TZID=Europe/Berlin:20231115T180000
DTEND;TZID=Europe/Berlin:20231115T190000
DTSTAMP:20260422T041710
CREATED:20230811T074548Z
LAST-MODIFIED:20230811T074548Z
UID:2768-1700071200-1700074800@www.kloster-heilig-kreuz.de
SUMMARY:Heilige Messe
DESCRIPTION:
URL:https://www.kloster-heilig-kreuz.de/veranstaltungen/heilige-messe-207/
LOCATION:Klosterkirche
END:VEVENT
BEGIN:VEVENT
DTSTART;TZID=Europe/Berlin:20231116T130000
DTEND;TZID=Europe/Berlin:20231116T180000
DTSTAMP:20260422T041710
CREATED:20230811T074623Z
LAST-MODIFIED:20230811T074623Z
UID:2770-1700139600-1700157600@www.kloster-heilig-kreuz.de
SUMMARY:Eucharistische Anbetung
DESCRIPTION:
URL:https://www.kloster-heilig-kreuz.de/veranstaltungen/eucharistische-anbetung-31/
LOCATION:Klosterkirche
END:VEVENT
BEGIN:VEVENT
DTSTART;TZID=Europe/Berlin:20231116T180000
DTEND;TZID=Europe/Berlin:20231116T190000
DTSTAMP:20260422T041710
CREATED:20230811T074705Z
LAST-MODIFIED:20230811T074705Z
UID:2772-1700157600-1700161200@www.kloster-heilig-kreuz.de
SUMMARY:Heilige Messe
DESCRIPTION:
URL:https://www.kloster-heilig-kreuz.de/veranstaltungen/heilige-messe-208/
LOCATION:Klosterkirche
END:VEVENT
BEGIN:VEVENT
DTSTART;TZID=Europe/Berlin:20231117T180000
DTEND;TZID=Europe/Berlin:20231117T190000
DTSTAMP:20260422T041710
CREATED:20230811T074749Z
LAST-MODIFIED:20230811T074749Z
UID:2774-1700244000-1700247600@www.kloster-heilig-kreuz.de
SUMMARY:Heilige Messe
DESCRIPTION:
URL:https://www.kloster-heilig-kreuz.de/veranstaltungen/heilige-messe-209/
LOCATION:Klosterkirche
END:VEVENT
BEGIN:VEVENT
DTSTART;TZID=Europe/Berlin:20231118T180000
DTEND;TZID=Europe/Berlin:20231118T190000
DTSTAMP:20260422T041710
CREATED:20230811T074829Z
LAST-MODIFIED:20230811T074829Z
UID:2776-1700330400-1700334000@www.kloster-heilig-kreuz.de
SUMMARY:Heilige Messe
DESCRIPTION:
URL:https://www.kloster-heilig-kreuz.de/veranstaltungen/heilige-messe-210/
LOCATION:Klosterkirche
END:VEVENT
BEGIN:VEVENT
DTSTART;TZID=Europe/Berlin:20231119T180000
DTEND;TZID=Europe/Berlin:20231119T190000
DTSTAMP:20260422T041710
CREATED:20230811T074908Z
LAST-MODIFIED:20230811T074908Z
UID:2778-1700416800-1700420400@www.kloster-heilig-kreuz.de
SUMMARY:Heilige Messe
DESCRIPTION:
URL:https://www.kloster-heilig-kreuz.de/veranstaltungen/heilige-messe-211/
LOCATION:Klosterkirche
END:VEVENT
BEGIN:VEVENT
DTSTART;TZID=Europe/Berlin:20231120T180000
DTEND;TZID=Europe/Berlin:20231120T190000
DTSTAMP:20260422T041710
CREATED:20230811T074942Z
LAST-MODIFIED:20230811T074942Z
UID:2780-1700503200-1700506800@www.kloster-heilig-kreuz.de
SUMMARY:Heilige Messe
DESCRIPTION:
URL:https://www.kloster-heilig-kreuz.de/veranstaltungen/heilige-messe-212/
LOCATION:Klosterkirche
END:VEVENT
BEGIN:VEVENT
DTSTART;TZID=Europe/Berlin:20231120T190000
DTEND;TZID=Europe/Berlin:20231120T203000
DTSTAMP:20260422T041710
CREATED:20231017T090855Z
LAST-MODIFIED:20231020T082654Z
UID:2939-1700506800-1700512200@www.kloster-heilig-kreuz.de
SUMMARY:"Gott will es" - Die Kreuzzüge - Vortragsreihe mit Prof. Dr. Joachim Conrad
DESCRIPTION:
URL:https://www.kloster-heilig-kreuz.de/veranstaltungen/vortrag-im-rahmen-der-zusammenarbeit-des-geistlichen-zentrums-mit-der-evangelischen-kirchengemeinde-koelln-mit-prof-dr-joachim-conrad-kreuzzuege/
LOCATION:Großer Saal des Geistlichen Zentrums
END:VEVENT
BEGIN:VEVENT
DTSTART;TZID=Europe/Berlin:20231121T180000
DTEND;TZID=Europe/Berlin:20231121T190000
DTSTAMP:20260422T041710
CREATED:20230811T075020Z
LAST-MODIFIED:20230811T075020Z
UID:2782-1700589600-1700593200@www.kloster-heilig-kreuz.de
SUMMARY:Heilige Messe
DESCRIPTION:
URL:https://www.kloster-heilig-kreuz.de/veranstaltungen/heilige-messe-213/
LOCATION:Klosterkirche
END:VEVENT
END:VCALENDAR