BEGIN:VCALENDAR
VERSION:2.0
PRODID:-//Kloster Heilig Kreuz - ECPv6.0.11//NONSGML v1.0//EN
CALSCALE:GREGORIAN
METHOD:PUBLISH
X-WR-CALNAME:Kloster Heilig Kreuz
X-ORIGINAL-URL:https://www.kloster-heilig-kreuz.de
X-WR-CALDESC:Veranstaltungen für Kloster Heilig Kreuz
REFRESH-INTERVAL;VALUE=DURATION:PT1H
X-Robots-Tag:noindex
X-PUBLISHED-TTL:PT1H
BEGIN:VTIMEZONE
TZID:Europe/Berlin
BEGIN:DAYLIGHT
TZOFFSETFROM:+0100
TZOFFSETTO:+0200
TZNAME:CEST
DTSTART:20240331T010000
END:DAYLIGHT
BEGIN:STANDARD
TZOFFSETFROM:+0200
TZOFFSETTO:+0100
TZNAME:CET
DTSTART:20241027T010000
END:STANDARD
END:VTIMEZONE
BEGIN:VEVENT
DTSTART;TZID=Europe/Berlin:20240101T180000
DTEND;TZID=Europe/Berlin:20240101T190000
DTSTAMP:20260422T122438
CREATED:20231222T093628Z
LAST-MODIFIED:20231222T093628Z
UID:3028-1704132000-1704135600@www.kloster-heilig-kreuz.de
SUMMARY:Hl. Messe
DESCRIPTION:
URL:https://www.kloster-heilig-kreuz.de/veranstaltungen/hl-messe-11/
LOCATION:Klosterkirche
END:VEVENT
BEGIN:VEVENT
DTSTART;TZID=Europe/Berlin:20240102T180000
DTEND;TZID=Europe/Berlin:20240102T190000
DTSTAMP:20260422T122438
CREATED:20231222T093718Z
LAST-MODIFIED:20231222T093718Z
UID:3030-1704218400-1704222000@www.kloster-heilig-kreuz.de
SUMMARY:Hl. Messe
DESCRIPTION:
URL:https://www.kloster-heilig-kreuz.de/veranstaltungen/hl-messe-12/
LOCATION:Klosterkirche
END:VEVENT
BEGIN:VEVENT
DTSTART;TZID=Europe/Berlin:20240103T180000
DTEND;TZID=Europe/Berlin:20240103T190000
DTSTAMP:20260422T122438
CREATED:20231222T093759Z
LAST-MODIFIED:20231222T093759Z
UID:3032-1704304800-1704308400@www.kloster-heilig-kreuz.de
SUMMARY:Hl. Messe
DESCRIPTION:
URL:https://www.kloster-heilig-kreuz.de/veranstaltungen/hl-messe-13/
LOCATION:Klosterkirche
END:VEVENT
BEGIN:VEVENT
DTSTART;TZID=Europe/Berlin:20240104T180000
DTEND;TZID=Europe/Berlin:20240104T190000
DTSTAMP:20260422T122438
CREATED:20231222T094956Z
LAST-MODIFIED:20231222T094956Z
UID:3035-1704391200-1704394800@www.kloster-heilig-kreuz.de
SUMMARY:Hl. Messe
DESCRIPTION:
URL:https://www.kloster-heilig-kreuz.de/veranstaltungen/hl-messe-14/
LOCATION:Klosterkirche
END:VEVENT
BEGIN:VEVENT
DTSTART;TZID=Europe/Berlin:20240105T180000
DTEND;TZID=Europe/Berlin:20240105T190000
DTSTAMP:20260422T122438
CREATED:20231222T095042Z
LAST-MODIFIED:20231222T095042Z
UID:3037-1704477600-1704481200@www.kloster-heilig-kreuz.de
SUMMARY:Hl. Messe
DESCRIPTION:
URL:https://www.kloster-heilig-kreuz.de/veranstaltungen/hl-messe-15/
LOCATION:Klosterkirche
END:VEVENT
BEGIN:VEVENT
DTSTART;TZID=Europe/Berlin:20240106T180000
DTEND;TZID=Europe/Berlin:20240106T190000
DTSTAMP:20260422T122438
CREATED:20231222T095128Z
LAST-MODIFIED:20231222T095128Z
UID:3039-1704564000-1704567600@www.kloster-heilig-kreuz.de
SUMMARY:Hl. Messe
DESCRIPTION:
URL:https://www.kloster-heilig-kreuz.de/veranstaltungen/hl-messe-16/
LOCATION:Klosterkirche
END:VEVENT
BEGIN:VEVENT
DTSTART;TZID=Europe/Berlin:20240107T180000
DTEND;TZID=Europe/Berlin:20240107T190000
DTSTAMP:20260422T122438
CREATED:20231222T090005Z
LAST-MODIFIED:20231222T090005Z
UID:2991-1704650400-1704654000@www.kloster-heilig-kreuz.de
SUMMARY:Monatliche Predigt zum Jahr des Glaubens zum Thema "Tür nach Innen - Wege zum Inneren Gebet"
DESCRIPTION:
URL:https://www.kloster-heilig-kreuz.de/veranstaltungen/monatliche-predigt-zum-jahr-des-glaubens-zum-thema-tuer-nach-innen-wege-zum-inneren-gebet/
END:VEVENT
BEGIN:VEVENT
DTSTART;TZID=Europe/Berlin:20240107T180000
DTEND;TZID=Europe/Berlin:20240107T190000
DTSTAMP:20260422T122438
CREATED:20231222T095208Z
LAST-MODIFIED:20231222T095208Z
UID:3041-1704650400-1704654000@www.kloster-heilig-kreuz.de
SUMMARY:Hl. Messe
DESCRIPTION:
URL:https://www.kloster-heilig-kreuz.de/veranstaltungen/hl-messe-17/
LOCATION:Klosterkirche
END:VEVENT
BEGIN:VEVENT
DTSTART;TZID=Europe/Berlin:20240108T180000
DTEND;TZID=Europe/Berlin:20240108T190000
DTSTAMP:20260422T122438
CREATED:20231222T100827Z
LAST-MODIFIED:20231222T100827Z
UID:3043-1704736800-1704740400@www.kloster-heilig-kreuz.de
SUMMARY:Hl. Messe
DESCRIPTION:
URL:https://www.kloster-heilig-kreuz.de/veranstaltungen/hl-messe-18/
LOCATION:Klosterkirche
END:VEVENT
BEGIN:VEVENT
DTSTART;TZID=Europe/Berlin:20240109T180000
DTEND;TZID=Europe/Berlin:20240109T190000
DTSTAMP:20260422T122438
CREATED:20231222T100910Z
LAST-MODIFIED:20231222T100910Z
UID:3045-1704823200-1704826800@www.kloster-heilig-kreuz.de
SUMMARY:Hl. Messe
DESCRIPTION:
URL:https://www.kloster-heilig-kreuz.de/veranstaltungen/hl-messe-19/
LOCATION:Klosterkirche
END:VEVENT
BEGIN:VEVENT
DTSTART;TZID=Europe/Berlin:20240110T180000
DTEND;TZID=Europe/Berlin:20240110T190000
DTSTAMP:20260422T122438
CREATED:20231222T100953Z
LAST-MODIFIED:20231222T100953Z
UID:3047-1704909600-1704913200@www.kloster-heilig-kreuz.de
SUMMARY:Hl. Messe
DESCRIPTION:
URL:https://www.kloster-heilig-kreuz.de/veranstaltungen/hl-messe-20/
LOCATION:Klosterkirche
END:VEVENT
BEGIN:VEVENT
DTSTART;TZID=Europe/Berlin:20240111T180000
DTEND;TZID=Europe/Berlin:20240111T190000
DTSTAMP:20260422T122438
CREATED:20231222T101047Z
LAST-MODIFIED:20231222T101047Z
UID:3049-1704996000-1704999600@www.kloster-heilig-kreuz.de
SUMMARY:Hl. Messe
DESCRIPTION:
URL:https://www.kloster-heilig-kreuz.de/veranstaltungen/hl-messe-21/
LOCATION:Klosterkirche
END:VEVENT
BEGIN:VEVENT
DTSTART;TZID=Europe/Berlin:20240112T180000
DTEND;TZID=Europe/Berlin:20240112T190000
DTSTAMP:20260422T122438
CREATED:20231222T101135Z
LAST-MODIFIED:20231222T101135Z
UID:3051-1705082400-1705086000@www.kloster-heilig-kreuz.de
SUMMARY:Hl. Messe
DESCRIPTION:
URL:https://www.kloster-heilig-kreuz.de/veranstaltungen/hl-messe-22/
LOCATION:Klosterkirche
END:VEVENT
BEGIN:VEVENT
DTSTART;TZID=Europe/Berlin:20240113T180000
DTEND;TZID=Europe/Berlin:20240113T190000
DTSTAMP:20260422T122438
CREATED:20231222T101218Z
LAST-MODIFIED:20231222T101218Z
UID:3053-1705168800-1705172400@www.kloster-heilig-kreuz.de
SUMMARY:Hl. Messe
DESCRIPTION:
URL:https://www.kloster-heilig-kreuz.de/veranstaltungen/hl-messe-23/
LOCATION:Klosterkirche
END:VEVENT
BEGIN:VEVENT
DTSTART;TZID=Europe/Berlin:20240114T180000
DTEND;TZID=Europe/Berlin:20240114T190000
DTSTAMP:20260422T122438
CREATED:20231222T101310Z
LAST-MODIFIED:20231222T101310Z
UID:3055-1705255200-1705258800@www.kloster-heilig-kreuz.de
SUMMARY:Hl. Messe
DESCRIPTION:
URL:https://www.kloster-heilig-kreuz.de/veranstaltungen/hl-messe-24/
LOCATION:Klosterkirche
END:VEVENT
BEGIN:VEVENT
DTSTART;TZID=Europe/Berlin:20240119T080000
DTEND;TZID=Europe/Berlin:20240119T170000
DTSTAMP:20260422T122438
CREATED:20231110T093758Z
LAST-MODIFIED:20231110T093758Z
UID:2969-1705651200-1705683600@www.kloster-heilig-kreuz.de
SUMMARY:Fortbildung des Behinderten- und Rehasportverbandes Saar
DESCRIPTION:
URL:https://www.kloster-heilig-kreuz.de/veranstaltungen/fortbildung-des-behinderten-und-rehasportverbandes-saar-9/
LOCATION:Großer Saal des Geistlichen Zentrums
END:VEVENT
BEGIN:VEVENT
DTSTART;TZID=Europe/Berlin:20240120T080000
DTEND;TZID=Europe/Berlin:20240120T170000
DTSTAMP:20260422T122438
CREATED:20231110T093845Z
LAST-MODIFIED:20231110T093845Z
UID:2971-1705737600-1705770000@www.kloster-heilig-kreuz.de
SUMMARY:Fortbildung des Behinderten- und Rehasportverbandes Saar
DESCRIPTION:
URL:https://www.kloster-heilig-kreuz.de/veranstaltungen/fortbildung-des-behinderten-und-rehasportverbandes-saar-10/
END:VEVENT
BEGIN:VEVENT
DTSTART;TZID=Europe/Berlin:20240123T180000
DTEND;TZID=Europe/Berlin:20240123T190000
DTSTAMP:20260422T122438
CREATED:20240123T103823Z
LAST-MODIFIED:20240123T103823Z
UID:3088-1706032800-1706036400@www.kloster-heilig-kreuz.de
SUMMARY:Heilige Messe
DESCRIPTION:
URL:https://www.kloster-heilig-kreuz.de/veranstaltungen/heilige-messe-243/
LOCATION:Klosterkirche
END:VEVENT
BEGIN:VEVENT
DTSTART;TZID=Europe/Berlin:20240123T180000
DTEND;TZID=Europe/Berlin:20240123T190000
DTSTAMP:20260422T122438
CREATED:20240123T104342Z
LAST-MODIFIED:20240123T104342Z
UID:3102-1706032800-1706036400@www.kloster-heilig-kreuz.de
SUMMARY:Heilige Messe
DESCRIPTION:
URL:https://www.kloster-heilig-kreuz.de/veranstaltungen/heilige-messe-245/
LOCATION:Klosterkirche
END:VEVENT
BEGIN:VEVENT
DTSTART;TZID=Europe/Berlin:20240124T130000
DTEND;TZID=Europe/Berlin:20240124T180000
DTSTAMP:20260422T122438
CREATED:20240123T103956Z
LAST-MODIFIED:20240123T103956Z
UID:3093-1706101200-1706119200@www.kloster-heilig-kreuz.de
SUMMARY:Eucharistische Anbetung
DESCRIPTION:
URL:https://www.kloster-heilig-kreuz.de/veranstaltungen/eucharistische-anbetung-36/
LOCATION:Klosterkirche
END:VEVENT
BEGIN:VEVENT
DTSTART;TZID=Europe/Berlin:20240124T180000
DTEND;TZID=Europe/Berlin:20240124T190000
DTSTAMP:20260422T122438
CREATED:20240123T103915Z
LAST-MODIFIED:20240123T103915Z
UID:3091-1706119200-1706122800@www.kloster-heilig-kreuz.de
SUMMARY:Heilige Messe
DESCRIPTION:
URL:https://www.kloster-heilig-kreuz.de/veranstaltungen/heilige-messe-244/
LOCATION:Klosterkirche
END:VEVENT
BEGIN:VEVENT
DTSTART;TZID=Europe/Berlin:20240125T180000
DTEND;TZID=Europe/Berlin:20240125T190000
DTSTAMP:20260422T122438
CREATED:20240123T104117Z
LAST-MODIFIED:20240123T104117Z
UID:3098-1706205600-1706209200@www.kloster-heilig-kreuz.de
SUMMARY:Heilige Messe
DESCRIPTION:
URL:https://www.kloster-heilig-kreuz.de/veranstaltungen/heilige-messe-246/
LOCATION:Klosterkirche
END:VEVENT
BEGIN:VEVENT
DTSTART;TZID=Europe/Berlin:20240126T190000
DTEND;TZID=Europe/Berlin:20240126T203000
DTSTAMP:20260422T122438
CREATED:20231222T102152Z
LAST-MODIFIED:20231222T102152Z
UID:3057-1706295600-1706301000@www.kloster-heilig-kreuz.de
SUMMARY:"In deine Hände lege ich mein Leben" - Das tägliche Gebet der Kirche - Die Komplet (Prof. Marco Benini\, Trier)
DESCRIPTION:
URL:https://www.kloster-heilig-kreuz.de/veranstaltungen/in-deine-haende-lege-ich-mein-leben-das-taegliche-gebet-der-kirche-die-komplet-prof-marco-benini-trier/
LOCATION:Großer Saal des Geistlichen Zentrums
END:VEVENT
BEGIN:VEVENT
DTSTART;TZID=Europe/Berlin:20240127T180000
DTEND;TZID=Europe/Berlin:20240127T190000
DTSTAMP:20260422T122438
CREATED:20240123T104157Z
LAST-MODIFIED:20240123T104157Z
UID:3100-1706378400-1706382000@www.kloster-heilig-kreuz.de
SUMMARY:Heilige Messe
DESCRIPTION:
URL:https://www.kloster-heilig-kreuz.de/veranstaltungen/heilige-messe-247/
LOCATION:Klosterkirche
END:VEVENT
BEGIN:VEVENT
DTSTART;TZID=Europe/Berlin:20240128T160000
DTEND;TZID=Europe/Berlin:20240128T170000
DTSTAMP:20260422T122438
CREATED:20240123T104446Z
LAST-MODIFIED:20240123T104446Z
UID:3104-1706457600-1706461200@www.kloster-heilig-kreuz.de
SUMMARY:Eucharistische Anbetung
DESCRIPTION:
URL:https://www.kloster-heilig-kreuz.de/veranstaltungen/eucharistische-anbetung-37/
LOCATION:Klosterkirche
END:VEVENT
BEGIN:VEVENT
DTSTART;TZID=Europe/Berlin:20240128T160000
DTEND;TZID=Europe/Berlin:20240128T210000
DTSTAMP:20260422T122438
CREATED:20231222T102323Z
LAST-MODIFIED:20231222T102323Z
UID:3059-1706457600-1706475600@www.kloster-heilig-kreuz.de
SUMMARY:Tag des Gottgeweihten Lebens - Gebet um Geistliche Berufungen\, Impuls\, Anbetung\, Vesper\, Hl. Messe und Begegnung
DESCRIPTION:
URL:https://www.kloster-heilig-kreuz.de/veranstaltungen/tag-des-gottgeweihten-lebens-gebet-um-geistliche-berufungen-impuls-anbetung-vesper-hl-messe-und-begegnung/
LOCATION:Klosterkirche
END:VEVENT
BEGIN:VEVENT
DTSTART;TZID=Europe/Berlin:20240128T170000
DTEND;TZID=Europe/Berlin:20240128T180000
DTSTAMP:20260422T122438
CREATED:20240123T104523Z
LAST-MODIFIED:20240123T104523Z
UID:3106-1706461200-1706464800@www.kloster-heilig-kreuz.de
SUMMARY:Vesper
DESCRIPTION:
URL:https://www.kloster-heilig-kreuz.de/veranstaltungen/vesper/
LOCATION:Klosterkirche
END:VEVENT
BEGIN:VEVENT
DTSTART;TZID=Europe/Berlin:20240128T180000
DTEND;TZID=Europe/Berlin:20240128T190000
DTSTAMP:20260422T122438
CREATED:20240123T104551Z
LAST-MODIFIED:20240123T104551Z
UID:3108-1706464800-1706468400@www.kloster-heilig-kreuz.de
SUMMARY:Heilige Messe
DESCRIPTION:
URL:https://www.kloster-heilig-kreuz.de/veranstaltungen/heilige-messe-248/
LOCATION:Klosterkirche
END:VEVENT
BEGIN:VEVENT
DTSTART;TZID=Europe/Berlin:20240129T173000
DTEND;TZID=Europe/Berlin:20240129T193000
DTSTAMP:20260422T122438
CREATED:20240123T104706Z
LAST-MODIFIED:20240123T104706Z
UID:3110-1706549400-1706556600@www.kloster-heilig-kreuz.de
SUMMARY:Meditationskurs
DESCRIPTION:
URL:https://www.kloster-heilig-kreuz.de/veranstaltungen/meditationskurs-9/
LOCATION:Meditations- und Gottesdienstraum des Geistlichen Zentrums
END:VEVENT
BEGIN:VEVENT
DTSTART;TZID=Europe/Berlin:20240129T180000
DTEND;TZID=Europe/Berlin:20240129T190000
DTSTAMP:20260422T122438
CREATED:20240123T104734Z
LAST-MODIFIED:20240123T104734Z
UID:3112-1706551200-1706554800@www.kloster-heilig-kreuz.de
SUMMARY:Heilige Messe
DESCRIPTION:
URL:https://www.kloster-heilig-kreuz.de/veranstaltungen/heilige-messe-249/
LOCATION:Klosterkirche
END:VEVENT
END:VCALENDAR