BEGIN:VCALENDAR
VERSION:2.0
PRODID:-//Kloster Heilig Kreuz - ECPv6.0.11//NONSGML v1.0//EN
CALSCALE:GREGORIAN
METHOD:PUBLISH
X-ORIGINAL-URL:https://www.kloster-heilig-kreuz.de
X-WR-CALDESC:Veranstaltungen für Kloster Heilig Kreuz
REFRESH-INTERVAL;VALUE=DURATION:PT1H
X-Robots-Tag:noindex
X-PUBLISHED-TTL:PT1H
BEGIN:VTIMEZONE
TZID:Europe/Berlin
BEGIN:DAYLIGHT
TZOFFSETFROM:+0100
TZOFFSETTO:+0200
TZNAME:CEST
DTSTART:20240331T010000
END:DAYLIGHT
BEGIN:STANDARD
TZOFFSETFROM:+0200
TZOFFSETTO:+0100
TZNAME:CET
DTSTART:20241027T010000
END:STANDARD
END:VTIMEZONE
BEGIN:VEVENT
DTSTART;TZID=Europe/Berlin:20240201T130000
DTEND;TZID=Europe/Berlin:20240201T180000
DTSTAMP:20260422T173943
CREATED:20240123T104915Z
LAST-MODIFIED:20240123T104915Z
UID:3118-1706792400-1706810400@www.kloster-heilig-kreuz.de
SUMMARY:Eucharistische Anbetung
DESCRIPTION:
URL:https://www.kloster-heilig-kreuz.de/veranstaltungen/eucharistische-anbetung-38/
LOCATION:Klosterkirche
END:VEVENT
BEGIN:VEVENT
DTSTART;TZID=Europe/Berlin:20240201T180000
DTEND;TZID=Europe/Berlin:20240201T190000
DTSTAMP:20260422T173943
CREATED:20240123T104948Z
LAST-MODIFIED:20240123T104948Z
UID:3120-1706810400-1706814000@www.kloster-heilig-kreuz.de
SUMMARY:Heilige Messe
DESCRIPTION:
URL:https://www.kloster-heilig-kreuz.de/veranstaltungen/heilige-messe-252/
LOCATION:Klosterkirche
END:VEVENT
BEGIN:VEVENT
DTSTART;TZID=Europe/Berlin:20240201T183000
DTEND;TZID=Europe/Berlin:20240201T203000
DTSTAMP:20260422T173943
CREATED:20240123T105057Z
LAST-MODIFIED:20240123T105057Z
UID:3122-1706812200-1706819400@www.kloster-heilig-kreuz.de
SUMMARY:Zeichenwerkstatt - VHS
DESCRIPTION:
URL:https://www.kloster-heilig-kreuz.de/veranstaltungen/zeichenwerkstatt-vhs/
LOCATION:Großer Saal des Geistlichen Zentrums
END:VEVENT
BEGIN:VEVENT
DTSTART;TZID=Europe/Berlin:20240202T083000
DTEND;TZID=Europe/Berlin:20240202T153000
DTSTAMP:20260422T173943
CREATED:20240126T082138Z
LAST-MODIFIED:20240126T082138Z
UID:3129-1706862600-1706887800@www.kloster-heilig-kreuz.de
SUMMARY:Fortbildung des Behinderten- und Rehasportverbandes Saarland
DESCRIPTION:
URL:https://www.kloster-heilig-kreuz.de/veranstaltungen/fortbildung-des-behinderten-und-rehasportverbandes-saarland-8/
LOCATION:Großer Saal des Geistlichen Zentrums
END:VEVENT
BEGIN:VEVENT
DTSTART;TZID=Europe/Berlin:20240202T180000
DTEND;TZID=Europe/Berlin:20240202T190000
DTSTAMP:20260422T173943
CREATED:20240126T082019Z
LAST-MODIFIED:20240126T082019Z
UID:3126-1706896800-1706900400@www.kloster-heilig-kreuz.de
SUMMARY:Heilige Messe
DESCRIPTION:
URL:https://www.kloster-heilig-kreuz.de/veranstaltungen/heilige-messe-253/
LOCATION:Klosterkirche
END:VEVENT
BEGIN:VEVENT
DTSTART;TZID=Europe/Berlin:20240203T083000
DTEND;TZID=Europe/Berlin:20240203T153000
DTSTAMP:20260422T173943
CREATED:20240126T082303Z
LAST-MODIFIED:20240126T082303Z
UID:3133-1706949000-1706974200@www.kloster-heilig-kreuz.de
SUMMARY:Fortbildung des Behinderten- und Rehasportverbandes Saarland
DESCRIPTION:
URL:https://www.kloster-heilig-kreuz.de/veranstaltungen/fortbildung-des-behinderten-und-rehasportverbandes-saarland-9/
LOCATION:Großer Saal des Geistlichen Zentrums
END:VEVENT
BEGIN:VEVENT
DTSTART;TZID=Europe/Berlin:20240203T180000
DTEND;TZID=Europe/Berlin:20240203T190000
DTSTAMP:20260422T173943
CREATED:20240126T082216Z
LAST-MODIFIED:20240126T082216Z
UID:3131-1706983200-1706986800@www.kloster-heilig-kreuz.de
SUMMARY:Heilige Messe
DESCRIPTION:
URL:https://www.kloster-heilig-kreuz.de/veranstaltungen/heilige-messe-254/
LOCATION:Klosterkirche
END:VEVENT
BEGIN:VEVENT
DTSTART;TZID=Europe/Berlin:20240204T180000
DTEND;TZID=Europe/Berlin:20240204T190000
DTSTAMP:20260422T173943
CREATED:20231222T102418Z
LAST-MODIFIED:20231222T102418Z
UID:3061-1707069600-1707073200@www.kloster-heilig-kreuz.de
SUMMARY:Monatliche Predigt zum Jahr des Glaubens zum Thema "Tür nach Innen - Wege zum Inneren Gebet"
DESCRIPTION:
URL:https://www.kloster-heilig-kreuz.de/veranstaltungen/monatliche-predigt-zum-jahr-des-glaubens-zum-thema-tuer-nach-innen-wege-zum-inneren-gebet-2/
LOCATION:Klosterkirche
END:VEVENT
BEGIN:VEVENT
DTSTART;TZID=Europe/Berlin:20240204T180000
DTEND;TZID=Europe/Berlin:20240204T190000
DTSTAMP:20260422T173943
CREATED:20240126T082334Z
LAST-MODIFIED:20240126T082334Z
UID:3135-1707069600-1707073200@www.kloster-heilig-kreuz.de
SUMMARY:Heilige Messe
DESCRIPTION:
URL:https://www.kloster-heilig-kreuz.de/veranstaltungen/heilige-messe-255/
LOCATION:Klosterkirche
END:VEVENT
BEGIN:VEVENT
DTSTART;TZID=Europe/Berlin:20240205T090000
DTEND;TZID=Europe/Berlin:20240205T170000
DTSTAMP:20260422T173943
CREATED:20240202T104943Z
LAST-MODIFIED:20240202T104943Z
UID:3253-1707123600-1707152400@www.kloster-heilig-kreuz.de
SUMMARY:Einkehrtag der Erstkommunionkinder Schwalbach
DESCRIPTION:
URL:https://www.kloster-heilig-kreuz.de/veranstaltungen/einkehrtag-der-erstkommunionkinder-schwalbach/
LOCATION:Kloster\, Völklingerstraße 197\, Püttlingen\, 66346
END:VEVENT
BEGIN:VEVENT
DTSTART;TZID=Europe/Berlin:20240205T180000
DTEND;TZID=Europe/Berlin:20240205T190000
DTSTAMP:20260422T173943
CREATED:20240126T082417Z
LAST-MODIFIED:20240126T082417Z
UID:3137-1707156000-1707159600@www.kloster-heilig-kreuz.de
SUMMARY:Heilige Messe
DESCRIPTION:
URL:https://www.kloster-heilig-kreuz.de/veranstaltungen/heilige-messe-256/
LOCATION:Klosterkirche
END:VEVENT
BEGIN:VEVENT
DTSTART;TZID=Europe/Berlin:20240206T180000
DTEND;TZID=Europe/Berlin:20240206T190000
DTSTAMP:20260422T173943
CREATED:20240126T082445Z
LAST-MODIFIED:20240126T082445Z
UID:3139-1707242400-1707246000@www.kloster-heilig-kreuz.de
SUMMARY:Heilige Messe
DESCRIPTION:
URL:https://www.kloster-heilig-kreuz.de/veranstaltungen/heilige-messe-257/
LOCATION:Klosterkirche
END:VEVENT
BEGIN:VEVENT
DTSTART;TZID=Europe/Berlin:20240207T180000
DTEND;TZID=Europe/Berlin:20240207T190000
DTSTAMP:20260422T173943
CREATED:20240126T082526Z
LAST-MODIFIED:20240126T082526Z
UID:3141-1707328800-1707332400@www.kloster-heilig-kreuz.de
SUMMARY:Heilige Messe
DESCRIPTION:
URL:https://www.kloster-heilig-kreuz.de/veranstaltungen/heilige-messe-258/
LOCATION:Klosterkirche
END:VEVENT
BEGIN:VEVENT
DTSTART;TZID=Europe/Berlin:20240207T190000
DTEND;TZID=Europe/Berlin:20240207T203000
DTSTAMP:20260422T173943
CREATED:20240126T082612Z
LAST-MODIFIED:20240126T082612Z
UID:3143-1707332400-1707337800@www.kloster-heilig-kreuz.de
SUMMARY:Schriftgespräch mit Pfr. Stoffel
DESCRIPTION:
URL:https://www.kloster-heilig-kreuz.de/veranstaltungen/schriftgespraech-mit-pfr-stoffel/
LOCATION:Konferenzraum des Geistlichen Zentrums
END:VEVENT
BEGIN:VEVENT
DTSTART;TZID=Europe/Berlin:20240208T130000
DTEND;TZID=Europe/Berlin:20240208T180000
DTSTAMP:20260422T173943
CREATED:20240126T082647Z
LAST-MODIFIED:20240126T082647Z
UID:3145-1707397200-1707415200@www.kloster-heilig-kreuz.de
SUMMARY:Eucharistische Anbetung
DESCRIPTION:
URL:https://www.kloster-heilig-kreuz.de/veranstaltungen/eucharistische-anbetung-39/
LOCATION:Klosterkirche
END:VEVENT
BEGIN:VEVENT
DTSTART;TZID=Europe/Berlin:20240208T180000
DTEND;TZID=Europe/Berlin:20240208T190000
DTSTAMP:20260422T173943
CREATED:20240126T082731Z
LAST-MODIFIED:20240126T082731Z
UID:3147-1707415200-1707418800@www.kloster-heilig-kreuz.de
SUMMARY:Heilige Messe
DESCRIPTION:
URL:https://www.kloster-heilig-kreuz.de/veranstaltungen/heilige-messe-259/
LOCATION:Klosterkirche
END:VEVENT
BEGIN:VEVENT
DTSTART;TZID=Europe/Berlin:20240208T180000
DTEND;TZID=Europe/Berlin:20240208T190000
DTSTAMP:20260422T173943
CREATED:20240202T105148Z
LAST-MODIFIED:20240202T105148Z
UID:3261-1707415200-1707418800@www.kloster-heilig-kreuz.de
SUMMARY:Heilige Messe
DESCRIPTION:
URL:https://www.kloster-heilig-kreuz.de/veranstaltungen/heilige-messe-288/
LOCATION:Klosterkirche
END:VEVENT
BEGIN:VEVENT
DTSTART;TZID=Europe/Berlin:20240209T180000
DTEND;TZID=Europe/Berlin:20240209T190000
DTSTAMP:20260422T173943
CREATED:20240126T082756Z
LAST-MODIFIED:20240126T082756Z
UID:3149-1707501600-1707505200@www.kloster-heilig-kreuz.de
SUMMARY:Heilige Messe
DESCRIPTION:
URL:https://www.kloster-heilig-kreuz.de/veranstaltungen/heilige-messe-260/
LOCATION:Klosterkirche
END:VEVENT
BEGIN:VEVENT
DTSTART;TZID=Europe/Berlin:20240210T180000
DTEND;TZID=Europe/Berlin:20240210T190000
DTSTAMP:20260422T173943
CREATED:20240126T091814Z
LAST-MODIFIED:20240126T091814Z
UID:3151-1707588000-1707591600@www.kloster-heilig-kreuz.de
SUMMARY:Heilige Messe
DESCRIPTION:
URL:https://www.kloster-heilig-kreuz.de/veranstaltungen/heilige-messe-261/
LOCATION:Klosterkirche
END:VEVENT
BEGIN:VEVENT
DTSTART;TZID=Europe/Berlin:20240211T150000
DTEND;TZID=Europe/Berlin:20240211T180000
DTSTAMP:20260422T173943
CREATED:20240126T092609Z
LAST-MODIFIED:20240126T092609Z
UID:3157-1707663600-1707674400@www.kloster-heilig-kreuz.de
SUMMARY:Spanischsprachige Gemeinde
DESCRIPTION:
URL:https://www.kloster-heilig-kreuz.de/veranstaltungen/spanischsprachige-gemeinde-2/
LOCATION:Großer Saal des Geistlichen Zentrums
END:VEVENT
BEGIN:VEVENT
DTSTART;TZID=Europe/Berlin:20240211T180000
DTEND;TZID=Europe/Berlin:20240211T190000
DTSTAMP:20260422T173943
CREATED:20240126T092458Z
LAST-MODIFIED:20240126T092458Z
UID:3154-1707674400-1707678000@www.kloster-heilig-kreuz.de
SUMMARY:Heilige Messe
DESCRIPTION:
URL:https://www.kloster-heilig-kreuz.de/veranstaltungen/heilige-messe-262/
LOCATION:Klosterkirche
END:VEVENT
BEGIN:VEVENT
DTSTART;TZID=Europe/Berlin:20240212T180000
DTEND;TZID=Europe/Berlin:20240212T190000
DTSTAMP:20260422T173943
CREATED:20240126T092646Z
LAST-MODIFIED:20240126T092646Z
UID:3159-1707760800-1707764400@www.kloster-heilig-kreuz.de
SUMMARY:Heilige Messe
DESCRIPTION:
URL:https://www.kloster-heilig-kreuz.de/veranstaltungen/heilige-messe-263/
LOCATION:Klosterkirche
END:VEVENT
BEGIN:VEVENT
DTSTART;TZID=Europe/Berlin:20240212T190000
DTEND;TZID=Europe/Berlin:20240212T200000
DTSTAMP:20260422T173943
CREATED:20240206T082010Z
LAST-MODIFIED:20240220T105318Z
UID:3286-1707764400-1707768000@www.kloster-heilig-kreuz.de
SUMMARY:Eröffnung der Ausstellung zum Kreuzweg von Sr. Theodolinde Katzenmaier
DESCRIPTION:
URL:https://www.kloster-heilig-kreuz.de/veranstaltungen/eroeffnung-der-ausstellung-zum-kreuzweg-von-sr-theodolinde-katzenmeier/
LOCATION:Großer Saal des Geistlichen Zentrums
END:VEVENT
BEGIN:VEVENT
DTSTART;TZID=Europe/Berlin:20240213T180000
DTEND;TZID=Europe/Berlin:20240213T190000
DTSTAMP:20260422T173943
CREATED:20240126T092819Z
LAST-MODIFIED:20240126T092819Z
UID:3164-1707847200-1707850800@www.kloster-heilig-kreuz.de
SUMMARY:Heilige Messe
DESCRIPTION:
URL:https://www.kloster-heilig-kreuz.de/veranstaltungen/heilige-messe-264/
LOCATION:Klosterkirche
END:VEVENT
BEGIN:VEVENT
DTSTART;TZID=Europe/Berlin:20240214T180000
DTEND;TZID=Europe/Berlin:20240214T190000
DTSTAMP:20260422T173943
CREATED:20240126T093118Z
LAST-MODIFIED:20240126T093118Z
UID:3171-1707933600-1707937200@www.kloster-heilig-kreuz.de
SUMMARY:Heilige Messe
DESCRIPTION:
URL:https://www.kloster-heilig-kreuz.de/veranstaltungen/heilige-messe-266/
LOCATION:Klosterkirche
END:VEVENT
BEGIN:VEVENT
DTSTART;TZID=Europe/Berlin:20240214T190000
DTEND;TZID=Europe/Berlin:20240214T210000
DTSTAMP:20260422T173943
CREATED:20240126T093152Z
LAST-MODIFIED:20240126T093152Z
UID:3173-1707937200-1707944400@www.kloster-heilig-kreuz.de
SUMMARY:Geistliche Weggemeinschaft
DESCRIPTION:
URL:https://www.kloster-heilig-kreuz.de/veranstaltungen/geistliche-weggemeinschaft-11/
LOCATION:Konferenzraum des Geistlichen Zentrums
END:VEVENT
BEGIN:VEVENT
DTSTART;TZID=Europe/Berlin:20240215T000000
DTEND;TZID=Europe/Berlin:20240221T000000
DTSTAMP:20260422T173943
CREATED:20231222T102638Z
LAST-MODIFIED:20231222T102638Z
UID:3063-1707955200-1708473600@www.kloster-heilig-kreuz.de
SUMMARY:Fastenwoche "Mit Leib und Seele"
DESCRIPTION:
URL:https://www.kloster-heilig-kreuz.de/veranstaltungen/fastenwoche-mit-leib-und-seele/
END:VEVENT
BEGIN:VEVENT
DTSTART;TZID=Europe/Berlin:20240215T150000
DTEND;TZID=Europe/Berlin:20240215T180000
DTSTAMP:20260422T173943
CREATED:20240126T092943Z
LAST-MODIFIED:20240126T092943Z
UID:3167-1708009200-1708020000@www.kloster-heilig-kreuz.de
SUMMARY:Eucharistische Anbetung
DESCRIPTION:
URL:https://www.kloster-heilig-kreuz.de/veranstaltungen/eucharistische-anbetung-40/
LOCATION:Klosterkirche
END:VEVENT
BEGIN:VEVENT
DTSTART;TZID=Europe/Berlin:20240215T180000
DTEND;TZID=Europe/Berlin:20240215T190000
DTSTAMP:20260422T173943
CREATED:20240126T093019Z
LAST-MODIFIED:20240126T093019Z
UID:3169-1708020000-1708023600@www.kloster-heilig-kreuz.de
SUMMARY:Heilige Messe
DESCRIPTION:
URL:https://www.kloster-heilig-kreuz.de/veranstaltungen/heilige-messe-265/
LOCATION:Klosterkirche
END:VEVENT
BEGIN:VEVENT
DTSTART;TZID=Europe/Berlin:20240216T180000
DTEND;TZID=Europe/Berlin:20240216T190000
DTSTAMP:20260422T173943
CREATED:20240126T093223Z
LAST-MODIFIED:20240126T093223Z
UID:3175-1708106400-1708110000@www.kloster-heilig-kreuz.de
SUMMARY:Heilige Messe
DESCRIPTION:
URL:https://www.kloster-heilig-kreuz.de/veranstaltungen/heilige-messe-267/
LOCATION:Klosterkirche
END:VEVENT
END:VCALENDAR