BEGIN:VCALENDAR
VERSION:2.0
PRODID:-//Kloster Heilig Kreuz - ECPv6.0.11//NONSGML v1.0//EN
CALSCALE:GREGORIAN
METHOD:PUBLISH
X-WR-CALNAME:Kloster Heilig Kreuz
X-ORIGINAL-URL:https://www.kloster-heilig-kreuz.de
X-WR-CALDESC:Veranstaltungen für Kloster Heilig Kreuz
REFRESH-INTERVAL;VALUE=DURATION:PT1H
X-Robots-Tag:noindex
X-PUBLISHED-TTL:PT1H
BEGIN:VTIMEZONE
TZID:Europe/Berlin
BEGIN:DAYLIGHT
TZOFFSETFROM:+0100
TZOFFSETTO:+0200
TZNAME:CEST
DTSTART:20240331T010000
END:DAYLIGHT
BEGIN:STANDARD
TZOFFSETFROM:+0200
TZOFFSETTO:+0100
TZNAME:CET
DTSTART:20241027T010000
END:STANDARD
END:VTIMEZONE
BEGIN:VEVENT
DTSTART;TZID=Europe/Berlin:20240301T080000
DTEND;TZID=Europe/Berlin:20240301T170000
DTSTAMP:20260422T215006
CREATED:20240202T094732Z
LAST-MODIFIED:20240202T094732Z
UID:3236-1709280000-1709312400@www.kloster-heilig-kreuz.de
SUMMARY:Fortbildung Behinderten -und Rehasportverband Saarland
DESCRIPTION:
URL:https://www.kloster-heilig-kreuz.de/veranstaltungen/fortbildung-behinderten-und-rehasportverband-saarland-6/
LOCATION:Großer Saal des Geistlichen Zentrums
END:VEVENT
BEGIN:VEVENT
DTSTART;TZID=Europe/Berlin:20240301T180000
DTEND;TZID=Europe/Berlin:20240301T190000
DTSTAMP:20260422T215006
CREATED:20240202T094804Z
LAST-MODIFIED:20240202T094804Z
UID:3238-1709316000-1709319600@www.kloster-heilig-kreuz.de
SUMMARY:Heilige Messe
DESCRIPTION:
URL:https://www.kloster-heilig-kreuz.de/veranstaltungen/heilige-messe-281/
LOCATION:Klosterkirche
END:VEVENT
BEGIN:VEVENT
DTSTART;TZID=Europe/Berlin:20240302T180000
DTEND;TZID=Europe/Berlin:20240302T190000
DTSTAMP:20260422T215006
CREATED:20240202T094832Z
LAST-MODIFIED:20240202T094832Z
UID:3240-1709402400-1709406000@www.kloster-heilig-kreuz.de
SUMMARY:Heilige Messe
DESCRIPTION:
URL:https://www.kloster-heilig-kreuz.de/veranstaltungen/heilige-messe-282/
LOCATION:Klosterkirche
END:VEVENT
BEGIN:VEVENT
DTSTART;TZID=Europe/Berlin:20240303T180000
DTEND;TZID=Europe/Berlin:20240303T190000
DTSTAMP:20260422T215006
CREATED:20240202T104536Z
LAST-MODIFIED:20240202T104536Z
UID:3245-1709488800-1709492400@www.kloster-heilig-kreuz.de
SUMMARY:Heilige Messe
DESCRIPTION:
URL:https://www.kloster-heilig-kreuz.de/veranstaltungen/heilige-messe-283/
LOCATION:Klosterkirche
END:VEVENT
BEGIN:VEVENT
DTSTART;TZID=Europe/Berlin:20240303T180000
DTEND;TZID=Europe/Berlin:20240303T190000
DTSTAMP:20260422T215006
CREATED:20240202T104644Z
LAST-MODIFIED:20240202T104644Z
UID:3247-1709488800-1709492400@www.kloster-heilig-kreuz.de
SUMMARY:Monatliche Predigt zum Jahr des Gebetes
DESCRIPTION:
URL:https://www.kloster-heilig-kreuz.de/veranstaltungen/monatliche-predigt-zum-jahr-des-gebetes/
LOCATION:Klosterkirche
END:VEVENT
BEGIN:VEVENT
DTSTART;TZID=Europe/Berlin:20240304T180000
DTEND;TZID=Europe/Berlin:20240304T190000
DTSTAMP:20260422T215006
CREATED:20240202T104717Z
LAST-MODIFIED:20240202T104717Z
UID:3249-1709575200-1709578800@www.kloster-heilig-kreuz.de
SUMMARY:Heilige Messe
DESCRIPTION:
URL:https://www.kloster-heilig-kreuz.de/veranstaltungen/heilige-messe-284/
LOCATION:Klosterkirche
END:VEVENT
BEGIN:VEVENT
DTSTART;TZID=Europe/Berlin:20240305T180000
DTEND;TZID=Europe/Berlin:20240305T190000
DTSTAMP:20260422T215006
CREATED:20240202T104748Z
LAST-MODIFIED:20240202T104748Z
UID:3251-1709661600-1709665200@www.kloster-heilig-kreuz.de
SUMMARY:Heilige Messe
DESCRIPTION:
URL:https://www.kloster-heilig-kreuz.de/veranstaltungen/heilige-messe-285/
LOCATION:Klosterkirche
END:VEVENT
BEGIN:VEVENT
DTSTART;TZID=Europe/Berlin:20240306T180000
DTEND;TZID=Europe/Berlin:20240306T190000
DTSTAMP:20260422T215006
CREATED:20240202T105016Z
LAST-MODIFIED:20240202T105016Z
UID:3255-1709748000-1709751600@www.kloster-heilig-kreuz.de
SUMMARY:Heilige Messe
DESCRIPTION:
URL:https://www.kloster-heilig-kreuz.de/veranstaltungen/heilige-messe-286/
LOCATION:Klosterkirche
END:VEVENT
BEGIN:VEVENT
DTSTART;TZID=Europe/Berlin:20240307T150000
DTEND;TZID=Europe/Berlin:20240307T180000
DTSTAMP:20260422T215006
CREATED:20240202T105049Z
LAST-MODIFIED:20240202T105049Z
UID:3257-1709823600-1709834400@www.kloster-heilig-kreuz.de
SUMMARY:Eucharistische Anbetung
DESCRIPTION:
URL:https://www.kloster-heilig-kreuz.de/veranstaltungen/eucharistische-anbetung-43/
LOCATION:Klosterkirche
END:VEVENT
BEGIN:VEVENT
DTSTART;TZID=Europe/Berlin:20240307T180000
DTEND;TZID=Europe/Berlin:20240307T190000
DTSTAMP:20260422T215006
CREATED:20240202T105117Z
LAST-MODIFIED:20240202T105117Z
UID:3259-1709834400-1709838000@www.kloster-heilig-kreuz.de
SUMMARY:Heilige Messe
DESCRIPTION:
URL:https://www.kloster-heilig-kreuz.de/veranstaltungen/heilige-messe-287/
LOCATION:Klosterkirche
END:VEVENT
BEGIN:VEVENT
DTSTART;TZID=Europe/Berlin:20240309T180000
DTEND;TZID=Europe/Berlin:20240309T190000
DTSTAMP:20260422T215006
CREATED:20240202T105227Z
LAST-MODIFIED:20240202T105227Z
UID:3263-1710007200-1710010800@www.kloster-heilig-kreuz.de
SUMMARY:Heilige Messe
DESCRIPTION:
URL:https://www.kloster-heilig-kreuz.de/veranstaltungen/heilige-messe-289/
LOCATION:Klosterkirche
END:VEVENT
BEGIN:VEVENT
DTSTART;TZID=Europe/Berlin:20240310T150000
DTEND;TZID=Europe/Berlin:20240310T180000
DTSTAMP:20260422T215006
CREATED:20240202T105311Z
LAST-MODIFIED:20240202T105311Z
UID:3265-1710082800-1710093600@www.kloster-heilig-kreuz.de
SUMMARY:Treffen der Spanischsprachigen Gemeinde
DESCRIPTION:
URL:https://www.kloster-heilig-kreuz.de/veranstaltungen/treffen-der-spanischsprachigen-gemeinde/
LOCATION:Großer Saal des Geistlichen Zentrums
END:VEVENT
BEGIN:VEVENT
DTSTART;TZID=Europe/Berlin:20240310T180000
DTEND;TZID=Europe/Berlin:20240310T190000
DTSTAMP:20260422T215006
CREATED:20240202T105339Z
LAST-MODIFIED:20240202T105339Z
UID:3267-1710093600-1710097200@www.kloster-heilig-kreuz.de
SUMMARY:Heilige Messe
DESCRIPTION:
URL:https://www.kloster-heilig-kreuz.de/veranstaltungen/heilige-messe-290/
LOCATION:Klosterkirche
END:VEVENT
BEGIN:VEVENT
DTSTART;TZID=Europe/Berlin:20240311T180000
DTEND;TZID=Europe/Berlin:20240311T190000
DTSTAMP:20260422T215006
CREATED:20240206T081251Z
LAST-MODIFIED:20240206T081251Z
UID:3269-1710180000-1710183600@www.kloster-heilig-kreuz.de
SUMMARY:Heilige Messe
DESCRIPTION:
URL:https://www.kloster-heilig-kreuz.de/veranstaltungen/heilige-messe-291/
LOCATION:Klosterkirche
END:VEVENT
BEGIN:VEVENT
DTSTART;TZID=Europe/Berlin:20240312T090000
DTEND;TZID=Europe/Berlin:20240312T170000
DTSTAMP:20260422T215006
CREATED:20240206T081347Z
LAST-MODIFIED:20240206T081347Z
UID:3271-1710234000-1710262800@www.kloster-heilig-kreuz.de
SUMMARY:Einkehrtag der Erstkommunionkinder Schwalbach
DESCRIPTION:
URL:https://www.kloster-heilig-kreuz.de/veranstaltungen/einkehrtag-der-erstkommunionkinder-schwalbach-2/
LOCATION:Großer Saal des Geistlichen Zentrums
END:VEVENT
BEGIN:VEVENT
DTSTART;TZID=Europe/Berlin:20240312T180000
DTEND;TZID=Europe/Berlin:20240312T190000
DTSTAMP:20260422T215006
CREATED:20240206T081415Z
LAST-MODIFIED:20240206T081415Z
UID:3273-1710266400-1710270000@www.kloster-heilig-kreuz.de
SUMMARY:Heilige Messe
DESCRIPTION:
URL:https://www.kloster-heilig-kreuz.de/veranstaltungen/heilige-messe-292/
LOCATION:Klosterkirche
END:VEVENT
BEGIN:VEVENT
DTSTART;TZID=Europe/Berlin:20240313T180000
DTEND;TZID=Europe/Berlin:20240313T190000
DTSTAMP:20260422T215006
CREATED:20240206T081454Z
LAST-MODIFIED:20240206T081454Z
UID:3275-1710352800-1710356400@www.kloster-heilig-kreuz.de
SUMMARY:Heilige Messe
DESCRIPTION:
URL:https://www.kloster-heilig-kreuz.de/veranstaltungen/heilige-messe-293/
LOCATION:Klosterkirche
END:VEVENT
BEGIN:VEVENT
DTSTART;TZID=Europe/Berlin:20240313T190000
DTEND;TZID=Europe/Berlin:20240313T210000
DTSTAMP:20260422T215006
CREATED:20240206T081541Z
LAST-MODIFIED:20240206T081541Z
UID:3277-1710356400-1710363600@www.kloster-heilig-kreuz.de
SUMMARY:Geistliche Weggemeinschaft
DESCRIPTION:
URL:https://www.kloster-heilig-kreuz.de/veranstaltungen/geistliche-weggemeinschaft-12/
LOCATION:Meditations- und Gottesdienstraum des Geistlichen Zentrums
END:VEVENT
BEGIN:VEVENT
DTSTART;TZID=Europe/Berlin:20240314T150000
DTEND;TZID=Europe/Berlin:20240314T180000
DTSTAMP:20260422T215006
CREATED:20240206T081612Z
LAST-MODIFIED:20240206T081612Z
UID:3279-1710428400-1710439200@www.kloster-heilig-kreuz.de
SUMMARY:Eucharistische Anbetung
DESCRIPTION:
URL:https://www.kloster-heilig-kreuz.de/veranstaltungen/eucharistische-anbetung-44/
LOCATION:Klosterkirche
END:VEVENT
BEGIN:VEVENT
DTSTART;TZID=Europe/Berlin:20240314T180000
DTEND;TZID=Europe/Berlin:20240314T190000
DTSTAMP:20260422T215006
CREATED:20240206T081637Z
LAST-MODIFIED:20240206T081637Z
UID:3281-1710439200-1710442800@www.kloster-heilig-kreuz.de
SUMMARY:Heilige Messe
DESCRIPTION:
URL:https://www.kloster-heilig-kreuz.de/veranstaltungen/heilige-messe-294/
LOCATION:Klosterkirche
END:VEVENT
BEGIN:VEVENT
DTSTART;TZID=Europe/Berlin:20240314T190000
DTEND;TZID=Europe/Berlin:20240314T200000
DTSTAMP:20260422T215006
CREATED:20240206T082053Z
LAST-MODIFIED:20240206T082053Z
UID:3288-1710442800-1710446400@www.kloster-heilig-kreuz.de
SUMMARY:Gemeinsame Betrachtung des Kreuzweges von Sr. Theodolinde Katzenmeier
DESCRIPTION:
URL:https://www.kloster-heilig-kreuz.de/veranstaltungen/gemeinsame-betrachtung-des-kreuzweges-von-sr-theodolinde-katzenmeier-2/
LOCATION:Großer Saal des Geistlichen Zentrums
END:VEVENT
BEGIN:VEVENT
DTSTART;TZID=Europe/Berlin:20240315T083000
DTEND;TZID=Europe/Berlin:20240315T153000
DTSTAMP:20260422T215006
CREATED:20240206T082425Z
LAST-MODIFIED:20240206T082425Z
UID:3290-1710491400-1710516600@www.kloster-heilig-kreuz.de
SUMMARY:Fortbildung des Behinderten- und Rehasportverbandes Saarland
DESCRIPTION:
URL:https://www.kloster-heilig-kreuz.de/veranstaltungen/fortbildung-des-behinderten-und-rehasportverbandes-saarland-10/
LOCATION:Großer Saal des Geistlichen Zentrums
END:VEVENT
BEGIN:VEVENT
DTSTART;TZID=Europe/Berlin:20240315T180000
DTEND;TZID=Europe/Berlin:20240315T190000
DTSTAMP:20260422T215006
CREATED:20240206T082602Z
LAST-MODIFIED:20240206T082602Z
UID:3295-1710525600-1710529200@www.kloster-heilig-kreuz.de
SUMMARY:Heilige Messe
DESCRIPTION:
URL:https://www.kloster-heilig-kreuz.de/veranstaltungen/heilige-messe-295/
LOCATION:Klosterkirche
END:VEVENT
BEGIN:VEVENT
DTSTART;TZID=Europe/Berlin:20240316T083000
DTEND;TZID=Europe/Berlin:20240316T153000
DTSTAMP:20260422T215006
CREATED:20240206T082653Z
LAST-MODIFIED:20240206T082653Z
UID:3297-1710577800-1710603000@www.kloster-heilig-kreuz.de
SUMMARY:Fortbildung des Behinderten- und Rehasportverbandes Saarland
DESCRIPTION:
URL:https://www.kloster-heilig-kreuz.de/veranstaltungen/fortbildung-des-behinderten-und-rehasportverbandes-saarland-11/
LOCATION:Großer Saal des Geistlichen Zentrums
END:VEVENT
BEGIN:VEVENT
DTSTART;TZID=Europe/Berlin:20240316T093000
DTEND;TZID=Europe/Berlin:20240316T140000
DTSTAMP:20260422T215006
CREATED:20240216T100409Z
LAST-MODIFIED:20240216T100409Z
UID:3349-1710581400-1710597600@www.kloster-heilig-kreuz.de
SUMMARY:"Im Kreuz ist Leben - Die Liturgie der Kar- und Ostertage" mit Prof. Dr. Marco Benini\, Trier
DESCRIPTION:
URL:https://www.kloster-heilig-kreuz.de/veranstaltungen/im-kreuz-ist-leben-die-liturgie-der-kar-und-ostertage-mit-prof-dr-marco-benini-trier/
LOCATION:Klosterkirche
END:VEVENT
BEGIN:VEVENT
DTSTART;TZID=Europe/Berlin:20240316T180000
DTEND;TZID=Europe/Berlin:20240316T190000
DTSTAMP:20260422T215006
CREATED:20240206T082723Z
LAST-MODIFIED:20240206T082723Z
UID:3299-1710612000-1710615600@www.kloster-heilig-kreuz.de
SUMMARY:Heilige Messe
DESCRIPTION:
URL:https://www.kloster-heilig-kreuz.de/veranstaltungen/heilige-messe-296/
LOCATION:Klosterkirche
END:VEVENT
BEGIN:VEVENT
DTSTART;TZID=Europe/Berlin:20240317T180000
DTEND;TZID=Europe/Berlin:20240317T190000
DTSTAMP:20260422T215006
CREATED:20240206T082751Z
LAST-MODIFIED:20240206T082751Z
UID:3301-1710698400-1710702000@www.kloster-heilig-kreuz.de
SUMMARY:Heilige Messe
DESCRIPTION:
URL:https://www.kloster-heilig-kreuz.de/veranstaltungen/heilige-messe-297/
LOCATION:Klosterkirche
END:VEVENT
BEGIN:VEVENT
DTSTART;TZID=Europe/Berlin:20240318T180000
DTEND;TZID=Europe/Berlin:20240318T190000
DTSTAMP:20260422T215006
CREATED:20240206T082831Z
LAST-MODIFIED:20240206T082831Z
UID:3303-1710784800-1710788400@www.kloster-heilig-kreuz.de
SUMMARY:Heilige Messe
DESCRIPTION:
URL:https://www.kloster-heilig-kreuz.de/veranstaltungen/heilige-messe-298/
LOCATION:Klosterkirche
END:VEVENT
BEGIN:VEVENT
DTSTART;TZID=Europe/Berlin:20240319T090000
DTEND;TZID=Europe/Berlin:20240319T170000
DTSTAMP:20260422T215006
CREATED:20240206T082911Z
LAST-MODIFIED:20240206T082911Z
UID:3305-1710838800-1710867600@www.kloster-heilig-kreuz.de
SUMMARY:Einkehrtag der Erstkommunionkinder Schwalbach
DESCRIPTION:
URL:https://www.kloster-heilig-kreuz.de/veranstaltungen/einkehrtag-der-erstkommunionkinder-schwalbach-3/
LOCATION:Großer Saal des Geistlichen Zentrums
END:VEVENT
BEGIN:VEVENT
DTSTART;TZID=Europe/Berlin:20240319T180000
DTEND;TZID=Europe/Berlin:20240319T190000
DTSTAMP:20260422T215006
CREATED:20240206T082944Z
LAST-MODIFIED:20240206T082944Z
UID:3307-1710871200-1710874800@www.kloster-heilig-kreuz.de
SUMMARY:Heilige Messe
DESCRIPTION:
URL:https://www.kloster-heilig-kreuz.de/veranstaltungen/heilige-messe-299/
LOCATION:Klosterkirche
END:VEVENT
END:VCALENDAR