BEGIN:VCALENDAR
VERSION:2.0
PRODID:-//Kloster Heilig Kreuz - ECPv6.0.11//NONSGML v1.0//EN
CALSCALE:GREGORIAN
METHOD:PUBLISH
X-ORIGINAL-URL:https://www.kloster-heilig-kreuz.de
X-WR-CALDESC:Veranstaltungen für Kloster Heilig Kreuz
REFRESH-INTERVAL;VALUE=DURATION:PT1H
X-Robots-Tag:noindex
X-PUBLISHED-TTL:PT1H
BEGIN:VTIMEZONE
TZID:Europe/Berlin
BEGIN:DAYLIGHT
TZOFFSETFROM:+0100
TZOFFSETTO:+0200
TZNAME:CEST
DTSTART:20240331T010000
END:DAYLIGHT
BEGIN:STANDARD
TZOFFSETFROM:+0200
TZOFFSETTO:+0100
TZNAME:CET
DTSTART:20241027T010000
END:STANDARD
END:VTIMEZONE
BEGIN:VEVENT
DTSTART;TZID=Europe/Berlin:20240501T180000
DTEND;TZID=Europe/Berlin:20240501T190000
DTSTAMP:20260422T224526
CREATED:20240227T094442Z
LAST-MODIFIED:20240227T094442Z
UID:3500-1714586400-1714590000@www.kloster-heilig-kreuz.de
SUMMARY:Heilige Messe
DESCRIPTION:
URL:https://www.kloster-heilig-kreuz.de/veranstaltungen/heilige-messe-341/
LOCATION:Klosterkirche
END:VEVENT
BEGIN:VEVENT
DTSTART;TZID=Europe/Berlin:20240502T150000
DTEND;TZID=Europe/Berlin:20240502T180000
DTSTAMP:20260422T224526
CREATED:20240227T094546Z
LAST-MODIFIED:20240227T094546Z
UID:3502-1714662000-1714672800@www.kloster-heilig-kreuz.de
SUMMARY:Eucharistische Anbetung
DESCRIPTION:
URL:https://www.kloster-heilig-kreuz.de/veranstaltungen/eucharistische-anbetung-51/
LOCATION:Klosterkirche
END:VEVENT
BEGIN:VEVENT
DTSTART;TZID=Europe/Berlin:20240502T180000
DTEND;TZID=Europe/Berlin:20240502T190000
DTSTAMP:20260422T224526
CREATED:20240227T094616Z
LAST-MODIFIED:20240227T094616Z
UID:3504-1714672800-1714676400@www.kloster-heilig-kreuz.de
SUMMARY:Heilige Messe
DESCRIPTION:
URL:https://www.kloster-heilig-kreuz.de/veranstaltungen/heilige-messe-342/
LOCATION:Klosterkirche
END:VEVENT
BEGIN:VEVENT
DTSTART;TZID=Europe/Berlin:20240502T184500
DTEND;TZID=Europe/Berlin:20240502T204500
DTSTAMP:20260422T224526
CREATED:20240227T094649Z
LAST-MODIFIED:20240408T070929Z
UID:3506-1714675500-1714682700@www.kloster-heilig-kreuz.de
SUMMARY:Zeichenwerkstatt
DESCRIPTION:
URL:https://www.kloster-heilig-kreuz.de/veranstaltungen/zeichenwerkstatt-2/
LOCATION:Großer Saal des Geistlichen Zentrums
END:VEVENT
BEGIN:VEVENT
DTSTART;TZID=Europe/Berlin:20240503T180000
DTEND;TZID=Europe/Berlin:20240503T190000
DTSTAMP:20260422T224526
CREATED:20240227T094722Z
LAST-MODIFIED:20240227T094722Z
UID:3508-1714759200-1714762800@www.kloster-heilig-kreuz.de
SUMMARY:Heilige Messe
DESCRIPTION:
URL:https://www.kloster-heilig-kreuz.de/veranstaltungen/heilige-messe-343/
LOCATION:Klosterkirche
END:VEVENT
BEGIN:VEVENT
DTSTART;TZID=Europe/Berlin:20240504T083000
DTEND;TZID=Europe/Berlin:20240504T170000
DTSTAMP:20260422T224526
CREATED:20240227T094851Z
LAST-MODIFIED:20240227T094851Z
UID:3512-1714811400-1714842000@www.kloster-heilig-kreuz.de
SUMMARY:Einkehrtag der Erstkommunionkinder Heilig Kreuz im Warndt
DESCRIPTION:
URL:https://www.kloster-heilig-kreuz.de/veranstaltungen/einkehrtag-der-erstkommunionkinder-heilig-kreuz-im-warndt/
LOCATION:Großer Saal des Geistlichen Zentrums
END:VEVENT
BEGIN:VEVENT
DTSTART;TZID=Europe/Berlin:20240504T180000
DTEND;TZID=Europe/Berlin:20240504T190000
DTSTAMP:20260422T224526
CREATED:20240227T094804Z
LAST-MODIFIED:20240227T094804Z
UID:3510-1714845600-1714849200@www.kloster-heilig-kreuz.de
SUMMARY:Heilige Messe
DESCRIPTION:
URL:https://www.kloster-heilig-kreuz.de/veranstaltungen/heilige-messe-344/
LOCATION:Klosterkirche
END:VEVENT
BEGIN:VEVENT
DTSTART;TZID=Europe/Berlin:20240505T180000
DTEND;TZID=Europe/Berlin:20240505T190000
DTSTAMP:20260422T224526
CREATED:20240227T094924Z
LAST-MODIFIED:20240227T094924Z
UID:3514-1714932000-1714935600@www.kloster-heilig-kreuz.de
SUMMARY:Heilige Messe
DESCRIPTION:
URL:https://www.kloster-heilig-kreuz.de/veranstaltungen/heilige-messe-345/
LOCATION:Klosterkirche
END:VEVENT
BEGIN:VEVENT
DTSTART;TZID=Europe/Berlin:20240505T180000
DTEND;TZID=Europe/Berlin:20240505T190000
DTSTAMP:20260422T224526
CREATED:20240227T095018Z
LAST-MODIFIED:20240227T095018Z
UID:3516-1714932000-1714935600@www.kloster-heilig-kreuz.de
SUMMARY:Monatliche Predigt zum Jahr des Gebetes
DESCRIPTION:
URL:https://www.kloster-heilig-kreuz.de/veranstaltungen/monatliche-predigt-zum-jahr-des-gebetes-3/
LOCATION:Klosterkirche
END:VEVENT
BEGIN:VEVENT
DTSTART;TZID=Europe/Berlin:20240506T180000
DTEND;TZID=Europe/Berlin:20240506T190000
DTSTAMP:20260422T224526
CREATED:20240227T095154Z
LAST-MODIFIED:20240227T095154Z
UID:3519-1715018400-1715022000@www.kloster-heilig-kreuz.de
SUMMARY:Heilige Messe
DESCRIPTION:
URL:https://www.kloster-heilig-kreuz.de/veranstaltungen/heilige-messe-346/
LOCATION:Klosterkirche
END:VEVENT
BEGIN:VEVENT
DTSTART;TZID=Europe/Berlin:20240507T180000
DTEND;TZID=Europe/Berlin:20240507T190000
DTSTAMP:20260422T224526
CREATED:20240227T095226Z
LAST-MODIFIED:20240227T095226Z
UID:3521-1715104800-1715108400@www.kloster-heilig-kreuz.de
SUMMARY:Heilige Messe
DESCRIPTION:
URL:https://www.kloster-heilig-kreuz.de/veranstaltungen/heilige-messe-347/
LOCATION:Klosterkirche
END:VEVENT
BEGIN:VEVENT
DTSTART;TZID=Europe/Berlin:20240508T180000
DTEND;TZID=Europe/Berlin:20240508T190000
DTSTAMP:20260422T224526
CREATED:20240227T095411Z
LAST-MODIFIED:20240227T095411Z
UID:3523-1715191200-1715194800@www.kloster-heilig-kreuz.de
SUMMARY:Heilige Messe
DESCRIPTION:
URL:https://www.kloster-heilig-kreuz.de/veranstaltungen/heilige-messe-348/
LOCATION:Klosterkirche
END:VEVENT
BEGIN:VEVENT
DTSTART;TZID=Europe/Berlin:20240508T190000
DTEND;TZID=Europe/Berlin:20240508T210000
DTSTAMP:20260422T224526
CREATED:20240227T095446Z
LAST-MODIFIED:20240227T095446Z
UID:3525-1715194800-1715202000@www.kloster-heilig-kreuz.de
SUMMARY:Geistliche Weggemeinschaft
DESCRIPTION:
URL:https://www.kloster-heilig-kreuz.de/veranstaltungen/geistliche-weggemeinschaft-14/
LOCATION:Konferenzraum des Geistlichen Zentrums
END:VEVENT
BEGIN:VEVENT
DTSTART;TZID=Europe/Berlin:20240509T150000
DTEND;TZID=Europe/Berlin:20240509T180000
DTSTAMP:20260422T224526
CREATED:20240227T095519Z
LAST-MODIFIED:20240227T095519Z
UID:3527-1715266800-1715277600@www.kloster-heilig-kreuz.de
SUMMARY:Eucharistische Anbetung
DESCRIPTION:
URL:https://www.kloster-heilig-kreuz.de/veranstaltungen/eucharistische-anbetung-52/
LOCATION:Klosterkirche
END:VEVENT
BEGIN:VEVENT
DTSTART;TZID=Europe/Berlin:20240509T180000
DTEND;TZID=Europe/Berlin:20240509T190000
DTSTAMP:20260422T224526
CREATED:20240227T095551Z
LAST-MODIFIED:20240227T095551Z
UID:3529-1715277600-1715281200@www.kloster-heilig-kreuz.de
SUMMARY:Heilige Messe
DESCRIPTION:
URL:https://www.kloster-heilig-kreuz.de/veranstaltungen/heilige-messe-349/
LOCATION:Klosterkirche
END:VEVENT
BEGIN:VEVENT
DTSTART;TZID=Europe/Berlin:20240509T184500
DTEND;TZID=Europe/Berlin:20240509T204500
DTSTAMP:20260422T224526
CREATED:20240227T095620Z
LAST-MODIFIED:20240408T070842Z
UID:3531-1715280300-1715287500@www.kloster-heilig-kreuz.de
SUMMARY:Zeichenwerkstatt
DESCRIPTION:
URL:https://www.kloster-heilig-kreuz.de/veranstaltungen/zeichenwerkstatt-3/
LOCATION:Großer Saal des Geistlichen Zentrums
END:VEVENT
BEGIN:VEVENT
DTSTART;TZID=Europe/Berlin:20240510T180000
DTEND;TZID=Europe/Berlin:20240510T190000
DTSTAMP:20260422T224526
CREATED:20240227T095655Z
LAST-MODIFIED:20240227T095655Z
UID:3533-1715364000-1715367600@www.kloster-heilig-kreuz.de
SUMMARY:Heilige Messe
DESCRIPTION:
URL:https://www.kloster-heilig-kreuz.de/veranstaltungen/heilige-messe-350/
LOCATION:Klosterkirche
END:VEVENT
BEGIN:VEVENT
DTSTART;TZID=Europe/Berlin:20240511T180000
DTEND;TZID=Europe/Berlin:20240511T190000
DTSTAMP:20260422T224526
CREATED:20240227T095758Z
LAST-MODIFIED:20240227T095758Z
UID:3535-1715450400-1715454000@www.kloster-heilig-kreuz.de
SUMMARY:Heilige Messe
DESCRIPTION:
URL:https://www.kloster-heilig-kreuz.de/veranstaltungen/heilige-messe-351/
LOCATION:Klosterkirche
END:VEVENT
BEGIN:VEVENT
DTSTART;TZID=Europe/Berlin:20240512T150000
DTEND;TZID=Europe/Berlin:20240512T180000
DTSTAMP:20260422T224526
CREATED:20240227T095907Z
LAST-MODIFIED:20240227T095907Z
UID:3539-1715526000-1715536800@www.kloster-heilig-kreuz.de
SUMMARY:Treffen Spanischsprachige Gemeinde
DESCRIPTION:
URL:https://www.kloster-heilig-kreuz.de/veranstaltungen/treffen-spanischsprachige-gemeinde/
LOCATION:Großer Saal des Geistlichen Zentrums
END:VEVENT
BEGIN:VEVENT
DTSTART;TZID=Europe/Berlin:20240512T180000
DTEND;TZID=Europe/Berlin:20240512T190000
DTSTAMP:20260422T224526
CREATED:20240227T095832Z
LAST-MODIFIED:20240227T095832Z
UID:3537-1715536800-1715540400@www.kloster-heilig-kreuz.de
SUMMARY:Heilige Messe
DESCRIPTION:
URL:https://www.kloster-heilig-kreuz.de/veranstaltungen/heilige-messe-352/
LOCATION:Klosterkirche
END:VEVENT
BEGIN:VEVENT
DTSTART;TZID=Europe/Berlin:20240513T180000
DTEND;TZID=Europe/Berlin:20240513T190000
DTSTAMP:20260422T224526
CREATED:20240227T095949Z
LAST-MODIFIED:20240227T095949Z
UID:3541-1715623200-1715626800@www.kloster-heilig-kreuz.de
SUMMARY:Heilige Messe
DESCRIPTION:
URL:https://www.kloster-heilig-kreuz.de/veranstaltungen/heilige-messe-353/
LOCATION:Klosterkirche
END:VEVENT
BEGIN:VEVENT
DTSTART;TZID=Europe/Berlin:20240514T180000
DTEND;TZID=Europe/Berlin:20240514T190000
DTSTAMP:20260422T224526
CREATED:20240227T100020Z
LAST-MODIFIED:20240227T100020Z
UID:3543-1715709600-1715713200@www.kloster-heilig-kreuz.de
SUMMARY:Heilige Messe
DESCRIPTION:
URL:https://www.kloster-heilig-kreuz.de/veranstaltungen/heilige-messe-354/
LOCATION:Klosterkirche
END:VEVENT
BEGIN:VEVENT
DTSTART;TZID=Europe/Berlin:20240515T180000
DTEND;TZID=Europe/Berlin:20240515T190000
DTSTAMP:20260422T224526
CREATED:20240227T100048Z
LAST-MODIFIED:20240227T100048Z
UID:3545-1715796000-1715799600@www.kloster-heilig-kreuz.de
SUMMARY:Heilige Messe
DESCRIPTION:
URL:https://www.kloster-heilig-kreuz.de/veranstaltungen/heilige-messe-355/
LOCATION:Klosterkirche
END:VEVENT
BEGIN:VEVENT
DTSTART;TZID=Europe/Berlin:20240516T150000
DTEND;TZID=Europe/Berlin:20240516T180000
DTSTAMP:20260422T224526
CREATED:20240227T100135Z
LAST-MODIFIED:20240227T100135Z
UID:3547-1715871600-1715882400@www.kloster-heilig-kreuz.de
SUMMARY:Eucharistische Anbetung
DESCRIPTION:
URL:https://www.kloster-heilig-kreuz.de/veranstaltungen/eucharistische-anbetung-53/
LOCATION:Klosterkirche
END:VEVENT
BEGIN:VEVENT
DTSTART;TZID=Europe/Berlin:20240516T180000
DTEND;TZID=Europe/Berlin:20240516T190000
DTSTAMP:20260422T224526
CREATED:20240227T100206Z
LAST-MODIFIED:20240227T100206Z
UID:3549-1715882400-1715886000@www.kloster-heilig-kreuz.de
SUMMARY:Heilige Messe
DESCRIPTION:
URL:https://www.kloster-heilig-kreuz.de/veranstaltungen/heilige-messe-356/
LOCATION:Klosterkirche
END:VEVENT
BEGIN:VEVENT
DTSTART;TZID=Europe/Berlin:20240516T184500
DTEND;TZID=Europe/Berlin:20240516T204500
DTSTAMP:20260422T224526
CREATED:20240227T100249Z
LAST-MODIFIED:20240408T070747Z
UID:3551-1715885100-1715892300@www.kloster-heilig-kreuz.de
SUMMARY:Zeichenwerkstatt
DESCRIPTION:
URL:https://www.kloster-heilig-kreuz.de/veranstaltungen/zeichenwerkstatt-4/
LOCATION:Großer Saal des Geistlichen Zentrums
END:VEVENT
BEGIN:VEVENT
DTSTART;TZID=Europe/Berlin:20240517T083000
DTEND;TZID=Europe/Berlin:20240517T153000
DTSTAMP:20260422T224526
CREATED:20240227T102345Z
LAST-MODIFIED:20240227T102345Z
UID:3555-1715934600-1715959800@www.kloster-heilig-kreuz.de
SUMMARY:Fortbildung Behinderten- und Rehasportverband Saar
DESCRIPTION:
URL:https://www.kloster-heilig-kreuz.de/veranstaltungen/fortbildung-behinderten-und-rehasportverband-saar-8/
LOCATION:Großer Saal des Geistlichen Zentrums
END:VEVENT
BEGIN:VEVENT
DTSTART;TZID=Europe/Berlin:20240517T180000
DTEND;TZID=Europe/Berlin:20240517T190000
DTSTAMP:20260422T224526
CREATED:20240227T102235Z
LAST-MODIFIED:20240227T102235Z
UID:3553-1715968800-1715972400@www.kloster-heilig-kreuz.de
SUMMARY:Heilige Messe
DESCRIPTION:
URL:https://www.kloster-heilig-kreuz.de/veranstaltungen/heilige-messe-357/
LOCATION:Klosterkirche
END:VEVENT
BEGIN:VEVENT
DTSTART;TZID=Europe/Berlin:20240518T083000
DTEND;TZID=Europe/Berlin:20240518T153000
DTSTAMP:20260422T224526
CREATED:20240227T102453Z
LAST-MODIFIED:20240227T102453Z
UID:3559-1716021000-1716046200@www.kloster-heilig-kreuz.de
SUMMARY:Fortbildung Behinderten- und Rehasportverband Saar
DESCRIPTION:
URL:https://www.kloster-heilig-kreuz.de/veranstaltungen/fortbildung-behinderten-und-rehasportverband-saar-9/
LOCATION:Großer Saal des Geistlichen Zentrums
END:VEVENT
BEGIN:VEVENT
DTSTART;TZID=Europe/Berlin:20240518T180000
DTEND;TZID=Europe/Berlin:20240518T190000
DTSTAMP:20260422T224526
CREATED:20240227T102415Z
LAST-MODIFIED:20240227T102415Z
UID:3557-1716055200-1716058800@www.kloster-heilig-kreuz.de
SUMMARY:Heilige Messe
DESCRIPTION:
URL:https://www.kloster-heilig-kreuz.de/veranstaltungen/heilige-messe-358/
LOCATION:Klosterkirche
END:VEVENT
END:VCALENDAR