BEGIN:VCALENDAR
VERSION:2.0
PRODID:-//Kloster Heilig Kreuz - ECPv6.0.11//NONSGML v1.0//EN
CALSCALE:GREGORIAN
METHOD:PUBLISH
X-WR-CALNAME:Kloster Heilig Kreuz
X-ORIGINAL-URL:https://www.kloster-heilig-kreuz.de
X-WR-CALDESC:Veranstaltungen für Kloster Heilig Kreuz
REFRESH-INTERVAL;VALUE=DURATION:PT1H
X-Robots-Tag:noindex
X-PUBLISHED-TTL:PT1H
BEGIN:VTIMEZONE
TZID:Europe/Berlin
BEGIN:DAYLIGHT
TZOFFSETFROM:+0100
TZOFFSETTO:+0200
TZNAME:CEST
DTSTART:20240331T010000
END:DAYLIGHT
BEGIN:STANDARD
TZOFFSETFROM:+0200
TZOFFSETTO:+0100
TZNAME:CET
DTSTART:20241027T010000
END:STANDARD
END:VTIMEZONE
BEGIN:VEVENT
DTSTART;TZID=Europe/Berlin:20240701T180000
DTEND;TZID=Europe/Berlin:20240701T190000
DTSTAMP:20260422T173846
CREATED:20240417T093919Z
LAST-MODIFIED:20240417T093919Z
UID:3746-1719856800-1719860400@www.kloster-heilig-kreuz.de
SUMMARY:Heilige Messe
DESCRIPTION:
URL:https://www.kloster-heilig-kreuz.de/veranstaltungen/heilige-messe-400/
LOCATION:Klosterkirche
END:VEVENT
BEGIN:VEVENT
DTSTART;TZID=Europe/Berlin:20240702T180000
DTEND;TZID=Europe/Berlin:20240702T190000
DTSTAMP:20260422T173846
CREATED:20240417T093944Z
LAST-MODIFIED:20240417T093944Z
UID:3748-1719943200-1719946800@www.kloster-heilig-kreuz.de
SUMMARY:Heilige Messe
DESCRIPTION:
URL:https://www.kloster-heilig-kreuz.de/veranstaltungen/heilige-messe-401/
LOCATION:Klosterkirche
END:VEVENT
BEGIN:VEVENT
DTSTART;TZID=Europe/Berlin:20240703T180000
DTEND;TZID=Europe/Berlin:20240703T190000
DTSTAMP:20260422T173846
CREATED:20240417T094015Z
LAST-MODIFIED:20240417T094015Z
UID:3750-1720029600-1720033200@www.kloster-heilig-kreuz.de
SUMMARY:Heilige Messe
DESCRIPTION:
URL:https://www.kloster-heilig-kreuz.de/veranstaltungen/heilige-messe-402/
LOCATION:Klosterkirche
END:VEVENT
BEGIN:VEVENT
DTSTART;TZID=Europe/Berlin:20240704T150000
DTEND;TZID=Europe/Berlin:20240704T180000
DTSTAMP:20260422T173846
CREATED:20240417T094051Z
LAST-MODIFIED:20240417T094051Z
UID:3752-1720105200-1720116000@www.kloster-heilig-kreuz.de
SUMMARY:Eucharistische Anbetung
DESCRIPTION:
URL:https://www.kloster-heilig-kreuz.de/veranstaltungen/eucharistische-anbetung-60/
LOCATION:Klosterkirche
END:VEVENT
BEGIN:VEVENT
DTSTART;TZID=Europe/Berlin:20240704T180000
DTEND;TZID=Europe/Berlin:20240704T190000
DTSTAMP:20260422T173846
CREATED:20240417T094118Z
LAST-MODIFIED:20240417T094118Z
UID:3754-1720116000-1720119600@www.kloster-heilig-kreuz.de
SUMMARY:Heilige Messe
DESCRIPTION:
URL:https://www.kloster-heilig-kreuz.de/veranstaltungen/heilige-messe-403/
LOCATION:Klosterkirche
END:VEVENT
BEGIN:VEVENT
DTSTART;TZID=Europe/Berlin:20240705T180000
DTEND;TZID=Europe/Berlin:20240705T190000
DTSTAMP:20260422T173846
CREATED:20240417T094312Z
LAST-MODIFIED:20240417T094312Z
UID:3756-1720202400-1720206000@www.kloster-heilig-kreuz.de
SUMMARY:Heilige Messe
DESCRIPTION:
URL:https://www.kloster-heilig-kreuz.de/veranstaltungen/heilige-messe-404/
LOCATION:Klosterkirche
END:VEVENT
BEGIN:VEVENT
DTSTART;TZID=Europe/Berlin:20240706T180000
DTEND;TZID=Europe/Berlin:20240706T190000
DTSTAMP:20260422T173846
CREATED:20240417T094343Z
LAST-MODIFIED:20240417T094343Z
UID:3758-1720288800-1720292400@www.kloster-heilig-kreuz.de
SUMMARY:Heilige Messe
DESCRIPTION:
URL:https://www.kloster-heilig-kreuz.de/veranstaltungen/heilige-messe-405/
LOCATION:Klosterkirche
END:VEVENT
BEGIN:VEVENT
DTSTART;TZID=Europe/Berlin:20240707T180000
DTEND;TZID=Europe/Berlin:20240707T190000
DTSTAMP:20260422T173846
CREATED:20240417T094424Z
LAST-MODIFIED:20240417T094424Z
UID:3760-1720375200-1720378800@www.kloster-heilig-kreuz.de
SUMMARY:Heilige Messe mit monatlicher Predigt zum Jahr des Glaubens
DESCRIPTION:
URL:https://www.kloster-heilig-kreuz.de/veranstaltungen/heilige-messe-mit-monatlicher-predigt-zum-jahr-des-glaubens/
END:VEVENT
BEGIN:VEVENT
DTSTART;TZID=Europe/Berlin:20240708T180000
DTEND;TZID=Europe/Berlin:20240708T190000
DTSTAMP:20260422T173846
CREATED:20240417T094452Z
LAST-MODIFIED:20240417T094452Z
UID:3762-1720461600-1720465200@www.kloster-heilig-kreuz.de
SUMMARY:Heilige Messe
DESCRIPTION:
URL:https://www.kloster-heilig-kreuz.de/veranstaltungen/heilige-messe-406/
LOCATION:Klosterkirche
END:VEVENT
BEGIN:VEVENT
DTSTART;TZID=Europe/Berlin:20240709T180000
DTEND;TZID=Europe/Berlin:20240709T190000
DTSTAMP:20260422T173846
CREATED:20240417T094531Z
LAST-MODIFIED:20240417T094531Z
UID:3764-1720548000-1720551600@www.kloster-heilig-kreuz.de
SUMMARY:Heilige Messe
DESCRIPTION:
URL:https://www.kloster-heilig-kreuz.de/veranstaltungen/heilige-messe-407/
LOCATION:Klosterkirche
END:VEVENT
BEGIN:VEVENT
DTSTART;TZID=Europe/Berlin:20240710T180000
DTEND;TZID=Europe/Berlin:20240710T190000
DTSTAMP:20260422T173846
CREATED:20240417T094611Z
LAST-MODIFIED:20240417T094611Z
UID:3766-1720634400-1720638000@www.kloster-heilig-kreuz.de
SUMMARY:Heilige Messe
DESCRIPTION:
URL:https://www.kloster-heilig-kreuz.de/veranstaltungen/heilige-messe-408/
LOCATION:Klosterkirche
END:VEVENT
BEGIN:VEVENT
DTSTART;TZID=Europe/Berlin:20240710T190000
DTEND;TZID=Europe/Berlin:20240710T210000
DTSTAMP:20260422T173846
CREATED:20240417T094647Z
LAST-MODIFIED:20240417T094647Z
UID:3768-1720638000-1720645200@www.kloster-heilig-kreuz.de
SUMMARY:Geistliche Weggemeinschaft
DESCRIPTION:
URL:https://www.kloster-heilig-kreuz.de/veranstaltungen/geistliche-weggemeinschaft-16/
LOCATION:Konferenzraum des Geistlichen Zentrums
END:VEVENT
BEGIN:VEVENT
DTSTART;TZID=Europe/Berlin:20240711T150000
DTEND;TZID=Europe/Berlin:20240711T180000
DTSTAMP:20260422T173846
CREATED:20240417T094726Z
LAST-MODIFIED:20240417T094726Z
UID:3770-1720710000-1720720800@www.kloster-heilig-kreuz.de
SUMMARY:Eucharistische Anbetung
DESCRIPTION:
URL:https://www.kloster-heilig-kreuz.de/veranstaltungen/eucharistische-anbetung-61/
LOCATION:Klosterkirche
END:VEVENT
BEGIN:VEVENT
DTSTART;TZID=Europe/Berlin:20240711T180000
DTEND;TZID=Europe/Berlin:20240711T190000
DTSTAMP:20260422T173846
CREATED:20240417T094754Z
LAST-MODIFIED:20240417T094754Z
UID:3772-1720720800-1720724400@www.kloster-heilig-kreuz.de
SUMMARY:Heilige Messe
DESCRIPTION:
URL:https://www.kloster-heilig-kreuz.de/veranstaltungen/heilige-messe-409/
LOCATION:Klosterkirche
END:VEVENT
BEGIN:VEVENT
DTSTART;TZID=Europe/Berlin:20240712T083000
DTEND;TZID=Europe/Berlin:20240712T153000
DTSTAMP:20260422T173846
CREATED:20240417T094841Z
LAST-MODIFIED:20240417T094841Z
UID:3774-1720773000-1720798200@www.kloster-heilig-kreuz.de
SUMMARY:Fortbildung des Behinderten- und Rehasportverbandes Saar
DESCRIPTION:
URL:https://www.kloster-heilig-kreuz.de/veranstaltungen/fortbildung-des-behinderten-und-rehasportverbandes-saar-20/
LOCATION:Großer Saal des Geistlichen Zentrums
END:VEVENT
BEGIN:VEVENT
DTSTART;TZID=Europe/Berlin:20240712T180000
DTEND;TZID=Europe/Berlin:20240712T190000
DTSTAMP:20260422T173846
CREATED:20240417T094926Z
LAST-MODIFIED:20240417T094926Z
UID:3776-1720807200-1720810800@www.kloster-heilig-kreuz.de
SUMMARY:Heilige Messe
DESCRIPTION:
URL:https://www.kloster-heilig-kreuz.de/veranstaltungen/heilige-messe-410/
LOCATION:Klosterkirche
END:VEVENT
BEGIN:VEVENT
DTSTART;TZID=Europe/Berlin:20240713T083000
DTEND;TZID=Europe/Berlin:20240713T153000
DTSTAMP:20260422T173846
CREATED:20240417T095009Z
LAST-MODIFIED:20240417T095009Z
UID:3778-1720859400-1720884600@www.kloster-heilig-kreuz.de
SUMMARY:Fortbildung des Behinderten- und Rehasportverbandes Saar
DESCRIPTION:
URL:https://www.kloster-heilig-kreuz.de/veranstaltungen/fortbildung-des-behinderten-und-rehasportverbandes-saar-21/
LOCATION:Großer Saal des Geistlichen Zentrums
END:VEVENT
BEGIN:VEVENT
DTSTART;TZID=Europe/Berlin:20240713T180000
DTEND;TZID=Europe/Berlin:20240713T190000
DTSTAMP:20260422T173846
CREATED:20240417T095039Z
LAST-MODIFIED:20240417T095039Z
UID:3780-1720893600-1720897200@www.kloster-heilig-kreuz.de
SUMMARY:Heilige Messe
DESCRIPTION:
URL:https://www.kloster-heilig-kreuz.de/veranstaltungen/heilige-messe-411/
LOCATION:Klosterkirche
END:VEVENT
BEGIN:VEVENT
DTSTART;TZID=Europe/Berlin:20240714T150000
DTEND;TZID=Europe/Berlin:20240714T180000
DTSTAMP:20260422T173846
CREATED:20240417T095301Z
LAST-MODIFIED:20240417T095301Z
UID:3786-1720969200-1720980000@www.kloster-heilig-kreuz.de
SUMMARY:Spanischsprachige Gemeinde
DESCRIPTION:
URL:https://www.kloster-heilig-kreuz.de/veranstaltungen/spanischsprachige-gemeinde-3/
LOCATION:Großer Saal des Geistlichen Zentrums
END:VEVENT
BEGIN:VEVENT
DTSTART;TZID=Europe/Berlin:20240714T180000
DTEND;TZID=Europe/Berlin:20240714T190000
DTSTAMP:20260422T173846
CREATED:20240417T095224Z
LAST-MODIFIED:20240417T095224Z
UID:3784-1720980000-1720983600@www.kloster-heilig-kreuz.de
SUMMARY:Heilige Messe
DESCRIPTION:
URL:https://www.kloster-heilig-kreuz.de/veranstaltungen/heilige-messe-412/
LOCATION:Klosterkirche
END:VEVENT
BEGIN:VEVENT
DTSTART;TZID=Europe/Berlin:20240715T180000
DTEND;TZID=Europe/Berlin:20240715T190000
DTSTAMP:20260422T173846
CREATED:20240419T070027Z
LAST-MODIFIED:20240419T070027Z
UID:3788-1721066400-1721070000@www.kloster-heilig-kreuz.de
SUMMARY:Heilige Messe
DESCRIPTION:
URL:https://www.kloster-heilig-kreuz.de/veranstaltungen/heilige-messe-413/
LOCATION:Klosterkirche
END:VEVENT
BEGIN:VEVENT
DTSTART;TZID=Europe/Berlin:20240716T180000
DTEND;TZID=Europe/Berlin:20240716T190000
DTSTAMP:20260422T173846
CREATED:20240419T070100Z
LAST-MODIFIED:20240419T070100Z
UID:3790-1721152800-1721156400@www.kloster-heilig-kreuz.de
SUMMARY:Heilige Messe
DESCRIPTION:
URL:https://www.kloster-heilig-kreuz.de/veranstaltungen/heilige-messe-414/
LOCATION:Klosterkirche
END:VEVENT
BEGIN:VEVENT
DTSTART;TZID=Europe/Berlin:20240717T180000
DTEND;TZID=Europe/Berlin:20240717T190000
DTSTAMP:20260422T173846
CREATED:20240419T071102Z
LAST-MODIFIED:20240419T071102Z
UID:3793-1721239200-1721242800@www.kloster-heilig-kreuz.de
SUMMARY:Heilige Messe
DESCRIPTION:
URL:https://www.kloster-heilig-kreuz.de/veranstaltungen/heilige-messe-415/
LOCATION:Klosterkirche
END:VEVENT
BEGIN:VEVENT
DTSTART;TZID=Europe/Berlin:20240718T150000
DTEND;TZID=Europe/Berlin:20240718T180000
DTSTAMP:20260422T173846
CREATED:20240419T071212Z
LAST-MODIFIED:20240419T071212Z
UID:3797-1721314800-1721325600@www.kloster-heilig-kreuz.de
SUMMARY:Eucharistische Anbetung
DESCRIPTION:
URL:https://www.kloster-heilig-kreuz.de/veranstaltungen/eucharistische-anbetung-62/
LOCATION:Klosterkirche
END:VEVENT
BEGIN:VEVENT
DTSTART;TZID=Europe/Berlin:20240718T180000
DTEND;TZID=Europe/Berlin:20240718T190000
DTSTAMP:20260422T173846
CREATED:20240419T071139Z
LAST-MODIFIED:20240419T071139Z
UID:3795-1721325600-1721329200@www.kloster-heilig-kreuz.de
SUMMARY:Heilige Messe
DESCRIPTION:
URL:https://www.kloster-heilig-kreuz.de/veranstaltungen/heilige-messe-416/
LOCATION:Klosterkirche
END:VEVENT
BEGIN:VEVENT
DTSTART;TZID=Europe/Berlin:20240719T180000
DTEND;TZID=Europe/Berlin:20240719T190000
DTSTAMP:20260422T173846
CREATED:20240419T071442Z
LAST-MODIFIED:20240419T071442Z
UID:3801-1721412000-1721415600@www.kloster-heilig-kreuz.de
SUMMARY:Heilige Messe
DESCRIPTION:
URL:https://www.kloster-heilig-kreuz.de/veranstaltungen/heilige-messe-418/
LOCATION:Klosterkirche
END:VEVENT
BEGIN:VEVENT
DTSTART;TZID=Europe/Berlin:20240720T180000
DTEND;TZID=Europe/Berlin:20240720T190000
DTSTAMP:20260422T173846
CREATED:20240419T071324Z
LAST-MODIFIED:20240419T071352Z
UID:3799-1721498400-1721502000@www.kloster-heilig-kreuz.de
SUMMARY:Heilige Messe
DESCRIPTION:
URL:https://www.kloster-heilig-kreuz.de/veranstaltungen/heilige-messe-417/
LOCATION:Klosterkirche
END:VEVENT
BEGIN:VEVENT
DTSTART;TZID=Europe/Berlin:20240721T180000
DTEND;TZID=Europe/Berlin:20240721T190000
DTSTAMP:20260422T173846
CREATED:20240419T071517Z
LAST-MODIFIED:20240419T071517Z
UID:3803-1721584800-1721588400@www.kloster-heilig-kreuz.de
SUMMARY:Heilige Messe
DESCRIPTION:
URL:https://www.kloster-heilig-kreuz.de/veranstaltungen/heilige-messe-419/
LOCATION:Klosterkirche
END:VEVENT
BEGIN:VEVENT
DTSTART;TZID=Europe/Berlin:20240722T180000
DTEND;TZID=Europe/Berlin:20240722T190000
DTSTAMP:20260422T173846
CREATED:20240419T071551Z
LAST-MODIFIED:20240419T071551Z
UID:3805-1721671200-1721674800@www.kloster-heilig-kreuz.de
SUMMARY:Heilige Messe
DESCRIPTION:
URL:https://www.kloster-heilig-kreuz.de/veranstaltungen/heilige-messe-420/
LOCATION:Klosterkirche
END:VEVENT
BEGIN:VEVENT
DTSTART;TZID=Europe/Berlin:20240723T180000
DTEND;TZID=Europe/Berlin:20240723T190000
DTSTAMP:20260422T173846
CREATED:20240419T071623Z
LAST-MODIFIED:20240419T071623Z
UID:3807-1721757600-1721761200@www.kloster-heilig-kreuz.de
SUMMARY:Heilige Messe
DESCRIPTION:
URL:https://www.kloster-heilig-kreuz.de/veranstaltungen/heilige-messe-421/
LOCATION:Klosterkirche
END:VEVENT
END:VCALENDAR