BEGIN:VCALENDAR
VERSION:2.0
PRODID:-//Kloster Heilig Kreuz - ECPv6.0.11//NONSGML v1.0//EN
CALSCALE:GREGORIAN
METHOD:PUBLISH
X-ORIGINAL-URL:https://www.kloster-heilig-kreuz.de
X-WR-CALDESC:Veranstaltungen für Kloster Heilig Kreuz
REFRESH-INTERVAL;VALUE=DURATION:PT1H
X-Robots-Tag:noindex
X-PUBLISHED-TTL:PT1H
BEGIN:VTIMEZONE
TZID:Europe/Berlin
BEGIN:DAYLIGHT
TZOFFSETFROM:+0100
TZOFFSETTO:+0200
TZNAME:CEST
DTSTART:20240331T010000
END:DAYLIGHT
BEGIN:STANDARD
TZOFFSETFROM:+0200
TZOFFSETTO:+0100
TZNAME:CET
DTSTART:20241027T010000
END:STANDARD
END:VTIMEZONE
BEGIN:VEVENT
DTSTART;TZID=Europe/Berlin:20241001T180000
DTEND;TZID=Europe/Berlin:20241001T190000
DTSTAMP:20260422T013506
CREATED:20240625T094101Z
LAST-MODIFIED:20240625T094101Z
UID:4082-1727805600-1727809200@www.kloster-heilig-kreuz.de
SUMMARY:Heilige Messe
DESCRIPTION:
URL:https://www.kloster-heilig-kreuz.de/veranstaltungen/heilige-messe-488/
LOCATION:Klosterkirche
END:VEVENT
BEGIN:VEVENT
DTSTART;TZID=Europe/Berlin:20241002T180000
DTEND;TZID=Europe/Berlin:20241002T190000
DTSTAMP:20260422T013506
CREATED:20240625T094243Z
LAST-MODIFIED:20240625T094243Z
UID:4085-1727892000-1727895600@www.kloster-heilig-kreuz.de
SUMMARY:Heilige Messe
DESCRIPTION:
URL:https://www.kloster-heilig-kreuz.de/veranstaltungen/heilige-messe-489/
LOCATION:Klosterkirche
END:VEVENT
BEGIN:VEVENT
DTSTART;TZID=Europe/Berlin:20241003T150000
DTEND;TZID=Europe/Berlin:20241003T180000
DTSTAMP:20260422T013506
CREATED:20240625T094334Z
LAST-MODIFIED:20240625T094346Z
UID:4088-1727967600-1727978400@www.kloster-heilig-kreuz.de
SUMMARY:Eucharistische Anbetung
DESCRIPTION:
URL:https://www.kloster-heilig-kreuz.de/veranstaltungen/eucharistische-anbetung-73/
LOCATION:Klosterkirche
END:VEVENT
BEGIN:VEVENT
DTSTART;TZID=Europe/Berlin:20241003T180000
DTEND;TZID=Europe/Berlin:20241003T190000
DTSTAMP:20260422T013506
CREATED:20240625T094417Z
LAST-MODIFIED:20240625T094417Z
UID:4090-1727978400-1727982000@www.kloster-heilig-kreuz.de
SUMMARY:Heilige Messe
DESCRIPTION:
URL:https://www.kloster-heilig-kreuz.de/veranstaltungen/heilige-messe-490/
LOCATION:Klosterkirche
END:VEVENT
BEGIN:VEVENT
DTSTART;TZID=Europe/Berlin:20241004T180000
DTEND;TZID=Europe/Berlin:20241004T190000
DTSTAMP:20260422T013506
CREATED:20240625T094955Z
LAST-MODIFIED:20240625T094955Z
UID:4095-1728064800-1728068400@www.kloster-heilig-kreuz.de
SUMMARY:Heilige Messe
DESCRIPTION:
URL:https://www.kloster-heilig-kreuz.de/veranstaltungen/heilige-messe-491/
LOCATION:Klosterkirche
END:VEVENT
BEGIN:VEVENT
DTSTART;TZID=Europe/Berlin:20241005T100000
DTEND;TZID=Europe/Berlin:20241005T170000
DTSTAMP:20260422T013506
CREATED:20240628T093943Z
LAST-MODIFIED:20240628T093943Z
UID:4099-1728122400-1728147600@www.kloster-heilig-kreuz.de
SUMMARY:Kommunionhelferkurs
DESCRIPTION:
URL:https://www.kloster-heilig-kreuz.de/veranstaltungen/kommunionhelferkurs-2/
LOCATION:Großer Saal des Geistlichen Zentrums
END:VEVENT
BEGIN:VEVENT
DTSTART;TZID=Europe/Berlin:20241005T180000
DTEND;TZID=Europe/Berlin:20241005T190000
DTSTAMP:20260422T013506
CREATED:20240628T093848Z
LAST-MODIFIED:20240628T093848Z
UID:4097-1728151200-1728154800@www.kloster-heilig-kreuz.de
SUMMARY:Heilige Messe
DESCRIPTION:
URL:https://www.kloster-heilig-kreuz.de/veranstaltungen/heilige-messe-492/
LOCATION:Klosterkirche
END:VEVENT
BEGIN:VEVENT
DTSTART;TZID=Europe/Berlin:20241006T180000
DTEND;TZID=Europe/Berlin:20241006T190000
DTSTAMP:20260422T013506
CREATED:20240628T094146Z
LAST-MODIFIED:20240628T094146Z
UID:4101-1728237600-1728241200@www.kloster-heilig-kreuz.de
SUMMARY:Heilige Messe mit monatlicher Predigt zum Jahr des Gebetes
DESCRIPTION:
URL:https://www.kloster-heilig-kreuz.de/veranstaltungen/heilige-messe-mit-monatlicher-predigt-zum-jahr-des-gebetes-3/
LOCATION:Klosterkirche
END:VEVENT
BEGIN:VEVENT
DTSTART;TZID=Europe/Berlin:20241007T180000
DTEND;TZID=Europe/Berlin:20241007T190000
DTSTAMP:20260422T013506
CREATED:20240628T094222Z
LAST-MODIFIED:20240628T094222Z
UID:4103-1728324000-1728327600@www.kloster-heilig-kreuz.de
SUMMARY:Heilige Messe
DESCRIPTION:
URL:https://www.kloster-heilig-kreuz.de/veranstaltungen/heilige-messe-493/
LOCATION:Klosterkirche
END:VEVENT
BEGIN:VEVENT
DTSTART;TZID=Europe/Berlin:20241008T180000
DTEND;TZID=Europe/Berlin:20241008T190000
DTSTAMP:20260422T013506
CREATED:20240628T094351Z
LAST-MODIFIED:20240628T094351Z
UID:4105-1728410400-1728414000@www.kloster-heilig-kreuz.de
SUMMARY:Heilige Messe
DESCRIPTION:
URL:https://www.kloster-heilig-kreuz.de/veranstaltungen/heilige-messe-494/
LOCATION:Klosterkirche
END:VEVENT
BEGIN:VEVENT
DTSTART;TZID=Europe/Berlin:20241009T180000
DTEND;TZID=Europe/Berlin:20241009T190000
DTSTAMP:20260422T013506
CREATED:20240628T094431Z
LAST-MODIFIED:20240628T094431Z
UID:4107-1728496800-1728500400@www.kloster-heilig-kreuz.de
SUMMARY:Heilige Messe
DESCRIPTION:
URL:https://www.kloster-heilig-kreuz.de/veranstaltungen/heilige-messe-495/
LOCATION:Klosterkirche
END:VEVENT
BEGIN:VEVENT
DTSTART;TZID=Europe/Berlin:20241009T190000
DTEND;TZID=Europe/Berlin:20241009T210000
DTSTAMP:20260422T013506
CREATED:20240628T094518Z
LAST-MODIFIED:20240628T094518Z
UID:4109-1728500400-1728507600@www.kloster-heilig-kreuz.de
SUMMARY:Geistliche Weggemeinschaft
DESCRIPTION:
URL:https://www.kloster-heilig-kreuz.de/veranstaltungen/geistliche-weggemeinschaft-19/
LOCATION:Konferenzraum des Geistlichen Zentrums
END:VEVENT
BEGIN:VEVENT
DTSTART;TZID=Europe/Berlin:20241010T150000
DTEND;TZID=Europe/Berlin:20241010T180000
DTSTAMP:20260422T013506
CREATED:20240628T095036Z
LAST-MODIFIED:20240628T095036Z
UID:4115-1728572400-1728583200@www.kloster-heilig-kreuz.de
SUMMARY:Eucharistische Anbetung
DESCRIPTION:
URL:https://www.kloster-heilig-kreuz.de/veranstaltungen/eucharistische-anbetung-74/
LOCATION:Klosterkirche
END:VEVENT
BEGIN:VEVENT
DTSTART;TZID=Europe/Berlin:20241010T180000
DTEND;TZID=Europe/Berlin:20241010T190000
DTSTAMP:20260422T013506
CREATED:20240628T094937Z
LAST-MODIFIED:20240628T094937Z
UID:4113-1728583200-1728586800@www.kloster-heilig-kreuz.de
SUMMARY:Heilige Messe
DESCRIPTION:
URL:https://www.kloster-heilig-kreuz.de/veranstaltungen/heilige-messe-496/
LOCATION:Klosterkirche
END:VEVENT
BEGIN:VEVENT
DTSTART;TZID=Europe/Berlin:20241011T083000
DTEND;TZID=Europe/Berlin:20241011T153000
DTSTAMP:20260422T013506
CREATED:20240716T092505Z
LAST-MODIFIED:20240716T092505Z
UID:4144-1728635400-1728660600@www.kloster-heilig-kreuz.de
SUMMARY:Fortbildung des Behinderten- und Rehasportverbandes Saar
DESCRIPTION:
URL:https://www.kloster-heilig-kreuz.de/veranstaltungen/fortbildung-des-behinderten-und-rehasportverbandes-saar-30/
LOCATION:Großer Saal des Geistlichen Zentrums
END:VEVENT
BEGIN:VEVENT
DTSTART;TZID=Europe/Berlin:20241011T180000
DTEND;TZID=Europe/Berlin:20241011T190000
DTSTAMP:20260422T013506
CREATED:20240628T095233Z
LAST-MODIFIED:20240628T095233Z
UID:4117-1728669600-1728673200@www.kloster-heilig-kreuz.de
SUMMARY:Heilige Messe
DESCRIPTION:
URL:https://www.kloster-heilig-kreuz.de/veranstaltungen/heilige-messe-497/
LOCATION:Klosterkirche
END:VEVENT
BEGIN:VEVENT
DTSTART;TZID=Europe/Berlin:20241012T083000
DTEND;TZID=Europe/Berlin:20241012T153000
DTSTAMP:20260422T013506
CREATED:20240716T092606Z
LAST-MODIFIED:20240716T092606Z
UID:4146-1728721800-1728747000@www.kloster-heilig-kreuz.de
SUMMARY:Fortbildung des Behinderten- und Rehasportverbandes Saar
DESCRIPTION:
URL:https://www.kloster-heilig-kreuz.de/veranstaltungen/fortbildung-des-behinderten-und-rehasportverbandes-saar-31/
LOCATION:Großer Saal des Geistlichen Zentrums
END:VEVENT
BEGIN:VEVENT
DTSTART;TZID=Europe/Berlin:20241012T180000
DTEND;TZID=Europe/Berlin:20241012T190000
DTSTAMP:20260422T013506
CREATED:20240716T092642Z
LAST-MODIFIED:20240716T092642Z
UID:4148-1728756000-1728759600@www.kloster-heilig-kreuz.de
SUMMARY:Heilige Messe
DESCRIPTION:
URL:https://www.kloster-heilig-kreuz.de/veranstaltungen/heilige-messe-498/
LOCATION:Klosterkirche
END:VEVENT
BEGIN:VEVENT
DTSTART;TZID=Europe/Berlin:20241013T150000
DTEND;TZID=Europe/Berlin:20241013T180000
DTSTAMP:20260422T013506
CREATED:20240716T092827Z
LAST-MODIFIED:20240716T092827Z
UID:4152-1728831600-1728842400@www.kloster-heilig-kreuz.de
SUMMARY:Treffen der Spanischsprachigen Gemeinde
DESCRIPTION:
URL:https://www.kloster-heilig-kreuz.de/veranstaltungen/treffen-der-spanischsprachigen-gemeinde-2/
LOCATION:Großer Saal Geistliches Zentrum und Kirche des Klosters
END:VEVENT
BEGIN:VEVENT
DTSTART;TZID=Europe/Berlin:20241013T180000
DTEND;TZID=Europe/Berlin:20241013T190000
DTSTAMP:20260422T013506
CREATED:20240716T092736Z
LAST-MODIFIED:20240716T092736Z
UID:4150-1728842400-1728846000@www.kloster-heilig-kreuz.de
SUMMARY:Heilige Messe
DESCRIPTION:
URL:https://www.kloster-heilig-kreuz.de/veranstaltungen/heilige-messe-499/
LOCATION:Klosterkirche
END:VEVENT
BEGIN:VEVENT
DTSTART;TZID=Europe/Berlin:20241014T180000
DTEND;TZID=Europe/Berlin:20241014T190000
DTSTAMP:20260422T013506
CREATED:20240716T092917Z
LAST-MODIFIED:20240716T092917Z
UID:4154-1728928800-1728932400@www.kloster-heilig-kreuz.de
SUMMARY:Heilige Messe
DESCRIPTION:
URL:https://www.kloster-heilig-kreuz.de/veranstaltungen/heilige-messe-500/
LOCATION:Klosterkirche
END:VEVENT
BEGIN:VEVENT
DTSTART;TZID=Europe/Berlin:20241015T180000
DTEND;TZID=Europe/Berlin:20241015T190000
DTSTAMP:20260422T013506
CREATED:20240716T093007Z
LAST-MODIFIED:20240716T093007Z
UID:4156-1729015200-1729018800@www.kloster-heilig-kreuz.de
SUMMARY:Heilige Messe
DESCRIPTION:
URL:https://www.kloster-heilig-kreuz.de/veranstaltungen/heilige-messe-501/
LOCATION:Klosterkirche
END:VEVENT
BEGIN:VEVENT
DTSTART;TZID=Europe/Berlin:20241016T180000
DTEND;TZID=Europe/Berlin:20241016T190000
DTSTAMP:20260422T013506
CREATED:20240716T093104Z
LAST-MODIFIED:20240716T093104Z
UID:4158-1729101600-1729105200@www.kloster-heilig-kreuz.de
SUMMARY:Heilige Messe
DESCRIPTION:
URL:https://www.kloster-heilig-kreuz.de/veranstaltungen/heilige-messe-502/
LOCATION:Klosterkirche
END:VEVENT
BEGIN:VEVENT
DTSTART;TZID=Europe/Berlin:20241017T150000
DTEND;TZID=Europe/Berlin:20241017T180000
DTSTAMP:20260422T013506
CREATED:20240716T093149Z
LAST-MODIFIED:20240716T093149Z
UID:4160-1729177200-1729188000@www.kloster-heilig-kreuz.de
SUMMARY:Eucharistische Anbetung
DESCRIPTION:
URL:https://www.kloster-heilig-kreuz.de/veranstaltungen/eucharistische-anbetung-75/
LOCATION:Klosterkirche
END:VEVENT
BEGIN:VEVENT
DTSTART;TZID=Europe/Berlin:20241017T180000
DTEND;TZID=Europe/Berlin:20241017T190000
DTSTAMP:20260422T013506
CREATED:20240716T093218Z
LAST-MODIFIED:20240716T093218Z
UID:4162-1729188000-1729191600@www.kloster-heilig-kreuz.de
SUMMARY:Heilige Messe
DESCRIPTION:
URL:https://www.kloster-heilig-kreuz.de/veranstaltungen/heilige-messe-503/
LOCATION:Klosterkirche
END:VEVENT
BEGIN:VEVENT
DTSTART;TZID=Europe/Berlin:20241018T180000
DTEND;TZID=Europe/Berlin:20241018T190000
DTSTAMP:20260422T013506
CREATED:20240716T093351Z
LAST-MODIFIED:20240716T093351Z
UID:4166-1729274400-1729278000@www.kloster-heilig-kreuz.de
SUMMARY:Heilige Messe
DESCRIPTION:
URL:https://www.kloster-heilig-kreuz.de/veranstaltungen/heilige-messe-504/
LOCATION:Klosterkirche
END:VEVENT
BEGIN:VEVENT
DTSTART;TZID=Europe/Berlin:20241019T180000
DTEND;TZID=Europe/Berlin:20241019T190000
DTSTAMP:20260422T013506
CREATED:20240716T093426Z
LAST-MODIFIED:20240716T093426Z
UID:4168-1729360800-1729364400@www.kloster-heilig-kreuz.de
SUMMARY:Heilige Messe
DESCRIPTION:
URL:https://www.kloster-heilig-kreuz.de/veranstaltungen/heilige-messe-505/
LOCATION:Klosterkirche
END:VEVENT
BEGIN:VEVENT
DTSTART;TZID=Europe/Berlin:20241020T180000
DTEND;TZID=Europe/Berlin:20241020T190000
DTSTAMP:20260422T013506
CREATED:20240716T093510Z
LAST-MODIFIED:20240716T093510Z
UID:4170-1729447200-1729450800@www.kloster-heilig-kreuz.de
SUMMARY:Heilige Messe
DESCRIPTION:
URL:https://www.kloster-heilig-kreuz.de/veranstaltungen/heilige-messe-506/
LOCATION:Klosterkirche
END:VEVENT
BEGIN:VEVENT
DTSTART;TZID=Europe/Berlin:20241021T180000
DTEND;TZID=Europe/Berlin:20241021T190000
DTSTAMP:20260422T013506
CREATED:20240716T093541Z
LAST-MODIFIED:20240716T093541Z
UID:4172-1729533600-1729537200@www.kloster-heilig-kreuz.de
SUMMARY:Heilige Messe
DESCRIPTION:
URL:https://www.kloster-heilig-kreuz.de/veranstaltungen/heilige-messe-507/
LOCATION:Klosterkirche
END:VEVENT
BEGIN:VEVENT
DTSTART;TZID=Europe/Berlin:20241022T180000
DTEND;TZID=Europe/Berlin:20241022T190000
DTSTAMP:20260422T013506
CREATED:20240716T093624Z
LAST-MODIFIED:20240716T093624Z
UID:4174-1729620000-1729623600@www.kloster-heilig-kreuz.de
SUMMARY:Heilige Messe
DESCRIPTION:
URL:https://www.kloster-heilig-kreuz.de/veranstaltungen/heilige-messe-508/
LOCATION:Klosterkirche
END:VEVENT
END:VCALENDAR