BEGIN:VCALENDAR
VERSION:2.0
PRODID:-//Kloster Heilig Kreuz - ECPv6.0.11//NONSGML v1.0//EN
CALSCALE:GREGORIAN
METHOD:PUBLISH
X-WR-CALNAME:Kloster Heilig Kreuz
X-ORIGINAL-URL:https://www.kloster-heilig-kreuz.de
X-WR-CALDESC:Veranstaltungen für Kloster Heilig Kreuz
REFRESH-INTERVAL;VALUE=DURATION:PT1H
X-Robots-Tag:noindex
X-PUBLISHED-TTL:PT1H
BEGIN:VTIMEZONE
TZID:Europe/Berlin
BEGIN:DAYLIGHT
TZOFFSETFROM:+0100
TZOFFSETTO:+0200
TZNAME:CEST
DTSTART:20240331T010000
END:DAYLIGHT
BEGIN:STANDARD
TZOFFSETFROM:+0200
TZOFFSETTO:+0100
TZNAME:CET
DTSTART:20241027T010000
END:STANDARD
END:VTIMEZONE
BEGIN:VEVENT
DTSTART;TZID=Europe/Berlin:20241101T180000
DTEND;TZID=Europe/Berlin:20241101T190000
DTSTAMP:20260421T224812
CREATED:20240719T093903Z
LAST-MODIFIED:20240719T093903Z
UID:4222-1730484000-1730487600@www.kloster-heilig-kreuz.de
SUMMARY:Heilige Messe
DESCRIPTION:
URL:https://www.kloster-heilig-kreuz.de/veranstaltungen/heilige-messe-518/
LOCATION:Klosterkirche
END:VEVENT
BEGIN:VEVENT
DTSTART;TZID=Europe/Berlin:20241102T180000
DTEND;TZID=Europe/Berlin:20241102T190000
DTSTAMP:20260421T224812
CREATED:20240719T093940Z
LAST-MODIFIED:20240719T093940Z
UID:4224-1730570400-1730574000@www.kloster-heilig-kreuz.de
SUMMARY:Heilige Messe
DESCRIPTION:
URL:https://www.kloster-heilig-kreuz.de/veranstaltungen/heilige-messe-519/
LOCATION:Klosterkirche
END:VEVENT
BEGIN:VEVENT
DTSTART;TZID=Europe/Berlin:20241103T180000
DTEND;TZID=Europe/Berlin:20241103T190000
DTSTAMP:20260421T224812
CREATED:20240719T094033Z
LAST-MODIFIED:20240719T094033Z
UID:4226-1730656800-1730660400@www.kloster-heilig-kreuz.de
SUMMARY:Heilige Messe mit monatlicher Predigt zum Jahr des Gebetes
DESCRIPTION:
URL:https://www.kloster-heilig-kreuz.de/veranstaltungen/heilige-messe-mit-monatlicher-predigt-zum-jahr-des-gebetes-4/
LOCATION:Klosterkirche
END:VEVENT
BEGIN:VEVENT
DTSTART;TZID=Europe/Berlin:20241104T180000
DTEND;TZID=Europe/Berlin:20241104T190000
DTSTAMP:20260421T224812
CREATED:20240719T094203Z
LAST-MODIFIED:20240719T094203Z
UID:4228-1730743200-1730746800@www.kloster-heilig-kreuz.de
SUMMARY:Heilige Messe
DESCRIPTION:
URL:https://www.kloster-heilig-kreuz.de/veranstaltungen/heilige-messe-520/
LOCATION:Klosterkirche
END:VEVENT
BEGIN:VEVENT
DTSTART;TZID=Europe/Berlin:20241104T190000
DTEND;TZID=Europe/Berlin:20241104T203000
DTSTAMP:20260421T224812
CREATED:20240719T094253Z
LAST-MODIFIED:20240719T094253Z
UID:4230-1730746800-1730752200@www.kloster-heilig-kreuz.de
SUMMARY:"Die Psalmen in biblischer Tradition" - Vortrag mit Prof. Dr. Joachim Conrad
DESCRIPTION:
URL:https://www.kloster-heilig-kreuz.de/veranstaltungen/die-psalmen-in-biblischer-tradition-vortrag-mit-prof-dr-joachim-conrad/
LOCATION:Großer Saal des Geistlichen Zentrums
END:VEVENT
BEGIN:VEVENT
DTSTART;TZID=Europe/Berlin:20241105T180000
DTEND;TZID=Europe/Berlin:20241105T190000
DTSTAMP:20260421T224812
CREATED:20240719T094327Z
LAST-MODIFIED:20240719T094327Z
UID:4232-1730829600-1730833200@www.kloster-heilig-kreuz.de
SUMMARY:Heilige Messe
DESCRIPTION:
URL:https://www.kloster-heilig-kreuz.de/veranstaltungen/heilige-messe-521/
LOCATION:Klosterkirche
END:VEVENT
BEGIN:VEVENT
DTSTART;TZID=Europe/Berlin:20241106T180000
DTEND;TZID=Europe/Berlin:20241106T190000
DTSTAMP:20260421T224812
CREATED:20240719T094407Z
LAST-MODIFIED:20240719T094407Z
UID:4234-1730916000-1730919600@www.kloster-heilig-kreuz.de
SUMMARY:Heilige Messe
DESCRIPTION:
URL:https://www.kloster-heilig-kreuz.de/veranstaltungen/heilige-messe-522/
LOCATION:Klosterkirche
END:VEVENT
BEGIN:VEVENT
DTSTART;TZID=Europe/Berlin:20241106T190000
DTEND;TZID=Europe/Berlin:20241106T203000
DTSTAMP:20260421T224812
CREATED:20240719T094453Z
LAST-MODIFIED:20240719T094453Z
UID:4236-1730919600-1730925000@www.kloster-heilig-kreuz.de
SUMMARY:Schriftgespräch mit Pfr. Lothar Stoffel
DESCRIPTION:
URL:https://www.kloster-heilig-kreuz.de/veranstaltungen/schriftgespraech-mit-pfr-lothar-stoffel-2/
LOCATION:Konferenzraum des Geistlichen Zentrums
END:VEVENT
BEGIN:VEVENT
DTSTART;TZID=Europe/Berlin:20241107T150000
DTEND;TZID=Europe/Berlin:20241107T180000
DTSTAMP:20260421T224812
CREATED:20240719T094527Z
LAST-MODIFIED:20240719T094527Z
UID:4238-1730991600-1731002400@www.kloster-heilig-kreuz.de
SUMMARY:Eucharistische Anbetung
DESCRIPTION:
URL:https://www.kloster-heilig-kreuz.de/veranstaltungen/eucharistische-anbetung-78/
LOCATION:Klosterkirche
END:VEVENT
BEGIN:VEVENT
DTSTART;TZID=Europe/Berlin:20241107T180000
DTEND;TZID=Europe/Berlin:20241107T190000
DTSTAMP:20260421T224812
CREATED:20240719T094619Z
LAST-MODIFIED:20240719T094619Z
UID:4241-1731002400-1731006000@www.kloster-heilig-kreuz.de
SUMMARY:Heilige Messe
DESCRIPTION:
URL:https://www.kloster-heilig-kreuz.de/veranstaltungen/heilige-messe-523/
LOCATION:Klosterkirche
END:VEVENT
BEGIN:VEVENT
DTSTART;TZID=Europe/Berlin:20241108T180000
DTEND;TZID=Europe/Berlin:20241108T190000
DTSTAMP:20260421T224812
CREATED:20240723T082522Z
LAST-MODIFIED:20240723T082522Z
UID:4249-1731088800-1731092400@www.kloster-heilig-kreuz.de
SUMMARY:Heilige Messe
DESCRIPTION:
URL:https://www.kloster-heilig-kreuz.de/veranstaltungen/heilige-messe-525/
LOCATION:Klosterkirche
END:VEVENT
BEGIN:VEVENT
DTSTART;TZID=Europe/Berlin:20241109T180000
DTEND;TZID=Europe/Berlin:20241109T190000
DTSTAMP:20260421T224812
CREATED:20240723T082554Z
LAST-MODIFIED:20240723T082554Z
UID:4251-1731175200-1731178800@www.kloster-heilig-kreuz.de
SUMMARY:Heilige Messe
DESCRIPTION:
URL:https://www.kloster-heilig-kreuz.de/veranstaltungen/heilige-messe-526/
LOCATION:Klosterkirche
END:VEVENT
BEGIN:VEVENT
DTSTART;TZID=Europe/Berlin:20241110T150000
DTEND;TZID=Europe/Berlin:20241110T160000
DTSTAMP:20260421T224812
CREATED:20240723T082707Z
LAST-MODIFIED:20240723T082707Z
UID:4255-1731250800-1731254400@www.kloster-heilig-kreuz.de
SUMMARY:Treffen der spanischsprachigen Mission
DESCRIPTION:
URL:https://www.kloster-heilig-kreuz.de/veranstaltungen/treffen-der-spanischsprachigen-mission/
LOCATION:Großer Saal und Kirche\, Völklingerstraße 197\, Püttlingen
END:VEVENT
BEGIN:VEVENT
DTSTART;TZID=Europe/Berlin:20241110T180000
DTEND;TZID=Europe/Berlin:20241110T190000
DTSTAMP:20260421T224812
CREATED:20240723T082631Z
LAST-MODIFIED:20240723T082631Z
UID:4253-1731261600-1731265200@www.kloster-heilig-kreuz.de
SUMMARY:Heilige Messe
DESCRIPTION:
URL:https://www.kloster-heilig-kreuz.de/veranstaltungen/heilige-messe-527/
LOCATION:Klosterkirche
END:VEVENT
BEGIN:VEVENT
DTSTART;TZID=Europe/Berlin:20241111T180000
DTEND;TZID=Europe/Berlin:20241111T190000
DTSTAMP:20260421T224812
CREATED:20240723T082744Z
LAST-MODIFIED:20240723T082744Z
UID:4257-1731348000-1731351600@www.kloster-heilig-kreuz.de
SUMMARY:Heilige Messe
DESCRIPTION:
URL:https://www.kloster-heilig-kreuz.de/veranstaltungen/heilige-messe-528/
LOCATION:Klosterkirche
END:VEVENT
BEGIN:VEVENT
DTSTART;TZID=Europe/Berlin:20241111T190000
DTEND;TZID=Europe/Berlin:20241111T203000
DTSTAMP:20260421T224812
CREATED:20240723T082835Z
LAST-MODIFIED:20240723T082835Z
UID:4259-1731351600-1731357000@www.kloster-heilig-kreuz.de
SUMMARY:"Die Psalmen in evangelischer Tradition" - Vortrag mit Prof. Dr. Joachim Conrad
DESCRIPTION:
URL:https://www.kloster-heilig-kreuz.de/veranstaltungen/die-psalmen-in-evangelischer-tradition-vortrag-mit-prof-dr-joachim-conrad/
LOCATION:Großer Saal des Geistlichen Zentrums
END:VEVENT
BEGIN:VEVENT
DTSTART;TZID=Europe/Berlin:20241112T180000
DTEND;TZID=Europe/Berlin:20241112T190000
DTSTAMP:20260421T224812
CREATED:20240723T082943Z
LAST-MODIFIED:20240723T082943Z
UID:4261-1731434400-1731438000@www.kloster-heilig-kreuz.de
SUMMARY:Heilige Messe
DESCRIPTION:
URL:https://www.kloster-heilig-kreuz.de/veranstaltungen/heilige-messe-529/
LOCATION:Klosterkirche
END:VEVENT
BEGIN:VEVENT
DTSTART;TZID=Europe/Berlin:20241113T180000
DTEND;TZID=Europe/Berlin:20241113T190000
DTSTAMP:20260421T224812
CREATED:20240719T095531Z
LAST-MODIFIED:20240719T095531Z
UID:4243-1731520800-1731524400@www.kloster-heilig-kreuz.de
SUMMARY:Heilige Messe
DESCRIPTION:
URL:https://www.kloster-heilig-kreuz.de/veranstaltungen/heilige-messe-524/
LOCATION:Klosterkirche
END:VEVENT
BEGIN:VEVENT
DTSTART;TZID=Europe/Berlin:20241113T190000
DTEND;TZID=Europe/Berlin:20241113T210000
DTSTAMP:20260421T224812
CREATED:20240723T071039Z
LAST-MODIFIED:20240723T071039Z
UID:4245-1731524400-1731531600@www.kloster-heilig-kreuz.de
SUMMARY:Geistliche Weggemeinschaft
DESCRIPTION:
URL:https://www.kloster-heilig-kreuz.de/veranstaltungen/geistliche-weggemeinschaft-20/
END:VEVENT
BEGIN:VEVENT
DTSTART;TZID=Europe/Berlin:20241114T150000
DTEND;TZID=Europe/Berlin:20241114T180000
DTSTAMP:20260421T224812
CREATED:20240723T083042Z
LAST-MODIFIED:20240723T083042Z
UID:4263-1731596400-1731607200@www.kloster-heilig-kreuz.de
SUMMARY:Eucharistische Anbetung
DESCRIPTION:
URL:https://www.kloster-heilig-kreuz.de/veranstaltungen/eucharistische-anbetung-79/
LOCATION:Klosterkirche
END:VEVENT
BEGIN:VEVENT
DTSTART;TZID=Europe/Berlin:20241114T180000
DTEND;TZID=Europe/Berlin:20241114T190000
DTSTAMP:20260421T224812
CREATED:20240723T083118Z
LAST-MODIFIED:20240723T083118Z
UID:4265-1731607200-1731610800@www.kloster-heilig-kreuz.de
SUMMARY:Heilige Messe
DESCRIPTION:
URL:https://www.kloster-heilig-kreuz.de/veranstaltungen/heilige-messe-530/
LOCATION:Klosterkirche
END:VEVENT
BEGIN:VEVENT
DTSTART;TZID=Europe/Berlin:20241115T180000
DTEND;TZID=Europe/Berlin:20241115T190000
DTSTAMP:20260421T224812
CREATED:20240723T083203Z
LAST-MODIFIED:20240723T083203Z
UID:4267-1731693600-1731697200@www.kloster-heilig-kreuz.de
SUMMARY:Heilige Messe
DESCRIPTION:
URL:https://www.kloster-heilig-kreuz.de/veranstaltungen/heilige-messe-531/
LOCATION:Klosterkirche
END:VEVENT
BEGIN:VEVENT
DTSTART;TZID=Europe/Berlin:20241116T180000
DTEND;TZID=Europe/Berlin:20241116T190000
DTSTAMP:20260421T224812
CREATED:20240723T083307Z
LAST-MODIFIED:20240723T083307Z
UID:4269-1731780000-1731783600@www.kloster-heilig-kreuz.de
SUMMARY:Festmesse anlässlich des 30jährigen Bestehens der Kardinal-Maurer-Gesellschaft
DESCRIPTION:
URL:https://www.kloster-heilig-kreuz.de/veranstaltungen/festmesse-anlaesslich-des-30jaehrigen-bestehens-der-kardinal-maurer-gesellschaft/
LOCATION:Klosterkirche
END:VEVENT
BEGIN:VEVENT
DTSTART;TZID=Europe/Berlin:20241116T190000
DTEND;TZID=Europe/Berlin:20241116T210000
DTSTAMP:20260421T224812
CREATED:20240723T083355Z
LAST-MODIFIED:20240723T083355Z
UID:4271-1731783600-1731790800@www.kloster-heilig-kreuz.de
SUMMARY:Jubiläumsveranstaltung der Kardinal-Maurer-Gesellschaft
DESCRIPTION:
URL:https://www.kloster-heilig-kreuz.de/veranstaltungen/jubilaeumsveranstaltung-der-kardinal-maurer-gesellschaft/
LOCATION:Großer Saal des Geistlichen Zentrums
END:VEVENT
BEGIN:VEVENT
DTSTART;TZID=Europe/Berlin:20241117T180000
DTEND;TZID=Europe/Berlin:20241117T190000
DTSTAMP:20260421T224812
CREATED:20240723T083534Z
LAST-MODIFIED:20240723T083534Z
UID:4273-1731866400-1731870000@www.kloster-heilig-kreuz.de
SUMMARY:Heilige Messe\, wir gedenken unserer Verstorbenen
DESCRIPTION:
URL:https://www.kloster-heilig-kreuz.de/veranstaltungen/heilige-messe-wir-gedenken-unserer-verstorbenen/
LOCATION:Klosterkirche
END:VEVENT
BEGIN:VEVENT
DTSTART;TZID=Europe/Berlin:20241118T180000
DTEND;TZID=Europe/Berlin:20241118T190000
DTSTAMP:20260421T224812
CREATED:20240723T094801Z
LAST-MODIFIED:20240723T094801Z
UID:4275-1731952800-1731956400@www.kloster-heilig-kreuz.de
SUMMARY:Heilige Messe
DESCRIPTION:
URL:https://www.kloster-heilig-kreuz.de/veranstaltungen/heilige-messe-532/
LOCATION:Klosterkirche
END:VEVENT
BEGIN:VEVENT
DTSTART;TZID=Europe/Berlin:20241118T190000
DTEND;TZID=Europe/Berlin:20241118T200000
DTSTAMP:20260421T224812
CREATED:20240723T094853Z
LAST-MODIFIED:20240723T094853Z
UID:4277-1731956400-1731960000@www.kloster-heilig-kreuz.de
SUMMARY:"Das Marienlob der Reformatoren" - Vortrag mit Prof. Dr. Joachim Conrad
DESCRIPTION:
URL:https://www.kloster-heilig-kreuz.de/veranstaltungen/das-marienlob-der-reformatoren-vortrag-mit-prof-dr-joachim-conrad/
LOCATION:Klosterkirche
END:VEVENT
BEGIN:VEVENT
DTSTART;TZID=Europe/Berlin:20241119T180000
DTEND;TZID=Europe/Berlin:20241119T190000
DTSTAMP:20260421T224812
CREATED:20240723T094923Z
LAST-MODIFIED:20240723T094923Z
UID:4279-1732039200-1732042800@www.kloster-heilig-kreuz.de
SUMMARY:Heilige Messe
DESCRIPTION:
URL:https://www.kloster-heilig-kreuz.de/veranstaltungen/heilige-messe-533/
LOCATION:Klosterkirche
END:VEVENT
BEGIN:VEVENT
DTSTART;TZID=Europe/Berlin:20241120T180000
DTEND;TZID=Europe/Berlin:20241120T190000
DTSTAMP:20260421T224812
CREATED:20240723T095013Z
LAST-MODIFIED:20240723T095013Z
UID:4281-1732125600-1732129200@www.kloster-heilig-kreuz.de
SUMMARY:Heilige Messe
DESCRIPTION:
URL:https://www.kloster-heilig-kreuz.de/veranstaltungen/heilige-messe-534/
LOCATION:Klosterkirche
END:VEVENT
BEGIN:VEVENT
DTSTART;TZID=Europe/Berlin:20241121T150000
DTEND;TZID=Europe/Berlin:20241121T180000
DTSTAMP:20260421T224812
CREATED:20240723T095046Z
LAST-MODIFIED:20240723T095046Z
UID:4283-1732201200-1732212000@www.kloster-heilig-kreuz.de
SUMMARY:Eucharistische Anbetung
DESCRIPTION:
URL:https://www.kloster-heilig-kreuz.de/veranstaltungen/eucharistische-anbetung-80/
LOCATION:Klosterkirche
END:VEVENT
END:VCALENDAR