BEGIN:VCALENDAR
VERSION:2.0
PRODID:-//Kloster Heilig Kreuz - ECPv6.0.11//NONSGML v1.0//EN
CALSCALE:GREGORIAN
METHOD:PUBLISH
X-WR-CALNAME:Kloster Heilig Kreuz
X-ORIGINAL-URL:https://www.kloster-heilig-kreuz.de
X-WR-CALDESC:Veranstaltungen für Kloster Heilig Kreuz
REFRESH-INTERVAL;VALUE=DURATION:PT1H
X-Robots-Tag:noindex
X-PUBLISHED-TTL:PT1H
BEGIN:VTIMEZONE
TZID:Europe/Berlin
BEGIN:DAYLIGHT
TZOFFSETFROM:+0100
TZOFFSETTO:+0200
TZNAME:CEST
DTSTART:20240331T010000
END:DAYLIGHT
BEGIN:STANDARD
TZOFFSETFROM:+0200
TZOFFSETTO:+0100
TZNAME:CET
DTSTART:20241027T010000
END:STANDARD
END:VTIMEZONE
BEGIN:VEVENT
DTSTART;TZID=Europe/Berlin:20241201T150000
DTEND;TZID=Europe/Berlin:20241201T180000
DTSTAMP:20260421T130824
CREATED:20241104T100340Z
LAST-MODIFIED:20241104T100340Z
UID:4390-1733065200-1733076000@www.kloster-heilig-kreuz.de
SUMMARY:Treffen der spanischsprachigen Mission
DESCRIPTION:
URL:https://www.kloster-heilig-kreuz.de/veranstaltungen/treffen-der-spanischsprachigen-mission-2/
LOCATION:Großer Saal Geistliches Zentrum und Kirche des Klosters
END:VEVENT
BEGIN:VEVENT
DTSTART;TZID=Europe/Berlin:20241201T180000
DTEND;TZID=Europe/Berlin:20241201T190000
DTSTAMP:20260421T130824
CREATED:20241104T100245Z
LAST-MODIFIED:20241104T100933Z
UID:4388-1733076000-1733079600@www.kloster-heilig-kreuz.de
SUMMARY:Heilige Messe mit monatlicher Predigt zum Jahr des Gebetes
DESCRIPTION:
URL:https://www.kloster-heilig-kreuz.de/veranstaltungen/heilige-messe-mit-monatlicher-predigt-zum-jahr-des-glaubens-2/
LOCATION:Klosterkirche
END:VEVENT
BEGIN:VEVENT
DTSTART;TZID=Europe/Berlin:20241202T180000
DTEND;TZID=Europe/Berlin:20241202T190000
DTSTAMP:20260421T130824
CREATED:20241104T100415Z
LAST-MODIFIED:20241104T100415Z
UID:4392-1733162400-1733166000@www.kloster-heilig-kreuz.de
SUMMARY:Heilige Messe
DESCRIPTION:
URL:https://www.kloster-heilig-kreuz.de/veranstaltungen/heilige-messe-545/
LOCATION:Klosterkirche
END:VEVENT
BEGIN:VEVENT
DTSTART;TZID=Europe/Berlin:20241203T180000
DTEND;TZID=Europe/Berlin:20241203T190000
DTSTAMP:20260421T130824
CREATED:20241104T101658Z
LAST-MODIFIED:20241104T101658Z
UID:4398-1733248800-1733252400@www.kloster-heilig-kreuz.de
SUMMARY:Heilige Messe
DESCRIPTION:
URL:https://www.kloster-heilig-kreuz.de/veranstaltungen/heilige-messe-546/
LOCATION:Klosterkirche
END:VEVENT
BEGIN:VEVENT
DTSTART;TZID=Europe/Berlin:20241203T190000
DTEND;TZID=Europe/Berlin:20241203T203000
DTSTAMP:20260421T130824
CREATED:20241104T101804Z
LAST-MODIFIED:20241104T101804Z
UID:4400-1733252400-1733257800@www.kloster-heilig-kreuz.de
SUMMARY:Schriftgespräch mit Pfr. Lothar Stoffel
DESCRIPTION:
URL:https://www.kloster-heilig-kreuz.de/veranstaltungen/schriftgespraech-mit-pfr-lothar-stoffel-3/
LOCATION:Meditations- und Gottesdienstraum des Geistlichen Zentrums
END:VEVENT
BEGIN:VEVENT
DTSTART;TZID=Europe/Berlin:20241204T180000
DTEND;TZID=Europe/Berlin:20241204T190000
DTSTAMP:20260421T130824
CREATED:20241104T101834Z
LAST-MODIFIED:20241104T101834Z
UID:4402-1733335200-1733338800@www.kloster-heilig-kreuz.de
SUMMARY:Heilige Messe
DESCRIPTION:
URL:https://www.kloster-heilig-kreuz.de/veranstaltungen/heilige-messe-547/
LOCATION:Klosterkirche
END:VEVENT
BEGIN:VEVENT
DTSTART;TZID=Europe/Berlin:20241205T150000
DTEND;TZID=Europe/Berlin:20241205T180000
DTSTAMP:20260421T130824
CREATED:20241104T101907Z
LAST-MODIFIED:20241104T101907Z
UID:4404-1733410800-1733421600@www.kloster-heilig-kreuz.de
SUMMARY:Eucharistische Anbetung
DESCRIPTION:
URL:https://www.kloster-heilig-kreuz.de/veranstaltungen/eucharistische-anbetung-82/
LOCATION:Klosterkirche
END:VEVENT
BEGIN:VEVENT
DTSTART;TZID=Europe/Berlin:20241205T180000
DTEND;TZID=Europe/Berlin:20241205T190000
DTSTAMP:20260421T130824
CREATED:20241104T101937Z
LAST-MODIFIED:20241104T101937Z
UID:4406-1733421600-1733425200@www.kloster-heilig-kreuz.de
SUMMARY:Heilige Messe
DESCRIPTION:
URL:https://www.kloster-heilig-kreuz.de/veranstaltungen/heilige-messe-548/
LOCATION:Klosterkirche
END:VEVENT
BEGIN:VEVENT
DTSTART;TZID=Europe/Berlin:20241205T191500
DTEND;TZID=Europe/Berlin:20241205T204500
DTSTAMP:20260421T130824
CREATED:20241104T102057Z
LAST-MODIFIED:20241104T102057Z
UID:4408-1733426100-1733431500@www.kloster-heilig-kreuz.de
SUMMARY:Zeichenwerkstatt
DESCRIPTION:
URL:https://www.kloster-heilig-kreuz.de/veranstaltungen/zeichenwerkstatt-7/
LOCATION:Kloster\, Völklingerstraße 197\, Püttlingen\, 66346
END:VEVENT
BEGIN:VEVENT
DTSTART;TZID=Europe/Berlin:20241206T180000
DTEND;TZID=Europe/Berlin:20241206T190000
DTSTAMP:20260421T130824
CREATED:20241104T102141Z
LAST-MODIFIED:20241104T102141Z
UID:4410-1733508000-1733511600@www.kloster-heilig-kreuz.de
SUMMARY:Heilige Messe
DESCRIPTION:
URL:https://www.kloster-heilig-kreuz.de/veranstaltungen/heilige-messe-549/
LOCATION:Klosterkirche
END:VEVENT
BEGIN:VEVENT
DTSTART;TZID=Europe/Berlin:20241207T083000
DTEND;TZID=Europe/Berlin:20241207T120000
DTSTAMP:20260421T130824
CREATED:20241104T102259Z
LAST-MODIFIED:20241104T102259Z
UID:4414-1733560200-1733572800@www.kloster-heilig-kreuz.de
SUMMARY:Fortbildung des Behinderten- und Rehasportverbandes Saar
DESCRIPTION:
URL:https://www.kloster-heilig-kreuz.de/veranstaltungen/fortbildung-des-behinderten-und-rehasportverbandes-saar-41/
LOCATION:Großer Saal des Geistlichen Zentrums
END:VEVENT
BEGIN:VEVENT
DTSTART;TZID=Europe/Berlin:20241207T180000
DTEND;TZID=Europe/Berlin:20241207T190000
DTSTAMP:20260421T130824
CREATED:20241104T102218Z
LAST-MODIFIED:20241104T102218Z
UID:4412-1733594400-1733598000@www.kloster-heilig-kreuz.de
SUMMARY:Heilige Messe
DESCRIPTION:
URL:https://www.kloster-heilig-kreuz.de/veranstaltungen/heilige-messe-550/
LOCATION:Klosterkirche
END:VEVENT
BEGIN:VEVENT
DTSTART;TZID=Europe/Berlin:20241207T200000
DTEND;TZID=Europe/Berlin:20241207T210000
DTSTAMP:20260421T130824
CREATED:20241104T102458Z
LAST-MODIFIED:20241104T102458Z
UID:4416-1733601600-1733605200@www.kloster-heilig-kreuz.de
SUMMARY:Evensong mit dem Coro Eligio\, Völklingen
DESCRIPTION:
URL:https://www.kloster-heilig-kreuz.de/veranstaltungen/evensong-mit-dem-coro-eligio-voelklingen/
LOCATION:Klosterkirche
END:VEVENT
BEGIN:VEVENT
DTSTART;TZID=Europe/Berlin:20241208T180000
DTEND;TZID=Europe/Berlin:20241208T190000
DTSTAMP:20260421T130824
CREATED:20241104T102533Z
LAST-MODIFIED:20241104T102533Z
UID:4418-1733680800-1733684400@www.kloster-heilig-kreuz.de
SUMMARY:Heilige Messe
DESCRIPTION:
URL:https://www.kloster-heilig-kreuz.de/veranstaltungen/heilige-messe-551/
LOCATION:Klosterkirche
END:VEVENT
BEGIN:VEVENT
DTSTART;TZID=Europe/Berlin:20241209T180000
DTEND;TZID=Europe/Berlin:20241209T190000
DTSTAMP:20260421T130824
CREATED:20241206T104720Z
LAST-MODIFIED:20241206T104720Z
UID:4446-1733767200-1733770800@www.kloster-heilig-kreuz.de
SUMMARY:Heilige Messe
DESCRIPTION:
URL:https://www.kloster-heilig-kreuz.de/veranstaltungen/heilige-messe-552/
LOCATION:Klosterkirche
END:VEVENT
BEGIN:VEVENT
DTSTART;TZID=Europe/Berlin:20241210T180000
DTEND;TZID=Europe/Berlin:20241210T190000
DTSTAMP:20260421T130824
CREATED:20241206T104747Z
LAST-MODIFIED:20241206T104747Z
UID:4448-1733853600-1733857200@www.kloster-heilig-kreuz.de
SUMMARY:Heilige Messe
DESCRIPTION:
URL:https://www.kloster-heilig-kreuz.de/veranstaltungen/heilige-messe-553/
LOCATION:Klosterkirche
END:VEVENT
BEGIN:VEVENT
DTSTART;TZID=Europe/Berlin:20241211T180000
DTEND;TZID=Europe/Berlin:20241211T190000
DTSTAMP:20260421T130824
CREATED:20241206T104815Z
LAST-MODIFIED:20241206T104815Z
UID:4450-1733940000-1733943600@www.kloster-heilig-kreuz.de
SUMMARY:Heilige Messe
DESCRIPTION:
URL:https://www.kloster-heilig-kreuz.de/veranstaltungen/heilige-messe-554/
LOCATION:Klosterkirche
END:VEVENT
BEGIN:VEVENT
DTSTART;TZID=Europe/Berlin:20241212T150000
DTEND;TZID=Europe/Berlin:20241212T180000
DTSTAMP:20260421T130824
CREATED:20241206T105003Z
LAST-MODIFIED:20241206T105003Z
UID:4459-1734015600-1734026400@www.kloster-heilig-kreuz.de
SUMMARY:Eucharistische Anbetung
DESCRIPTION:
URL:https://www.kloster-heilig-kreuz.de/veranstaltungen/eucharistische-anbetung-83/
LOCATION:Klosterkirche
END:VEVENT
BEGIN:VEVENT
DTSTART;TZID=Europe/Berlin:20241212T180000
DTEND;TZID=Europe/Berlin:20241212T190000
DTSTAMP:20260421T130824
CREATED:20241206T105037Z
LAST-MODIFIED:20241206T105037Z
UID:4462-1734026400-1734030000@www.kloster-heilig-kreuz.de
SUMMARY:Heilige Messe
DESCRIPTION:
URL:https://www.kloster-heilig-kreuz.de/veranstaltungen/heilige-messe-556/
LOCATION:Klosterkirche
END:VEVENT
BEGIN:VEVENT
DTSTART;TZID=Europe/Berlin:20241213T180000
DTEND;TZID=Europe/Berlin:20241213T190000
DTSTAMP:20260421T130824
CREATED:20241206T105130Z
LAST-MODIFIED:20241206T105130Z
UID:4464-1734112800-1734116400@www.kloster-heilig-kreuz.de
SUMMARY:Heilige Messe
DESCRIPTION:
URL:https://www.kloster-heilig-kreuz.de/veranstaltungen/heilige-messe-557/
LOCATION:Klosterkirche
END:VEVENT
BEGIN:VEVENT
DTSTART;TZID=Europe/Berlin:20241214T180000
DTEND;TZID=Europe/Berlin:20241214T190000
DTSTAMP:20260421T130824
CREATED:20241206T105159Z
LAST-MODIFIED:20241206T105159Z
UID:4466-1734199200-1734202800@www.kloster-heilig-kreuz.de
SUMMARY:Heilige Messe
DESCRIPTION:
URL:https://www.kloster-heilig-kreuz.de/veranstaltungen/heilige-messe-558/
LOCATION:Klosterkirche
END:VEVENT
BEGIN:VEVENT
DTSTART;TZID=Europe/Berlin:20241215T180000
DTEND;TZID=Europe/Berlin:20241215T190000
DTSTAMP:20260421T130824
CREATED:20241206T105227Z
LAST-MODIFIED:20241206T105227Z
UID:4468-1734285600-1734289200@www.kloster-heilig-kreuz.de
SUMMARY:Heilige Messe
DESCRIPTION:
URL:https://www.kloster-heilig-kreuz.de/veranstaltungen/heilige-messe-559/
LOCATION:Klosterkirche
END:VEVENT
BEGIN:VEVENT
DTSTART;TZID=Europe/Berlin:20241216T180000
DTEND;TZID=Europe/Berlin:20241216T190000
DTSTAMP:20260421T130824
CREATED:20241206T105307Z
LAST-MODIFIED:20241206T105307Z
UID:4471-1734372000-1734375600@www.kloster-heilig-kreuz.de
SUMMARY:Heilige Messe
DESCRIPTION:
URL:https://www.kloster-heilig-kreuz.de/veranstaltungen/heilige-messe-560/
LOCATION:Klosterkirche
END:VEVENT
BEGIN:VEVENT
DTSTART;TZID=Europe/Berlin:20241217T180000
DTEND;TZID=Europe/Berlin:20241217T190000
DTSTAMP:20260421T130824
CREATED:20241206T105344Z
LAST-MODIFIED:20241206T105344Z
UID:4473-1734458400-1734462000@www.kloster-heilig-kreuz.de
SUMMARY:Heilige Messe
DESCRIPTION:
URL:https://www.kloster-heilig-kreuz.de/veranstaltungen/heilige-messe-561/
LOCATION:Klosterkirche
END:VEVENT
BEGIN:VEVENT
DTSTART;TZID=Europe/Berlin:20241218T180000
DTEND;TZID=Europe/Berlin:20241218T190000
DTSTAMP:20260421T130824
CREATED:20241206T105417Z
LAST-MODIFIED:20241206T105417Z
UID:4475-1734544800-1734548400@www.kloster-heilig-kreuz.de
SUMMARY:Heilige Messe
DESCRIPTION:
URL:https://www.kloster-heilig-kreuz.de/veranstaltungen/heilige-messe-562/
LOCATION:Klosterkirche
END:VEVENT
BEGIN:VEVENT
DTSTART;TZID=Europe/Berlin:20241219T150000
DTEND;TZID=Europe/Berlin:20241219T180000
DTSTAMP:20260421T130824
CREATED:20241209T073837Z
LAST-MODIFIED:20241209T073837Z
UID:4481-1734620400-1734631200@www.kloster-heilig-kreuz.de
SUMMARY:Eucharistische Anbetung
DESCRIPTION:
URL:https://www.kloster-heilig-kreuz.de/veranstaltungen/eucharistische-anbetung-84/
LOCATION:Klosterkirche
END:VEVENT
BEGIN:VEVENT
DTSTART;TZID=Europe/Berlin:20241219T180000
DTEND;TZID=Europe/Berlin:20241219T183000
DTSTAMP:20260421T130824
CREATED:20241209T073739Z
LAST-MODIFIED:20241209T073739Z
UID:4477-1734631200-1734633000@www.kloster-heilig-kreuz.de
SUMMARY:Heilige Messe
DESCRIPTION:
URL:https://www.kloster-heilig-kreuz.de/veranstaltungen/heilige-messe-563/
LOCATION:Klosterkirche
END:VEVENT
BEGIN:VEVENT
DTSTART;TZID=Europe/Berlin:20241220T180000
DTEND;TZID=Europe/Berlin:20241220T190000
DTSTAMP:20260421T130824
CREATED:20241209T073810Z
LAST-MODIFIED:20241209T073810Z
UID:4479-1734717600-1734721200@www.kloster-heilig-kreuz.de
SUMMARY:Heilige Messe
DESCRIPTION:
URL:https://www.kloster-heilig-kreuz.de/veranstaltungen/heilige-messe-564/
END:VEVENT
BEGIN:VEVENT
DTSTART;TZID=Europe/Berlin:20241221T180000
DTEND;TZID=Europe/Berlin:20241221T190000
DTSTAMP:20260421T130824
CREATED:20241209T073904Z
LAST-MODIFIED:20241209T073904Z
UID:4483-1734804000-1734807600@www.kloster-heilig-kreuz.de
SUMMARY:Heilige Messe
DESCRIPTION:
URL:https://www.kloster-heilig-kreuz.de/veranstaltungen/heilige-messe-565/
LOCATION:Klosterkirche
END:VEVENT
BEGIN:VEVENT
DTSTART;TZID=Europe/Berlin:20241222T180000
DTEND;TZID=Europe/Berlin:20241222T190000
DTSTAMP:20260421T130824
CREATED:20241209T073931Z
LAST-MODIFIED:20241209T073931Z
UID:4485-1734890400-1734894000@www.kloster-heilig-kreuz.de
SUMMARY:Heilige Messe
DESCRIPTION:
URL:https://www.kloster-heilig-kreuz.de/veranstaltungen/heilige-messe-566/
LOCATION:Klosterkirche
END:VEVENT
END:VCALENDAR