BEGIN:VCALENDAR
VERSION:2.0
PRODID:-//Kloster Heilig Kreuz - ECPv6.0.11//NONSGML v1.0//EN
CALSCALE:GREGORIAN
METHOD:PUBLISH
X-WR-CALNAME:Kloster Heilig Kreuz
X-ORIGINAL-URL:https://www.kloster-heilig-kreuz.de
X-WR-CALDESC:Veranstaltungen für Kloster Heilig Kreuz
REFRESH-INTERVAL;VALUE=DURATION:PT1H
X-Robots-Tag:noindex
X-PUBLISHED-TTL:PT1H
BEGIN:VTIMEZONE
TZID:Europe/Berlin
BEGIN:DAYLIGHT
TZOFFSETFROM:+0100
TZOFFSETTO:+0200
TZNAME:CEST
DTSTART:20250330T010000
END:DAYLIGHT
BEGIN:STANDARD
TZOFFSETFROM:+0200
TZOFFSETTO:+0100
TZNAME:CET
DTSTART:20251026T010000
END:STANDARD
END:VTIMEZONE
BEGIN:VEVENT
DTSTART;TZID=Europe/Berlin:20250101T180000
DTEND;TZID=Europe/Berlin:20250101T190000
DTSTAMP:20260421T143212
CREATED:20241209T074330Z
LAST-MODIFIED:20241209T074330Z
UID:4499-1735754400-1735758000@www.kloster-heilig-kreuz.de
SUMMARY:Festmesse zum Neujahrstag -  Hochfest der Gottesmutter Maria
DESCRIPTION:
URL:https://www.kloster-heilig-kreuz.de/veranstaltungen/festmesse-zum-neujahrstag-hochfest-der-gottesmutter-maria/
LOCATION:Klosterkirche
END:VEVENT
BEGIN:VEVENT
DTSTART;TZID=Europe/Berlin:20250102T150000
DTEND;TZID=Europe/Berlin:20250102T180000
DTSTAMP:20260421T143212
CREATED:20241209T074638Z
LAST-MODIFIED:20241209T074638Z
UID:4505-1735830000-1735840800@www.kloster-heilig-kreuz.de
SUMMARY:Eucharistische Anbetung
DESCRIPTION:
URL:https://www.kloster-heilig-kreuz.de/veranstaltungen/eucharistische-anbetung-85/
LOCATION:Klosterkirche
END:VEVENT
BEGIN:VEVENT
DTSTART;TZID=Europe/Berlin:20250102T180000
DTEND;TZID=Europe/Berlin:20250102T190000
DTSTAMP:20260421T143212
CREATED:20241209T074512Z
LAST-MODIFIED:20241209T074512Z
UID:4501-1735840800-1735844400@www.kloster-heilig-kreuz.de
SUMMARY:Heilige Messe
DESCRIPTION:
URL:https://www.kloster-heilig-kreuz.de/veranstaltungen/heilige-messe-572/
LOCATION:Klosterkirche
END:VEVENT
BEGIN:VEVENT
DTSTART;TZID=Europe/Berlin:20250103T180000
DTEND;TZID=Europe/Berlin:20250103T190000
DTSTAMP:20260421T143212
CREATED:20241209T074611Z
LAST-MODIFIED:20241209T074611Z
UID:4503-1735927200-1735930800@www.kloster-heilig-kreuz.de
SUMMARY:Heilige Messe
DESCRIPTION:
URL:https://www.kloster-heilig-kreuz.de/veranstaltungen/heilige-messe-573/
LOCATION:Klosterkirche
END:VEVENT
BEGIN:VEVENT
DTSTART;TZID=Europe/Berlin:20250104T180000
DTEND;TZID=Europe/Berlin:20250104T190000
DTSTAMP:20260421T143212
CREATED:20241209T074703Z
LAST-MODIFIED:20241209T074703Z
UID:4507-1736013600-1736017200@www.kloster-heilig-kreuz.de
SUMMARY:Heilige Messe
DESCRIPTION:
URL:https://www.kloster-heilig-kreuz.de/veranstaltungen/heilige-messe-574/
LOCATION:Klosterkirche
END:VEVENT
BEGIN:VEVENT
DTSTART;TZID=Europe/Berlin:20250105T180000
DTEND;TZID=Europe/Berlin:20250105T190000
DTSTAMP:20260421T143212
CREATED:20241209T074749Z
LAST-MODIFIED:20241209T074749Z
UID:4509-1736100000-1736103600@www.kloster-heilig-kreuz.de
SUMMARY:Heilige Messe mit monatlicher Predigt zum Heiligen Jahr "Pilger der Hoffnung"
DESCRIPTION:
URL:https://www.kloster-heilig-kreuz.de/veranstaltungen/heilige-messe-mit-monatlicher-predigt-zum-heiligen-jahr-pilger-der-hoffnung/
LOCATION:Klosterkirche
END:VEVENT
BEGIN:VEVENT
DTSTART;TZID=Europe/Berlin:20250106T180000
DTEND;TZID=Europe/Berlin:20250106T190000
DTSTAMP:20260421T143212
CREATED:20241209T074813Z
LAST-MODIFIED:20241209T074813Z
UID:4511-1736186400-1736190000@www.kloster-heilig-kreuz.de
SUMMARY:Heilige Messe
DESCRIPTION:
URL:https://www.kloster-heilig-kreuz.de/veranstaltungen/heilige-messe-575/
LOCATION:Klosterkirche
END:VEVENT
BEGIN:VEVENT
DTSTART;TZID=Europe/Berlin:20250107T180000
DTEND;TZID=Europe/Berlin:20250107T190000
DTSTAMP:20260421T143212
CREATED:20241209T074837Z
LAST-MODIFIED:20241209T074837Z
UID:4513-1736272800-1736276400@www.kloster-heilig-kreuz.de
SUMMARY:Heilige Messe
DESCRIPTION:
URL:https://www.kloster-heilig-kreuz.de/veranstaltungen/heilige-messe-576/
LOCATION:Klosterkirche
END:VEVENT
BEGIN:VEVENT
DTSTART;TZID=Europe/Berlin:20250108T180000
DTEND;TZID=Europe/Berlin:20250108T190000
DTSTAMP:20260421T143212
CREATED:20241209T074901Z
LAST-MODIFIED:20241209T074901Z
UID:4515-1736359200-1736362800@www.kloster-heilig-kreuz.de
SUMMARY:Heilige Messe
DESCRIPTION:
URL:https://www.kloster-heilig-kreuz.de/veranstaltungen/heilige-messe-577/
LOCATION:Klosterkirche
END:VEVENT
BEGIN:VEVENT
DTSTART;TZID=Europe/Berlin:20250108T190000
DTEND;TZID=Europe/Berlin:20250108T203000
DTSTAMP:20260421T143212
CREATED:20241209T074940Z
LAST-MODIFIED:20241209T074940Z
UID:4517-1736362800-1736368200@www.kloster-heilig-kreuz.de
SUMMARY:Monatliches Schriftgespräch zum Sonntagsevangelium
DESCRIPTION:
URL:https://www.kloster-heilig-kreuz.de/veranstaltungen/monatliches-schriftgespraech-zum-sonntagsevangelium/
LOCATION:Konferenzraum des Geistlichen Zentrums
END:VEVENT
BEGIN:VEVENT
DTSTART;TZID=Europe/Berlin:20250109T150000
DTEND;TZID=Europe/Berlin:20250109T180000
DTSTAMP:20260421T143212
CREATED:20241213T103246Z
LAST-MODIFIED:20241213T103246Z
UID:4551-1736434800-1736445600@www.kloster-heilig-kreuz.de
SUMMARY:Eucharistische Anbetung
DESCRIPTION:
URL:https://www.kloster-heilig-kreuz.de/veranstaltungen/eucharistische-anbetung-87/
LOCATION:Klosterkirche
END:VEVENT
BEGIN:VEVENT
DTSTART;TZID=Europe/Berlin:20250109T180000
DTEND;TZID=Europe/Berlin:20250109T190000
DTSTAMP:20260421T143212
CREATED:20241213T103122Z
LAST-MODIFIED:20241213T103157Z
UID:4548-1736445600-1736449200@www.kloster-heilig-kreuz.de
SUMMARY:Heilige Messe
DESCRIPTION:
URL:https://www.kloster-heilig-kreuz.de/veranstaltungen/eucharistische-anbetung-86/
LOCATION:Klosterkirche
END:VEVENT
BEGIN:VEVENT
DTSTART;TZID=Europe/Berlin:20250110T150000
DTEND;TZID=Europe/Berlin:20250110T180000
DTSTAMP:20260421T143212
CREATED:20250110T105030Z
LAST-MODIFIED:20250110T105030Z
UID:4774-1736521200-1736532000@www.kloster-heilig-kreuz.de
SUMMARY:Eucharistische Anbetung
DESCRIPTION:
URL:https://www.kloster-heilig-kreuz.de/veranstaltungen/eucharistische-anbetung-96/
LOCATION:Klosterkirche
END:VEVENT
BEGIN:VEVENT
DTSTART;TZID=Europe/Berlin:20250110T180000
DTEND;TZID=Europe/Berlin:20250110T190000
DTSTAMP:20260421T143212
CREATED:20241213T103312Z
LAST-MODIFIED:20241213T103312Z
UID:4553-1736532000-1736535600@www.kloster-heilig-kreuz.de
SUMMARY:Heilige Messe
DESCRIPTION:
URL:https://www.kloster-heilig-kreuz.de/veranstaltungen/heilige-messe-578/
LOCATION:Klosterkirche
END:VEVENT
BEGIN:VEVENT
DTSTART;TZID=Europe/Berlin:20250111T180000
DTEND;TZID=Europe/Berlin:20250111T190000
DTSTAMP:20260421T143212
CREATED:20241213T103342Z
LAST-MODIFIED:20241213T103342Z
UID:4555-1736618400-1736622000@www.kloster-heilig-kreuz.de
SUMMARY:Heilige Messe
DESCRIPTION:
URL:https://www.kloster-heilig-kreuz.de/veranstaltungen/heilige-messe-579/
LOCATION:Klosterkirche
END:VEVENT
BEGIN:VEVENT
DTSTART;TZID=Europe/Berlin:20250112T180000
DTEND;TZID=Europe/Berlin:20250112T190000
DTSTAMP:20260421T143212
CREATED:20241213T103408Z
LAST-MODIFIED:20241213T103408Z
UID:4557-1736704800-1736708400@www.kloster-heilig-kreuz.de
SUMMARY:Heilige Messe
DESCRIPTION:
URL:https://www.kloster-heilig-kreuz.de/veranstaltungen/heilige-messe-580/
LOCATION:Klosterkirche
END:VEVENT
BEGIN:VEVENT
DTSTART;TZID=Europe/Berlin:20250113T180000
DTEND;TZID=Europe/Berlin:20250113T190000
DTSTAMP:20260421T143212
CREATED:20241213T103436Z
LAST-MODIFIED:20241213T103436Z
UID:4559-1736791200-1736794800@www.kloster-heilig-kreuz.de
SUMMARY:Heilige Messe
DESCRIPTION:
URL:https://www.kloster-heilig-kreuz.de/veranstaltungen/heilige-messe-581/
LOCATION:Klosterkirche
END:VEVENT
BEGIN:VEVENT
DTSTART;TZID=Europe/Berlin:20250114T180000
DTEND;TZID=Europe/Berlin:20250114T190000
DTSTAMP:20260421T143212
CREATED:20241213T103509Z
LAST-MODIFIED:20241213T103509Z
UID:4561-1736877600-1736881200@www.kloster-heilig-kreuz.de
SUMMARY:Heilige Messe
DESCRIPTION:
URL:https://www.kloster-heilig-kreuz.de/veranstaltungen/heilige-messe-582/
LOCATION:Klosterkirche
END:VEVENT
BEGIN:VEVENT
DTSTART;TZID=Europe/Berlin:20250115T100000
DTEND;TZID=Europe/Berlin:20250115T160000
DTSTAMP:20260421T143212
CREATED:20250110T082217Z
LAST-MODIFIED:20250110T082217Z
UID:4694-1736935200-1736956800@www.kloster-heilig-kreuz.de
SUMMARY:"Oasentag" in Zusammenarbeit mit der Caritas-Akademie für Gesundheitsberufe Saar
DESCRIPTION:
URL:https://www.kloster-heilig-kreuz.de/veranstaltungen/oasentag-in-zusammenarbeit-mit-der-caritas-akademie-fuer-gesundheitsberufe-saar/
LOCATION:Großer Saal des Geistlichen Zentrums
END:VEVENT
BEGIN:VEVENT
DTSTART;TZID=Europe/Berlin:20250115T180000
DTEND;TZID=Europe/Berlin:20250115T190000
DTSTAMP:20260421T143212
CREATED:20241213T103541Z
LAST-MODIFIED:20241213T103541Z
UID:4563-1736964000-1736967600@www.kloster-heilig-kreuz.de
SUMMARY:Heilige Messe
DESCRIPTION:
URL:https://www.kloster-heilig-kreuz.de/veranstaltungen/heilige-messe-583/
LOCATION:Klosterkirche
END:VEVENT
BEGIN:VEVENT
DTSTART;TZID=Europe/Berlin:20250116T150000
DTEND;TZID=Europe/Berlin:20250116T180000
DTSTAMP:20260421T143212
CREATED:20241213T103630Z
LAST-MODIFIED:20241213T103630Z
UID:4567-1737039600-1737050400@www.kloster-heilig-kreuz.de
SUMMARY:Eucharistische Anbetung
DESCRIPTION:
URL:https://www.kloster-heilig-kreuz.de/veranstaltungen/eucharistische-anbetung-88/
LOCATION:Klosterkirche
END:VEVENT
BEGIN:VEVENT
DTSTART;TZID=Europe/Berlin:20250116T180000
DTEND;TZID=Europe/Berlin:20250116T190000
DTSTAMP:20260421T143212
CREATED:20241213T103606Z
LAST-MODIFIED:20241213T103606Z
UID:4565-1737050400-1737054000@www.kloster-heilig-kreuz.de
SUMMARY:Heilige Messe
DESCRIPTION:
URL:https://www.kloster-heilig-kreuz.de/veranstaltungen/heilige-messe-584/
LOCATION:Klosterkirche
END:VEVENT
BEGIN:VEVENT
DTSTART;TZID=Europe/Berlin:20250117T180000
DTEND;TZID=Europe/Berlin:20250117T190000
DTSTAMP:20260421T143212
CREATED:20241213T103704Z
LAST-MODIFIED:20241213T103704Z
UID:4569-1737136800-1737140400@www.kloster-heilig-kreuz.de
SUMMARY:Heilige Messe
DESCRIPTION:
URL:https://www.kloster-heilig-kreuz.de/veranstaltungen/heilige-messe-585/
LOCATION:Klosterkirche
END:VEVENT
BEGIN:VEVENT
DTSTART;TZID=Europe/Berlin:20250118T180000
DTEND;TZID=Europe/Berlin:20250118T190000
DTSTAMP:20260421T143212
CREATED:20241213T103732Z
LAST-MODIFIED:20241213T103732Z
UID:4571-1737223200-1737226800@www.kloster-heilig-kreuz.de
SUMMARY:Heilige Messe
DESCRIPTION:
URL:https://www.kloster-heilig-kreuz.de/veranstaltungen/heilige-messe-586/
LOCATION:Klosterkirche
END:VEVENT
BEGIN:VEVENT
DTSTART;TZID=Europe/Berlin:20250119T180000
DTEND;TZID=Europe/Berlin:20250119T190000
DTSTAMP:20260421T143212
CREATED:20241213T103758Z
LAST-MODIFIED:20241213T103758Z
UID:4573-1737309600-1737313200@www.kloster-heilig-kreuz.de
SUMMARY:Heilige Messe
DESCRIPTION:
URL:https://www.kloster-heilig-kreuz.de/veranstaltungen/heilige-messe-587/
LOCATION:Klosterkirche
END:VEVENT
BEGIN:VEVENT
DTSTART;TZID=Europe/Berlin:20250120T180000
DTEND;TZID=Europe/Berlin:20250120T190000
DTSTAMP:20260421T143212
CREATED:20241213T103840Z
LAST-MODIFIED:20241213T103840Z
UID:4575-1737396000-1737399600@www.kloster-heilig-kreuz.de
SUMMARY:Heilige Messe
DESCRIPTION:
URL:https://www.kloster-heilig-kreuz.de/veranstaltungen/heilige-messe-588/
LOCATION:Klosterkirche
END:VEVENT
BEGIN:VEVENT
DTSTART;TZID=Europe/Berlin:20250121T180000
DTEND;TZID=Europe/Berlin:20250121T190000
DTSTAMP:20260421T143212
CREATED:20241213T103912Z
LAST-MODIFIED:20241213T103912Z
UID:4577-1737482400-1737486000@www.kloster-heilig-kreuz.de
SUMMARY:Heilige Messe
DESCRIPTION:
URL:https://www.kloster-heilig-kreuz.de/veranstaltungen/heilige-messe-589/
LOCATION:Klosterkirche
END:VEVENT
BEGIN:VEVENT
DTSTART;TZID=Europe/Berlin:20250122T180000
DTEND;TZID=Europe/Berlin:20250122T190000
DTSTAMP:20260421T143212
CREATED:20241213T103942Z
LAST-MODIFIED:20241213T103942Z
UID:4579-1737568800-1737572400@www.kloster-heilig-kreuz.de
SUMMARY:Heilige Messe
DESCRIPTION:
URL:https://www.kloster-heilig-kreuz.de/veranstaltungen/heilige-messe-590/
LOCATION:Klosterkirche
END:VEVENT
BEGIN:VEVENT
DTSTART;TZID=Europe/Berlin:20250122T190000
DTEND;TZID=Europe/Berlin:20250122T203000
DTSTAMP:20260421T143212
CREATED:20241209T075029Z
LAST-MODIFIED:20241209T075029Z
UID:4519-1737572400-1737577800@www.kloster-heilig-kreuz.de
SUMMARY:Was Gott von uns will? (Bibelarbeit)
DESCRIPTION:
URL:https://www.kloster-heilig-kreuz.de/veranstaltungen/was-gott-von-uns-will-bibelarbeit/
LOCATION:Konferenzraum des Geistlichen Zentrums
END:VEVENT
BEGIN:VEVENT
DTSTART;TZID=Europe/Berlin:20250123T150000
DTEND;TZID=Europe/Berlin:20250123T180000
DTSTAMP:20260421T143212
CREATED:20241213T104008Z
LAST-MODIFIED:20241213T104008Z
UID:4581-1737644400-1737655200@www.kloster-heilig-kreuz.de
SUMMARY:Eucharistische Anbetung
DESCRIPTION:
URL:https://www.kloster-heilig-kreuz.de/veranstaltungen/eucharistische-anbetung-89/
LOCATION:Klosterkirche
END:VEVENT
END:VCALENDAR