BEGIN:VCALENDAR
VERSION:2.0
PRODID:-//Kloster Heilig Kreuz - ECPv6.0.11//NONSGML v1.0//EN
CALSCALE:GREGORIAN
METHOD:PUBLISH
X-WR-CALNAME:Kloster Heilig Kreuz
X-ORIGINAL-URL:https://www.kloster-heilig-kreuz.de
X-WR-CALDESC:Veranstaltungen für Kloster Heilig Kreuz
REFRESH-INTERVAL;VALUE=DURATION:PT1H
X-Robots-Tag:noindex
X-PUBLISHED-TTL:PT1H
BEGIN:VTIMEZONE
TZID:Europe/Berlin
BEGIN:DAYLIGHT
TZOFFSETFROM:+0100
TZOFFSETTO:+0200
TZNAME:CEST
DTSTART:20250330T010000
END:DAYLIGHT
BEGIN:STANDARD
TZOFFSETFROM:+0200
TZOFFSETTO:+0100
TZNAME:CET
DTSTART:20251026T010000
END:STANDARD
END:VTIMEZONE
BEGIN:VEVENT
DTSTART;TZID=Europe/Berlin:20250201T180000
DTEND;TZID=Europe/Berlin:20250201T190000
DTSTAMP:20260422T041431
CREATED:20241220T093930Z
LAST-MODIFIED:20241220T093930Z
UID:4606-1738432800-1738436400@www.kloster-heilig-kreuz.de
SUMMARY:Heilige Messe
DESCRIPTION:
URL:https://www.kloster-heilig-kreuz.de/veranstaltungen/heilige-messe-600/
LOCATION:Klosterkirche
END:VEVENT
BEGIN:VEVENT
DTSTART;TZID=Europe/Berlin:20250202T180000
DTEND;TZID=Europe/Berlin:20250202T190000
DTSTAMP:20260422T041431
CREATED:20241220T094050Z
LAST-MODIFIED:20241220T094050Z
UID:4608-1738519200-1738522800@www.kloster-heilig-kreuz.de
SUMMARY:Heilige Messe mit monatlicher Predigt zum Heiligen Jahr "Pilger der Hoffnung"
DESCRIPTION:
URL:https://www.kloster-heilig-kreuz.de/veranstaltungen/heilige-messe-mit-monatlicher-predigt-zum-heiligen-jahr-pilger-der-hoffnung-2/
LOCATION:Klosterkirche
END:VEVENT
BEGIN:VEVENT
DTSTART;TZID=Europe/Berlin:20250203T180000
DTEND;TZID=Europe/Berlin:20250203T190000
DTSTAMP:20260422T041431
CREATED:20241220T094311Z
LAST-MODIFIED:20241220T094311Z
UID:4610-1738605600-1738609200@www.kloster-heilig-kreuz.de
SUMMARY:Heilige Messe
DESCRIPTION:
URL:https://www.kloster-heilig-kreuz.de/veranstaltungen/heilige-messe-601/
LOCATION:Klosterkirche
END:VEVENT
BEGIN:VEVENT
DTSTART;TZID=Europe/Berlin:20250204T180000
DTEND;TZID=Europe/Berlin:20250204T190000
DTSTAMP:20260422T041431
CREATED:20241220T094342Z
LAST-MODIFIED:20241220T094342Z
UID:4612-1738692000-1738695600@www.kloster-heilig-kreuz.de
SUMMARY:Heilige  Messe
DESCRIPTION:
URL:https://www.kloster-heilig-kreuz.de/veranstaltungen/heilige-messe-602/
LOCATION:Klosterkirche
END:VEVENT
BEGIN:VEVENT
DTSTART;TZID=Europe/Berlin:20250205T100000
DTEND;TZID=Europe/Berlin:20250205T160000
DTSTAMP:20260422T041431
CREATED:20250110T082311Z
LAST-MODIFIED:20250110T082311Z
UID:4696-1738749600-1738771200@www.kloster-heilig-kreuz.de
SUMMARY:"Oasentag" in Zusammenarbeit mit der Caritas-Akademie für Gesundheitsberufe Saar
DESCRIPTION:
URL:https://www.kloster-heilig-kreuz.de/veranstaltungen/oasentag-in-zusammenarbeit-mit-der-caritas-akademie-fuer-gesundheitsberufe-saar-2/
LOCATION:Großer Saal des Geistlichen Zentrums
END:VEVENT
BEGIN:VEVENT
DTSTART;TZID=Europe/Berlin:20250205T180000
DTEND;TZID=Europe/Berlin:20250205T190000
DTSTAMP:20260422T041431
CREATED:20241220T094424Z
LAST-MODIFIED:20241220T094424Z
UID:4614-1738778400-1738782000@www.kloster-heilig-kreuz.de
SUMMARY:Heilige Messe
DESCRIPTION:
URL:https://www.kloster-heilig-kreuz.de/veranstaltungen/heilige-messe-603/
LOCATION:Klosterkirche
END:VEVENT
BEGIN:VEVENT
DTSTART;TZID=Europe/Berlin:20250205T190000
DTEND;TZID=Europe/Berlin:20250205T203000
DTSTAMP:20260422T041431
CREATED:20241220T094519Z
LAST-MODIFIED:20241220T094519Z
UID:4616-1738782000-1738787400@www.kloster-heilig-kreuz.de
SUMMARY:"Was Gott von uns will?" - Bibelarbeit
DESCRIPTION:
URL:https://www.kloster-heilig-kreuz.de/veranstaltungen/was-gott-von-uns-will-bibelarbeit-2/
LOCATION:Konferenzraum des Geistlichen Zentrums
END:VEVENT
BEGIN:VEVENT
DTSTART;TZID=Europe/Berlin:20250206T150000
DTEND;TZID=Europe/Berlin:20250206T180000
DTSTAMP:20260422T041431
CREATED:20241220T094552Z
LAST-MODIFIED:20241220T094552Z
UID:4618-1738854000-1738864800@www.kloster-heilig-kreuz.de
SUMMARY:Eucharistische Anbetung
DESCRIPTION:
URL:https://www.kloster-heilig-kreuz.de/veranstaltungen/eucharistische-anbetung-91/
LOCATION:Klosterkirche
END:VEVENT
BEGIN:VEVENT
DTSTART;TZID=Europe/Berlin:20250206T180000
DTEND;TZID=Europe/Berlin:20250206T190000
DTSTAMP:20260422T041431
CREATED:20241220T095516Z
LAST-MODIFIED:20241220T095516Z
UID:4628-1738864800-1738868400@www.kloster-heilig-kreuz.de
SUMMARY:Heilige Messe
DESCRIPTION:
URL:https://www.kloster-heilig-kreuz.de/veranstaltungen/heilige-messe-604/
LOCATION:Klosterkirche
END:VEVENT
BEGIN:VEVENT
DTSTART;TZID=Europe/Berlin:20250207T180000
DTEND;TZID=Europe/Berlin:20250207T190000
DTSTAMP:20260422T041431
CREATED:20241220T100339Z
LAST-MODIFIED:20241220T100339Z
UID:4631-1738951200-1738954800@www.kloster-heilig-kreuz.de
SUMMARY:Heilige Messe
DESCRIPTION:
URL:https://www.kloster-heilig-kreuz.de/veranstaltungen/heilige-messe-605/
LOCATION:Klosterkirche
END:VEVENT
BEGIN:VEVENT
DTSTART;TZID=Europe/Berlin:20250208T180000
DTEND;TZID=Europe/Berlin:20250208T190000
DTSTAMP:20260422T041431
CREATED:20241220T100434Z
LAST-MODIFIED:20241220T100434Z
UID:4633-1739037600-1739041200@www.kloster-heilig-kreuz.de
SUMMARY:Heilige Messe
DESCRIPTION:
URL:https://www.kloster-heilig-kreuz.de/veranstaltungen/heilige-messe-606/
LOCATION:Klosterkirche
END:VEVENT
BEGIN:VEVENT
DTSTART;TZID=Europe/Berlin:20250209T180000
DTEND;TZID=Europe/Berlin:20250209T190000
DTSTAMP:20260422T041431
CREATED:20241220T101514Z
LAST-MODIFIED:20241220T101514Z
UID:4636-1739124000-1739127600@www.kloster-heilig-kreuz.de
SUMMARY:Heilige Messe
DESCRIPTION:
URL:https://www.kloster-heilig-kreuz.de/veranstaltungen/heilige-messe-607/
LOCATION:Klosterkirche
END:VEVENT
BEGIN:VEVENT
DTSTART;TZID=Europe/Berlin:20250210T180000
DTEND;TZID=Europe/Berlin:20250210T190000
DTSTAMP:20260422T041431
CREATED:20241220T101543Z
LAST-MODIFIED:20241220T101543Z
UID:4638-1739210400-1739214000@www.kloster-heilig-kreuz.de
SUMMARY:Heilige Messe
DESCRIPTION:
URL:https://www.kloster-heilig-kreuz.de/veranstaltungen/heilige-messe-608/
LOCATION:Klosterkirche
END:VEVENT
BEGIN:VEVENT
DTSTART;TZID=Europe/Berlin:20250211T180000
DTEND;TZID=Europe/Berlin:20250211T190000
DTSTAMP:20260422T041431
CREATED:20241220T101617Z
LAST-MODIFIED:20241220T101617Z
UID:4640-1739296800-1739300400@www.kloster-heilig-kreuz.de
SUMMARY:Heilige Messe
DESCRIPTION:
URL:https://www.kloster-heilig-kreuz.de/veranstaltungen/heilige-messe-609/
LOCATION:Klosterkirche
END:VEVENT
BEGIN:VEVENT
DTSTART;TZID=Europe/Berlin:20250212T180000
DTEND;TZID=Europe/Berlin:20250212T190000
DTSTAMP:20260422T041431
CREATED:20241220T101643Z
LAST-MODIFIED:20241220T101643Z
UID:4642-1739383200-1739386800@www.kloster-heilig-kreuz.de
SUMMARY:Heilige Messe
DESCRIPTION:
URL:https://www.kloster-heilig-kreuz.de/veranstaltungen/heilige-messe-610/
LOCATION:Klosterkirche
END:VEVENT
BEGIN:VEVENT
DTSTART;TZID=Europe/Berlin:20250212T190000
DTEND;TZID=Europe/Berlin:20250212T203000
DTSTAMP:20260422T041431
CREATED:20241220T094927Z
LAST-MODIFIED:20241220T094927Z
UID:4623-1739386800-1739392200@www.kloster-heilig-kreuz.de
SUMMARY:Monatliches Schriftgespräch zum Sonntagsevangelium
DESCRIPTION:
URL:https://www.kloster-heilig-kreuz.de/veranstaltungen/monatliches-schriftgespraech-zum-sonntagsevangelium-2/
LOCATION:Konferenzraum des Geistlichen Zentrums
END:VEVENT
BEGIN:VEVENT
DTSTART;TZID=Europe/Berlin:20250213T150000
DTEND;TZID=Europe/Berlin:20250213T180000
DTSTAMP:20260422T041431
CREATED:20241220T101743Z
LAST-MODIFIED:20241220T101743Z
UID:4646-1739458800-1739469600@www.kloster-heilig-kreuz.de
SUMMARY:Eucharistische Anbetung
DESCRIPTION:
URL:https://www.kloster-heilig-kreuz.de/veranstaltungen/eucharistische-anbetung-92/
LOCATION:Klosterkirche
END:VEVENT
BEGIN:VEVENT
DTSTART;TZID=Europe/Berlin:20250213T180000
DTEND;TZID=Europe/Berlin:20250213T190000
DTSTAMP:20260422T041431
CREATED:20241220T101715Z
LAST-MODIFIED:20241220T101715Z
UID:4644-1739469600-1739473200@www.kloster-heilig-kreuz.de
SUMMARY:Heilige Messe
DESCRIPTION:
URL:https://www.kloster-heilig-kreuz.de/veranstaltungen/heilige-messe-611/
LOCATION:Klosterkirche
END:VEVENT
BEGIN:VEVENT
DTSTART;TZID=Europe/Berlin:20250214T180000
DTEND;TZID=Europe/Berlin:20250214T190000
DTSTAMP:20260422T041431
CREATED:20241220T101821Z
LAST-MODIFIED:20241220T101821Z
UID:4648-1739556000-1739559600@www.kloster-heilig-kreuz.de
SUMMARY:Heilige Messe
DESCRIPTION:
URL:https://www.kloster-heilig-kreuz.de/veranstaltungen/heilige-messe-612/
LOCATION:Klosterkirche
END:VEVENT
BEGIN:VEVENT
DTSTART;TZID=Europe/Berlin:20250215T090000
DTEND;TZID=Europe/Berlin:20250215T160000
DTSTAMP:20260422T041431
CREATED:20250110T084329Z
LAST-MODIFIED:20250110T084329Z
UID:4700-1739610000-1739635200@www.kloster-heilig-kreuz.de
SUMMARY:Kommunionkindertag der Pfarrei Heilig Kreuz im Warndt
DESCRIPTION:
URL:https://www.kloster-heilig-kreuz.de/veranstaltungen/kommunionkindertag-der-pfarrei-heilig-kreuz-im-warndt/
LOCATION:Kloster\, Völklingerstraße 197\, Püttlingen\, 66346
END:VEVENT
BEGIN:VEVENT
DTSTART;TZID=Europe/Berlin:20250215T180000
DTEND;TZID=Europe/Berlin:20250215T190000
DTSTAMP:20260422T041431
CREATED:20241220T101853Z
LAST-MODIFIED:20241220T101853Z
UID:4650-1739642400-1739646000@www.kloster-heilig-kreuz.de
SUMMARY:Heilige Messe
DESCRIPTION:
URL:https://www.kloster-heilig-kreuz.de/veranstaltungen/heilige-messe-613/
LOCATION:Klosterkirche
END:VEVENT
BEGIN:VEVENT
DTSTART;TZID=Europe/Berlin:20250216T180000
DTEND;TZID=Europe/Berlin:20250216T190000
DTSTAMP:20260422T041431
CREATED:20250110T084415Z
LAST-MODIFIED:20250110T084415Z
UID:4702-1739728800-1739732400@www.kloster-heilig-kreuz.de
SUMMARY:Heilige Messe
DESCRIPTION:
URL:https://www.kloster-heilig-kreuz.de/veranstaltungen/heilige-messe-614/
LOCATION:Klosterkirche
END:VEVENT
BEGIN:VEVENT
DTSTART;TZID=Europe/Berlin:20250216T180000
DTEND;TZID=Europe/Berlin:20250216T190000
DTSTAMP:20260422T041431
CREATED:20250110T084531Z
LAST-MODIFIED:20250110T084531Z
UID:4706-1739728800-1739732400@www.kloster-heilig-kreuz.de
SUMMARY:Heilige Messe
DESCRIPTION:
URL:https://www.kloster-heilig-kreuz.de/veranstaltungen/heilige-messe-616/
LOCATION:Klosterkirche
END:VEVENT
BEGIN:VEVENT
DTSTART;TZID=Europe/Berlin:20250217T180000
DTEND;TZID=Europe/Berlin:20250217T190000
DTSTAMP:20260422T041431
CREATED:20250110T084501Z
LAST-MODIFIED:20250110T084501Z
UID:4704-1739815200-1739818800@www.kloster-heilig-kreuz.de
SUMMARY:Heilige Messe
DESCRIPTION:
URL:https://www.kloster-heilig-kreuz.de/veranstaltungen/heilige-messe-615/
LOCATION:Klosterkirche
END:VEVENT
BEGIN:VEVENT
DTSTART;TZID=Europe/Berlin:20250219T180000
DTEND;TZID=Europe/Berlin:20250219T190000
DTSTAMP:20260422T041431
CREATED:20250110T084615Z
LAST-MODIFIED:20250110T084615Z
UID:4708-1739988000-1739991600@www.kloster-heilig-kreuz.de
SUMMARY:Heilige Messe
DESCRIPTION:
URL:https://www.kloster-heilig-kreuz.de/veranstaltungen/heilige-messe-617/
LOCATION:Klosterkirche
END:VEVENT
BEGIN:VEVENT
DTSTART;TZID=Europe/Berlin:20250219T190000
DTEND;TZID=Europe/Berlin:20250219T203000
DTSTAMP:20260422T041431
CREATED:20241220T095015Z
LAST-MODIFIED:20241220T095015Z
UID:4625-1739991600-1739997000@www.kloster-heilig-kreuz.de
SUMMARY:"Was Gott von uns will?" - Bibelarbeit
DESCRIPTION:
URL:https://www.kloster-heilig-kreuz.de/veranstaltungen/was-gott-von-uns-will-bibelarbeit-3/
LOCATION:Konferenzraum des Geistlichen Zentrums
END:VEVENT
BEGIN:VEVENT
DTSTART;TZID=Europe/Berlin:20250220T150000
DTEND;TZID=Europe/Berlin:20250220T180000
DTSTAMP:20260422T041431
CREATED:20250110T084645Z
LAST-MODIFIED:20250110T084645Z
UID:4710-1740063600-1740074400@www.kloster-heilig-kreuz.de
SUMMARY:Eucharistische Anbetung
DESCRIPTION:
URL:https://www.kloster-heilig-kreuz.de/veranstaltungen/eucharistische-anbetung-93/
LOCATION:Klosterkirche
END:VEVENT
BEGIN:VEVENT
DTSTART;TZID=Europe/Berlin:20250220T180000
DTEND;TZID=Europe/Berlin:20250220T190000
DTSTAMP:20260422T041431
CREATED:20250110T084717Z
LAST-MODIFIED:20250110T084717Z
UID:4712-1740074400-1740078000@www.kloster-heilig-kreuz.de
SUMMARY:Heilige Messe
DESCRIPTION:
URL:https://www.kloster-heilig-kreuz.de/veranstaltungen/heilige-messe-618/
LOCATION:Klosterkirche
END:VEVENT
BEGIN:VEVENT
DTSTART;TZID=Europe/Berlin:20250221T083000
DTEND;TZID=Europe/Berlin:20250221T153000
DTSTAMP:20260422T041431
CREATED:20250110T084832Z
LAST-MODIFIED:20250110T084832Z
UID:4716-1740126600-1740151800@www.kloster-heilig-kreuz.de
SUMMARY:Fortbildung des Reha- und Behindertensportverbandes Saar
DESCRIPTION:
URL:https://www.kloster-heilig-kreuz.de/veranstaltungen/fortbildung-des-reha-und-behindertensportverbandes-saar-3/
LOCATION:Großer Saal des Geistlichen Zentrums
END:VEVENT
BEGIN:VEVENT
DTSTART;TZID=Europe/Berlin:20250221T180000
DTEND;TZID=Europe/Berlin:20250221T190000
DTSTAMP:20260422T041431
CREATED:20250110T084748Z
LAST-MODIFIED:20250110T084748Z
UID:4714-1740160800-1740164400@www.kloster-heilig-kreuz.de
SUMMARY:Heilige Messe
DESCRIPTION:
URL:https://www.kloster-heilig-kreuz.de/veranstaltungen/heilige-messe-619/
LOCATION:Klosterkirche
END:VEVENT
END:VCALENDAR