BEGIN:VCALENDAR
VERSION:2.0
PRODID:-//Kloster Heilig Kreuz - ECPv6.0.11//NONSGML v1.0//EN
CALSCALE:GREGORIAN
METHOD:PUBLISH
X-ORIGINAL-URL:https://www.kloster-heilig-kreuz.de
X-WR-CALDESC:Veranstaltungen für Kloster Heilig Kreuz
REFRESH-INTERVAL;VALUE=DURATION:PT1H
X-Robots-Tag:noindex
X-PUBLISHED-TTL:PT1H
BEGIN:VTIMEZONE
TZID:Europe/Berlin
BEGIN:DAYLIGHT
TZOFFSETFROM:+0100
TZOFFSETTO:+0200
TZNAME:CEST
DTSTART:20250330T010000
END:DAYLIGHT
BEGIN:STANDARD
TZOFFSETFROM:+0200
TZOFFSETTO:+0100
TZNAME:CET
DTSTART:20251026T010000
END:STANDARD
END:VTIMEZONE
BEGIN:VEVENT
DTSTART;TZID=Europe/Berlin:20250501T150000
DTEND;TZID=Europe/Berlin:20250501T180000
DTSTAMP:20260421T184750
CREATED:20250321T100551Z
LAST-MODIFIED:20250321T100551Z
UID:4944-1746111600-1746122400@www.kloster-heilig-kreuz.de
SUMMARY:Eucharistische Anbetung
DESCRIPTION:
URL:https://www.kloster-heilig-kreuz.de/veranstaltungen/eucharistische-anbetung-102/
LOCATION:Klosterkirche
END:VEVENT
BEGIN:VEVENT
DTSTART;TZID=Europe/Berlin:20250501T180000
DTEND;TZID=Europe/Berlin:20250501T190000
DTSTAMP:20260421T184750
CREATED:20250321T100620Z
LAST-MODIFIED:20250321T100620Z
UID:4946-1746122400-1746126000@www.kloster-heilig-kreuz.de
SUMMARY:Heilige Messe
DESCRIPTION:
URL:https://www.kloster-heilig-kreuz.de/veranstaltungen/heilige-messe-683/
LOCATION:Klosterkirche
END:VEVENT
BEGIN:VEVENT
DTSTART;TZID=Europe/Berlin:20250502T180000
DTEND;TZID=Europe/Berlin:20250502T190000
DTSTAMP:20260421T184750
CREATED:20250321T100653Z
LAST-MODIFIED:20250321T100653Z
UID:4948-1746208800-1746212400@www.kloster-heilig-kreuz.de
SUMMARY:Heilige Messe
DESCRIPTION:
URL:https://www.kloster-heilig-kreuz.de/veranstaltungen/heilige-messe-684/
LOCATION:Klosterkirche
END:VEVENT
BEGIN:VEVENT
DTSTART;TZID=Europe/Berlin:20250503T180000
DTEND;TZID=Europe/Berlin:20250503T190000
DTSTAMP:20260421T184750
CREATED:20250321T100716Z
LAST-MODIFIED:20250321T100716Z
UID:4950-1746295200-1746298800@www.kloster-heilig-kreuz.de
SUMMARY:Heilige Messe
DESCRIPTION:
URL:https://www.kloster-heilig-kreuz.de/veranstaltungen/heilige-messe-685/
LOCATION:Klosterkirche
END:VEVENT
BEGIN:VEVENT
DTSTART;TZID=Europe/Berlin:20250504T180000
DTEND;TZID=Europe/Berlin:20250504T190000
DTSTAMP:20260421T184750
CREATED:20250321T100755Z
LAST-MODIFIED:20250321T100755Z
UID:4952-1746381600-1746385200@www.kloster-heilig-kreuz.de
SUMMARY:Heilige Messe mit monatlicher Predigt zum Heiligen Jahr "Pilger der Hoffnung"
DESCRIPTION:
URL:https://www.kloster-heilig-kreuz.de/veranstaltungen/heilige-messe-mit-monatlicher-predigt-zum-heiligen-jahr-pilger-der-hoffnung-3/
LOCATION:Klosterkirche
END:VEVENT
BEGIN:VEVENT
DTSTART;TZID=Europe/Berlin:20250505T180000
DTEND;TZID=Europe/Berlin:20250505T190000
DTSTAMP:20260421T184750
CREATED:20250321T101454Z
LAST-MODIFIED:20250321T101538Z
UID:4954-1746468000-1746471600@www.kloster-heilig-kreuz.de
SUMMARY:Heilige Messe
DESCRIPTION:
URL:https://www.kloster-heilig-kreuz.de/veranstaltungen/heilige-mess/
LOCATION:Klosterkirche
END:VEVENT
BEGIN:VEVENT
DTSTART;TZID=Europe/Berlin:20250506T180000
DTEND;TZID=Europe/Berlin:20250506T190000
DTSTAMP:20260421T184750
CREATED:20250321T101612Z
LAST-MODIFIED:20250321T101612Z
UID:4957-1746554400-1746558000@www.kloster-heilig-kreuz.de
SUMMARY:Heilige Messe
DESCRIPTION:
URL:https://www.kloster-heilig-kreuz.de/veranstaltungen/heilige-messe-686/
LOCATION:Klosterkirche
END:VEVENT
BEGIN:VEVENT
DTSTART;TZID=Europe/Berlin:20250507T100000
DTEND;TZID=Europe/Berlin:20250507T160000
DTSTAMP:20260421T184750
CREATED:20250321T101811Z
LAST-MODIFIED:20250321T101811Z
UID:4963-1746612000-1746633600@www.kloster-heilig-kreuz.de
SUMMARY:"Oasentag" der Caritas-Akademie Saarland - Thema "Haltung"
DESCRIPTION:
URL:https://www.kloster-heilig-kreuz.de/veranstaltungen/oasentag-der-caritas-akademie-saarland-thema-haltung/
LOCATION:Großer Saal des Geistlichen Zentrums
END:VEVENT
BEGIN:VEVENT
DTSTART;TZID=Europe/Berlin:20250507T180000
DTEND;TZID=Europe/Berlin:20250507T190000
DTSTAMP:20260421T184750
CREATED:20250321T101643Z
LAST-MODIFIED:20250321T101643Z
UID:4959-1746640800-1746644400@www.kloster-heilig-kreuz.de
SUMMARY:Heilige Messe
DESCRIPTION:
URL:https://www.kloster-heilig-kreuz.de/veranstaltungen/heilige-messe-687/
LOCATION:Klosterkirche
END:VEVENT
BEGIN:VEVENT
DTSTART;TZID=Europe/Berlin:20250507T190000
DTEND;TZID=Europe/Berlin:20250507T203000
DTSTAMP:20260421T184750
CREATED:20250321T101724Z
LAST-MODIFIED:20250321T101724Z
UID:4961-1746644400-1746649800@www.kloster-heilig-kreuz.de
SUMMARY:Monatliches Schriftgespräch zum Sonntagsevangelium
DESCRIPTION:
URL:https://www.kloster-heilig-kreuz.de/veranstaltungen/monatliches-schriftgespraech-zum-sonntagsevangelium-5/
LOCATION:Konferenzraum des Geistlichen Zentrums
END:VEVENT
BEGIN:VEVENT
DTSTART;TZID=Europe/Berlin:20250508T180000
DTEND;TZID=Europe/Berlin:20250508T190000
DTSTAMP:20260421T184750
CREATED:20250321T101916Z
LAST-MODIFIED:20250321T101916Z
UID:4967-1746727200-1746730800@www.kloster-heilig-kreuz.de
SUMMARY:Heilige Messe
DESCRIPTION:
URL:https://www.kloster-heilig-kreuz.de/veranstaltungen/heilige-messe-688/
LOCATION:Klosterkirche
END:VEVENT
BEGIN:VEVENT
DTSTART;TZID=Europe/Berlin:20250508T184500
DTEND;TZID=Europe/Berlin:20250508T204500
DTSTAMP:20260421T184750
CREATED:20250321T101957Z
LAST-MODIFIED:20250321T101957Z
UID:4969-1746729900-1746737100@www.kloster-heilig-kreuz.de
SUMMARY:Zeichenwerkstatt
DESCRIPTION:
URL:https://www.kloster-heilig-kreuz.de/veranstaltungen/zeichenwerkstatt-8/
END:VEVENT
BEGIN:VEVENT
DTSTART;TZID=Europe/Berlin:20250509T180000
DTEND;TZID=Europe/Berlin:20250509T190000
DTSTAMP:20260421T184750
CREATED:20250321T102023Z
LAST-MODIFIED:20250321T102023Z
UID:4971-1746813600-1746817200@www.kloster-heilig-kreuz.de
SUMMARY:Heilige Messe
DESCRIPTION:
URL:https://www.kloster-heilig-kreuz.de/veranstaltungen/heilige-messe-689/
LOCATION:Klosterkirche
END:VEVENT
BEGIN:VEVENT
DTSTART;TZID=Europe/Berlin:20250510T100000
DTEND;TZID=Europe/Berlin:20250510T150000
DTSTAMP:20260421T184750
CREATED:20250321T102148Z
LAST-MODIFIED:20250321T102148Z
UID:4975-1746871200-1746889200@www.kloster-heilig-kreuz.de
SUMMARY:Kennenlerntag Bibliolog
DESCRIPTION:
URL:https://www.kloster-heilig-kreuz.de/veranstaltungen/kennenlerntag-bibliolog/
LOCATION:Konferenzraum des Geistlichen Zentrums
END:VEVENT
BEGIN:VEVENT
DTSTART;TZID=Europe/Berlin:20250510T180000
DTEND;TZID=Europe/Berlin:20250510T190000
DTSTAMP:20260421T184750
CREATED:20250321T102108Z
LAST-MODIFIED:20250321T102108Z
UID:4973-1746900000-1746903600@www.kloster-heilig-kreuz.de
SUMMARY:Heilige Messe
DESCRIPTION:
URL:https://www.kloster-heilig-kreuz.de/veranstaltungen/heilige-messe-690/
LOCATION:Klosterkirche
END:VEVENT
BEGIN:VEVENT
DTSTART;TZID=Europe/Berlin:20250511T150000
DTEND;TZID=Europe/Berlin:20250511T180000
DTSTAMP:20260421T184750
CREATED:20250321T102253Z
LAST-MODIFIED:20250321T102344Z
UID:4979-1746975600-1746986400@www.kloster-heilig-kreuz.de
SUMMARY:Treffen der spanischsprachigen Gemeinde
DESCRIPTION:
URL:https://www.kloster-heilig-kreuz.de/veranstaltungen/treffen-der-spanischsprachigen-gemeinde-4/
LOCATION:Großer Saal Geistliches Zentrum und Kirche des Klosters
END:VEVENT
BEGIN:VEVENT
DTSTART;TZID=Europe/Berlin:20250511T180000
DTEND;TZID=Europe/Berlin:20250511T190000
DTSTAMP:20260421T184750
CREATED:20250321T102217Z
LAST-MODIFIED:20250321T102217Z
UID:4977-1746986400-1746990000@www.kloster-heilig-kreuz.de
SUMMARY:Heilige Messe
DESCRIPTION:
URL:https://www.kloster-heilig-kreuz.de/veranstaltungen/heilige-messe-691/
LOCATION:Klosterkirche
END:VEVENT
BEGIN:VEVENT
DTSTART;TZID=Europe/Berlin:20250512T180000
DTEND;TZID=Europe/Berlin:20250512T190000
DTSTAMP:20260421T184750
CREATED:20250321T102413Z
LAST-MODIFIED:20250321T102413Z
UID:4981-1747072800-1747076400@www.kloster-heilig-kreuz.de
SUMMARY:Heilige Messe
DESCRIPTION:
URL:https://www.kloster-heilig-kreuz.de/veranstaltungen/heilige-messe-692/
LOCATION:Klosterkirche
END:VEVENT
BEGIN:VEVENT
DTSTART;TZID=Europe/Berlin:20250513T180000
DTEND;TZID=Europe/Berlin:20250513T190000
DTSTAMP:20260421T184750
CREATED:20250321T102442Z
LAST-MODIFIED:20250321T102442Z
UID:4983-1747159200-1747162800@www.kloster-heilig-kreuz.de
SUMMARY:Heilige Messe
DESCRIPTION:
URL:https://www.kloster-heilig-kreuz.de/veranstaltungen/heilige-messe-693/
LOCATION:Klosterkirche
END:VEVENT
BEGIN:VEVENT
DTSTART;TZID=Europe/Berlin:20250514T180000
DTEND;TZID=Europe/Berlin:20250514T190000
DTSTAMP:20260421T184750
CREATED:20250321T102509Z
LAST-MODIFIED:20250321T102509Z
UID:4985-1747245600-1747249200@www.kloster-heilig-kreuz.de
SUMMARY:Heilige Messe
DESCRIPTION:
URL:https://www.kloster-heilig-kreuz.de/veranstaltungen/heilige-messe-694/
LOCATION:Klosterkirche
END:VEVENT
BEGIN:VEVENT
DTSTART;TZID=Europe/Berlin:20250514T190000
DTEND;TZID=Europe/Berlin:20250514T210000
DTSTAMP:20260421T184750
CREATED:20250321T102636Z
LAST-MODIFIED:20250321T102636Z
UID:4990-1747249200-1747256400@www.kloster-heilig-kreuz.de
SUMMARY:Geistliche Weggemeinschaft
DESCRIPTION:
URL:https://www.kloster-heilig-kreuz.de/veranstaltungen/geistliche-weggemeinschaft-23/
LOCATION:Konferenzraum des Geistlichen Zentrums
END:VEVENT
BEGIN:VEVENT
DTSTART;TZID=Europe/Berlin:20250515T150000
DTEND;TZID=Europe/Berlin:20250515T180000
DTSTAMP:20260421T184750
CREATED:20250325T085449Z
LAST-MODIFIED:20250325T085547Z
UID:4993-1747321200-1747332000@www.kloster-heilig-kreuz.de
SUMMARY:Eucharistische Anbetung
DESCRIPTION:
URL:https://www.kloster-heilig-kreuz.de/veranstaltungen/eucharistische-anbetung-104/
LOCATION:Klosterkirche
END:VEVENT
BEGIN:VEVENT
DTSTART;TZID=Europe/Berlin:20250515T160000
DTEND;TZID=Europe/Berlin:20250515T173000
DTSTAMP:20260421T184750
CREATED:20250325T085742Z
LAST-MODIFIED:20250325T085742Z
UID:4999-1747324800-1747330200@www.kloster-heilig-kreuz.de
SUMMARY:Frühlingsspaziergang ""Mit Franz von Assisi unterwegs" - Die Natur mit den Augen des Heiligen Franz von Assisi
DESCRIPTION:
URL:https://www.kloster-heilig-kreuz.de/veranstaltungen/fruehlingsspaziergang-mit-franz-von-assisi-unterwegs-die-natur-mit-den-augen-des-heiligen-franz-von-assisi/
END:VEVENT
BEGIN:VEVENT
DTSTART;TZID=Europe/Berlin:20250515T180000
DTEND;TZID=Europe/Berlin:20250515T190000
DTSTAMP:20260421T184750
CREATED:20250325T085521Z
LAST-MODIFIED:20250325T085521Z
UID:4995-1747332000-1747335600@www.kloster-heilig-kreuz.de
SUMMARY:Heilige Messe
DESCRIPTION:
URL:https://www.kloster-heilig-kreuz.de/veranstaltungen/heilige-messe-695/
LOCATION:Klosterkirche
END:VEVENT
BEGIN:VEVENT
DTSTART;TZID=Europe/Berlin:20250515T184500
DTEND;TZID=Europe/Berlin:20250515T204500
DTSTAMP:20260421T184750
CREATED:20250325T085627Z
LAST-MODIFIED:20250325T085627Z
UID:4997-1747334700-1747341900@www.kloster-heilig-kreuz.de
SUMMARY:Zeichenwerkstatt
DESCRIPTION:
URL:https://www.kloster-heilig-kreuz.de/veranstaltungen/zeichenwerkstatt-9/
END:VEVENT
BEGIN:VEVENT
DTSTART;TZID=Europe/Berlin:20250516T150000
DTEND;TZID=Europe/Berlin:20250516T180000
DTSTAMP:20260421T184750
CREATED:20250325T085902Z
LAST-MODIFIED:20250325T085902Z
UID:5003-1747407600-1747418400@www.kloster-heilig-kreuz.de
SUMMARY:Treffen der Scala-Gruppe
DESCRIPTION:
URL:https://www.kloster-heilig-kreuz.de/veranstaltungen/treffen-der-scala-gruppe-4/
LOCATION:Konferenzraum des Geistlichen Zentrums
END:VEVENT
BEGIN:VEVENT
DTSTART;TZID=Europe/Berlin:20250516T180000
DTEND;TZID=Europe/Berlin:20250516T190000
DTSTAMP:20260421T184750
CREATED:20250325T085813Z
LAST-MODIFIED:20250325T085813Z
UID:5001-1747418400-1747422000@www.kloster-heilig-kreuz.de
SUMMARY:Heilige Messe
DESCRIPTION:
URL:https://www.kloster-heilig-kreuz.de/veranstaltungen/heilige-messe-696/
LOCATION:Klosterkirche
END:VEVENT
BEGIN:VEVENT
DTSTART;TZID=Europe/Berlin:20250517T093000
DTEND;TZID=Europe/Berlin:20250517T130000
DTSTAMP:20260421T184750
CREATED:20250325T090115Z
LAST-MODIFIED:20250325T090115Z
UID:5007-1747474200-1747486800@www.kloster-heilig-kreuz.de
SUMMARY:"Ein Tag im Blick des Herrn" - Einkehrtag zum Volto Santo
DESCRIPTION:
URL:https://www.kloster-heilig-kreuz.de/veranstaltungen/ein-tag-im-blick-des-herrn-einkehrtag-zum-volto-santo/
LOCATION:Großer Saal des Geistlichen Zentrums
END:VEVENT
BEGIN:VEVENT
DTSTART;TZID=Europe/Berlin:20250517T180000
DTEND;TZID=Europe/Berlin:20250517T190000
DTSTAMP:20260421T184750
CREATED:20250325T085933Z
LAST-MODIFIED:20250325T085933Z
UID:5005-1747504800-1747508400@www.kloster-heilig-kreuz.de
SUMMARY:Heilige Messe
DESCRIPTION:
URL:https://www.kloster-heilig-kreuz.de/veranstaltungen/heilige-messe-697/
LOCATION:Klosterkirche
END:VEVENT
BEGIN:VEVENT
DTSTART;TZID=Europe/Berlin:20250518T080000
DTEND;TZID=Europe/Berlin:20250518T183000
DTSTAMP:20260421T184750
CREATED:20250325T090321Z
LAST-MODIFIED:20250325T090321Z
UID:5011-1747555200-1747593000@www.kloster-heilig-kreuz.de
SUMMARY:Fortbildung des Behinderten- und Rehasportverbandes Saarland
DESCRIPTION:
URL:https://www.kloster-heilig-kreuz.de/veranstaltungen/fortbildung-des-behinderten-und-rehasportverbandes-saarland-12/
LOCATION:Großer Saal des Geistlichen Zentrums
END:VEVENT
END:VCALENDAR